{"text_format":"1","workbook":"xlsx","n_sheets":3,"sheets":["Deckblatt","Erhebungsbogen","Förderantrag"],"not_rendered":{"charts":0,"images":4,"macros":1,"external_links":0,"defined_names":1,"comments":0,"pivot_tables":0},"unopened":[],"bounds":{"document_bytes":16777216,"sheet_cells":100000,"rows_first":2000,"rows_last":500,"rows_between":2000,"halvings":0,"cell_chars":16384,"cell_head_chars":4096},"cells_cut":0,"cells_raw":0,"read":"whole","date_system":"1900"}

{"sheet":"Deckblatt","index":0,"n_rows":201,"n_cols":2,"rows_kept":201,"cut":false,"hidden":false,"merged":[[0,0,0,1],[2,0,2,1],[3,0,3,1]]}
["Bayerische Trachtenjugend e. V."]
[]
["Kinder und Jugenderfassung"]
[{"$f":"(YEAR(TODAY()))","v":2021}]
["(Vereinsname eintragen)","(Vereinsort eintragen)"]
["Regierungsbezirk","Oberbayern"]
[]
[null,"Kinder- und Jugenderfassung Version 1.19"]
[]
[]
[]
[]
[]
[]
[]
[]
[]
[]
[]
[]
[]
[]
[]
[]
[]
[]
[]
[]
[]
[]
[]
[]
[]
[]
[]
[]
[]
[]
[]
[]
[]
[]
[]
[]
[]
[]
[]
[]
[]
[]
[]
[]
[]
[]
[]
[]
[]
[]
[]
[]
[]
[]
[]
[]
[]
[]
[]
[]
[]
[]
[]
[]
[]
[]
[]
[]
[]
[]
[]
[]
[]
[]
[]
[]
[]
[]
[]
[]
[]
[]
[]
[]
[]
[]
[]
[]
[]
[]
[]
[]
[]
[]
[]
[]
[]
[]
[]
[]
[]
[]
[]
[]
[]
[]
[]
[]
[]
[]
[]
[]
[]
[]
[]
[]
[]
[]
[]
[]
[]
[]
[]
[]
[]
[]
[]
[]
[]
[]
[]
[]
[]
[]
[]
[]
[]
[]
[]
[]
[]
[]
[]
[]
[]
[]
[]
[]
[]
[]
[]
[]
[]
[]
[]
[]
[]
[]
[]
[]
[]
[]
[]
[]
[]
[]
[]
[]
[]
[]
[]
[]
[]
[]
[]
[]
[]
[]
[]
[]
[]
[]
[]
[]
[]
[]
["Oberbayern"]
["Niederbayern"]
["Oberpfalz"]
["Oberfranken"]
["Mittelfranken"]
["Unterfranken"]
["Schwaben"]

{"sheet":"Erhebungsbogen","index":1,"n_rows":38,"n_cols":14,"rows_kept":38,"cut":false,"hidden":false,"merged":[[24,0,24,1],[20,2,20,3],[20,4,20,5],[10,0,11,1],[12,8,12,9],[11,4,11,5],[12,4,12,5],[11,8,11,9],[13,8,13,9],[19,4,19,5],[18,4,18,5],[17,4,17,5],[23,8,23,9],[22,8,22,9],[19,2,19,3],[18,2,18,3],[17,2,17,3],[18,6,18,7],[17,6,17,7],[23,2,23,3],[22,2,22,3],[21,2,21,3],[22,12,22,13],[35,1,35,9],[35,10,35,11],[35,12,35,13],[20,12,20,13],[21,12,21,13],[33,1,33,9],[33,10,33,11],[33,12,33,13],[31,1,31,9],[31,10,31,11],[27,10,27,11],[27,1,27,9],[25,10,25,11],[31,12,31,13],[27,12,27,13],[25,0,25,1],[25,12,25,13],[25,2,25,5],[25,6,25,9],[24,4,24,5],[23,4,23,5],[22,4,22,5],[24,8,24,9],[12,12,12,13],[13,12,13,13],[8,2,8,4],[8,5,8,6],[8,7,8,8],[8,9,8,10],[8,11,8,12],[6,2,6,4],[6,5,6,6],[6,7,6,8],[6,9,6,10],[17,12,17,13],[10,10,10,11],[23,12,23,13],[24,12,24,13],[0,0,0,8],[0,9,0,13],[2,8,2,10],[3,11,3,12],[4,11,4,12],[6,11,6,12],[3,7,3,8],[3,9,3,10],[4,7,4,8],[4,9,4,10],[1,0,1,1],[4,0,4,1],[16,2,16,3],[15,2,15,3],[24,2,24,3],[16,6,16,7],[15,6,15,7],[14,6,14,7],[6,0,6,1],[8,0,8,1],[1,13,3,13],[15,12,15,13],[16,12,16,13],[3,2,3,4],[3,5,3,6],[4,2,4,4],[4,5,4,6],[2,2,2,6],[10,2,10,5],[10,6,10,9],[11,2,11,3],[14,2,14,3],[13,2,13,3],[12,2,12,3],[13,6,13,7],[12,6,12,7],[11,6,11,7],[16,4,16,5],[15,4,15,5],[14,4,14,5],[13,4,13,5],[1,8,1,11],[1,2,1,7],[10,12,11,13],[37,12,37,13],[37,10,37,11],[37,1,37,9],[29,1,29,9],[29,10,29,11],[29,12,29,13],[16,8,16,9],[15,8,15,9],[14,8,14,9],[21,8,21,9],[20,8,20,9],[19,8,19,9],[18,8,18,9],[17,8,17,9],[24,6,24,7],[23,6,23,7],[22,6,22,7],[21,6,21,7],[20,6,20,7],[19,6,19,7],[19,12,19,13],[14,12,14,13],[18,12,18,13],[21,4,21,5]]}
["Jugenderhebungsbogen Erhebungsjahr",null,null,null,null,null,null,null,null,{"$f":"Deckblatt!A4","v":2021}]
["Verein:",null,{"$f":"Deckblatt!A5","v":"(Vereinsname eintragen)"},null,null,null,null,null,{"$f":"Deckblatt!B5","v":"(Vereinsort eintragen)"},null,null,null,null,"Jugendleiter seit:"]
[null,null,"Regierungsbezirk:",null,null,null,null,{"$f":"IF(I3=\"Oberbayern\",\"1\",IF(I3=\"Niederbayern\",\"2\",IF(I3=\"Oberfranken\",\"4\",IF(I3=\"Mittelfranken\",\"5\",IF(I3=\"Unterfranken\",\"6\",IF(I3=\"Oberpfalz\",\"3\",IF(I3=\"Schwaben\",\"7\",\"\")))))))","v":"1"},{"$f":"Deckblatt!B6","v":"Oberbayern"}]
[null,null,"Name, Vorname",null,null,"Straße, Nr.",null,"PLZ,Ort",null,"Telefon",null,"Email"]
["Jugendleiter:"]
[]
["Stellvertreter:"]
[]
["Stellvertreter:"]
[]
["Gruppen/ Sachgebiete",null,"0 bis 15 Jahre",null,null,null,"16 bis 26 Jahre",null,null,null,"Summe in der Gruppe",null,"Gruppe Gesamt"]
[null,null,"Deandl",null,"Buam",null,"Deandl",null,"Buam",null,"Deandl","Buam"]
[1,"Jugendliche bis 26 Jahre",0,null,0,null,0,null,0,null,{"$f":"C13+G13","v":0},{"$f":"E13+I13","v":0},{"$f":"K13+L13","v":0}]
[{"$f":"A13+1","v":2},"Schuhplattler/Dreherinnen",0,null,0,null,0,null,0,null,{"$f":"C14+G14","v":0},{"$f":"E14+I14","v":0},{"$f":"K14+L14","v":0}]
[{"$f":"A14+1","v":3},"Tänzer/-innen",0,null,0,null,0,null,0,null,0,0,0]
[4,"Sänger/Sängerinnen",0,null,0,null,0,null,0,null,0,0,0]
[5,"Volksmusikanten/-innen",0,null,0,null,0,null,0,null,0,0,0]
[6,"Brauchtum/Böllerschützen",0,null,0,null,0,null,0,null,0,{"$f":"E18+I18","v":0},0]
[7,"Schnalzer",0,null,0,null,0,null,0,null,0,0,0]
[8,"Vereinsmusiker/-innen",0,null,0,null,0,null,0,null,0,0,0]
[9,"Theaterspieler/-innen",0,null,0,null,0,null,0,null,0,0,0]
[10,"Musikkapelle",0,null,0,null,0,null,0,null,0,0,0]
[11,"Handwerk und Basteln",0,null,0,null,0,null,0,null,0,0,{"$f":"K23+L23","v":0}]
[12,"Sonstige",0,null,0,null,0,null,0,null,0,0,0]
["Summe im Altersbereich",null,{"$f":"SUM(C13:D24)","v":0},null,{"$f":"SUM(E13:F24)","v":0},null,{"$f":"SUM(G13:H24)","v":0},null,{"$f":"SUM(I13:J24)","v":0},null,{"$f":"SUM(K13:K24)","v":0},{"$f":"SUM(L13:L24)","v":0}]
["Altersbereich gesamt",null,{"$f":"C25+E25","v":0},null,null,null,{"$f":"G25+I25","v":0},null,null,null,"Gruppenstärke Gesamt",null,{"$f":"SUM(M13:M25)","v":0}]
[]
[13,"(im Moment/vorübergehend) Passive Kinder und Jugendliche bis 26 Jahre",null,null,null,null,null,null,null,null,"Gesamt",null,0]
[]
[14,"Gruppenstärke Gesamt ",null,null,null,null,null,null,null,null,"Gesamt",null,{"$f":"M26+M28","v":0}]
[]
[15,"Anzahl der Verantwortlichen / Mitarbeiter / Helfer in der Jugendarbeit",null,null,null,null,null,null,null,null,"Gesamt",null,0]
[]
[16,"davon mit abgeschlossener Jugendleiter-Grundschulung und (ab 2018) gültiger JULEICA",null,null,null,null,null,null,null,null,"Gesamt",null,0]
[]
[17,"maximal förderfähige qualifizierte Jugendleiter",null,null,null,null,null,null,null,null,"Gesamt",null,{"$f":"IF((M13)>100,\"10\",ROUNDUP((M13)/10,0))*1","v":0}]
[]
[18,"im Erhebungsjahr förderfähige Jugendleiter",null,null,null,null,null,null,null,null,"Gesamt",null,{"$f":"IF(M34<M36,M34,M36)","v":0}]

{"sheet":"Förderantrag","index":2,"n_rows":55,"n_cols":7,"rows_kept":55,"cut":false,"hidden":false,"merged":[[1,6,1,7],[49,2,49,3],[49,4,49,7],[24,1,26,1],[24,0,26,0],[20,2,21,5],[20,1,21,1],[20,0,21,0],[18,0,18,1],[3,0,3,8],[17,0,17,1],[16,0,16,1],[15,0,15,1],[8,0,8,4],[5,0,6,8],[20,6,21,7],[17,2,17,8],[18,2,18,8],[54,0,56,8],[40,0,42,1],[24,2,26,5],[24,6,26,7],[52,4,52,7],[51,2,51,3],[51,4,51,7],[50,4,50,7],[46,3,46,8],[44,3,45,8],[42,3,42,8],[40,3,40,8],[29,0,34,8],[35,0,38,8],[9,0,9,8],[8,5,8,8],[15,6,15,8],[15,2,15,5],[16,2,16,8]]}
[]
[null,null,null,null,null,"Bearbeitungsnr. des Verbands:"]
[]
["Bayerischer Trachtenverband e. V."]
[]
["Förderung der Jugendarbeit im Bayer. Trachtenverband e.V. aus Haushaltsmitteln zur Förderung des Trachtenwesens des Freistaats Bayern"]
[]
[]
["Förderungsantrag",null,null,null,null,{"$f":"Deckblatt!A4","v":2021}]
["(Vordruck Vereine)"]
[]
[]
[]
[]
[]
["Antragstellender Verein:",null,{"$f":"Deckblatt!A5","v":"(Vereinsname eintragen)"},null,null,null,{"$f":"Deckblatt!B5","v":"(Vereinsort eintragen)"}]
["Anschrift:"]
["Vertretungsberechtigter Vorsitzender:"]
["Übergeordneter Gau-/Trachtenverband:"]
[]
["1.","Pro-Kopf-Förderung","Anzahl gemeldete Jugendliche bis zum vollendeten 27. Lebensjahr:",null,null,null,{"$f":"Erhebungsbogen!M13","v":0}]
[]
[]
[]
["2.","Ausbildungs- und Qualifikations-förderung","Anzahl der Jugendleiter/Innen und Mitarbeiter/Innen in der Vereinsjugendarbeit, mit abgeschlossener Jugendleiter-Grundschulung und gültiger Jugendleiterkarte",null,null,null,{"$f":"Erhebungsbogen!M38","v":0}]
[]
[]
[]
[]
["Die Zuwendung wird ausschließlich zur Erfüllung des Zuwendungszwecks laut den Richtlinien zur Förderung der Jugendarbeit im Bayer. Trachtenverband e.V. verwendet. Alle in Richtlinien und Verfahrens- und Verwaltungsvorschriften enthaltenen Bestimmungen und genannten Bedingungen und Auflagen sind bekannt und werden eingehalten. Dem Unterzeichner ist bekannt, dass die Zuwendung im Falle ihrer zweckwidrigen Verwendung der Rückforderung und Verzinsung unterliegt."]
[]
[]
[]
[]
[]
["Der Bayerische Oberste Rechnungshof, das Bayerische Staatsministerium für Wissenschaft, Forschung und Kunst und der Bayerische Trachtenverband sind berechtigt, die Verwendung des Zuschusses an Ort und Stelle nachzuprüfen. Alle Unterlagen und Belege sind aus diesem Grund für mindestens 5 Jahre aufzubewahren!"]
[]
[]
[]
[]
["Die Überweisung des Zuschusses soll erfolgen auf:",null,"IBAN:"]
[]
[null,null,"BIC:"]
[]
[null,null,"Geldinstitut:"]
[]
[null,null,"Kontoinhaber:"]
[]
[]
["Datum:",{"$f":"TODAY()","v":"2021-09-28"},"Vorsitzender:"]
[null,null,null,null,"(Unterschrift/Stempel)"]
[null,null,"Jugendvertreter:"]
[null,null,null,null,"(Unterschrift/Stempel)"]
[]
["Dieser Antrag ist vollständig ausgefüllt und unterzeichnet durch den Vertretungsberechtigten Vorsitzenden und den Jugendvertreter des antragstellenden Mitgliedsvereins beim übergeordneten Gau-/Trachtenverband einzureichen."]