{"text_format":"1","workbook":"xlsx","n_sheets":8,"sheets":["Deckblatt","Anleitung","Deandl","Buam","Jugendleiter","Erhebungsbogen","Förderantrag","Zusätzliche Auswertungen"],"not_rendered":{"charts":0,"images":12,"macros":1,"external_links":0,"defined_names":1,"comments":0,"pivot_tables":0},"unopened":[],"bounds":{"document_bytes":16777216,"sheet_cells":100000,"rows_first":2000,"rows_last":500,"rows_between":2000,"halvings":0,"cell_chars":16384,"cell_head_chars":4096},"cells_cut":0,"cells_raw":0,"read":"whole","date_system":"1900"}

{"sheet":"Deckblatt","index":0,"n_rows":201,"n_cols":2,"rows_kept":201,"cut":false,"hidden":false,"merged":[[0,0,0,1],[2,0,2,1],[3,0,3,1]]}
["Bayerische Trachtenjugend e. V."]
[]
["Kinder und Jugenderfassung"]
[{"$f":"(YEAR(TODAY()))","v":2019}]
["(Vereinsname eintragen)","(Vereinsort eintragen)"]
["Regierungsbezirk","Oberbayern"]
[]
[null,"Kinder- und Jugenderfassung Version 1.19"]
[]
[]
[]
[]
[]
[]
[]
[]
[]
[]
[]
[]
[]
[]
[]
[]
[]
[]
[]
[]
[]
[]
[]
[]
[]
[]
[]
[]
[]
[]
[]
[]
[]
[]
[]
[]
[]
[]
[]
[]
[]
[]
[]
[]
[]
[]
[]
[]
[]
[]
[]
[]
[]
[]
[]
[]
[]
[]
[]
[]
[]
[]
[]
[]
[]
[]
[]
[]
[]
[]
[]
[]
[]
[]
[]
[]
[]
[]
[]
[]
[]
[]
[]
[]
[]
[]
[]
[]
[]
[]
[]
[]
[]
[]
[]
[]
[]
[]
[]
[]
[]
[]
[]
[]
[]
[]
[]
[]
[]
[]
[]
[]
[]
[]
[]
[]
[]
[]
[]
[]
[]
[]
[]
[]
[]
[]
[]
[]
[]
[]
[]
[]
[]
[]
[]
[]
[]
[]
[]
[]
[]
[]
[]
[]
[]
[]
[]
[]
[]
[]
[]
[]
[]
[]
[]
[]
[]
[]
[]
[]
[]
[]
[]
[]
[]
[]
[]
[]
[]
[]
[]
[]
[]
[]
[]
[]
[]
[]
[]
[]
[]
[]
[]
[]
[]
[]
["Oberbayern"]
["Niederbayern"]
["Oberpfalz"]
["Oberfranken"]
["Mittelfranken"]
["Unterfranken"]
["Schwaben"]

{"sheet":"Anleitung","index":1,"n_rows":228,"n_cols":3,"rows_kept":228,"cut":false,"hidden":false,"merged":[[220,0,220,6],[224,0,224,1],[142,0,143,6],[171,0,173,6],[183,0,185,6],[182,0,182,6],[218,0,218,6],[80,0,81,6],[74,0,74,6],[76,0,76,6],[85,0,86,6],[14,0,14,6],[23,0,24,6],[26,0,27,6],[29,0,29,6],[49,0,50,6]]}
["Anleitung zur Kinder- und Jugenderfassung"]
["Die Bayerische Trachtenjugend ist ein Träger der freien Jugendarbeit in Bayern. Sie gehört dem"]
["Bayerischen Jugendring als \"Großverband\" an und bekommt durch den BJR Zuschußmittel."]
["Zum einen werden Zuschüsse für Verwaltungstätigkeiten ausbezahlt, die"]
["sogenannte Basisförderung, zum anderen werden Jugend‐ und Erwachsenenbildungen gefördert."]
["Um Euch in Eurer Arbeit auch weiterhin in gewohnter Weise unterstützen zu können müssen wir"]
["jährlich nachweisen, dass wir den Status eines Dachverbandes besitzen. Diesen Nachweis können wir"]
["nur erbringen, in dem wir nachweisen, dass wir mehr als 100.000 Kinder und Jugendliche in unseren"]
["Reihen betreuen. Daher ist es erforderlich, dass Ihr Eure Kinder und Jugendlichen bei uns meldet,"]
["um keine Einbußen in der Jugendarbeit hinnehmen zu müssen."]
["Dass wir die Jugendlichen mittels Mehrfachzählung erfassen dürfen ist mit dem BJR so abgestimmt"]
["und zulässig."]
[]
[]
["Die Jahreszahl wird automatisch für das ensprechende Jahr eingetragen.              Über die Schaltflächen gelangt man zu den entsprechenden Arbeitsmappen"]
[]
[]
[]
["2. Deandl bzw. Buam"]
[]
["2.1 Übersicht"]
["Die meisten Schaltflächen sind selbsterklärend."]
[]
["Bei drücken von \"Neis Deandl/Bua\" öffnet sich eine Maske zum Eintragen eines neuen Deandls/eines neuen Buam"]
[]
[]
["Drückt man auf \"Deandl/Bua ändern wird der Eintrag des Deandls/Buam geöffnet in dem der Cursor steht"]
[]
[]
["Bei Deandl/Bua löschen wird der Eintrag gelöscht in dem der Cursor steht"]
[]
[]
[]
["Speichern, Druckvorschau und Drucken dürften selbsterklärend sein."]
[]
[]
[]
[]
[]
[]
[]
["Die Bezeichnungen der Spalten Nr. bis Eintrittsjahr sind schreibgeschützt!"]
["Die Spalten Sonstiges 1 - Sonstiges 5 können je nach Bedarf umbenannt werden."]
[]
[]
[]
[]
["2.2. Erfassungsmaske"]
[]
["Hier werden die Daten der Kinder und Jugendlichen eingetragen und im unteren Bereich enstprechend angekreuzt"]
[]
[]
[]
[]
[]
[]
[]
[]
[]
[]
[]
[]
[]
[]
[]
[]
[]
[]
[]
[]
[]
[]
[]
[]
["Hier können weitere (freiwillige) Informationen vermerkt werden."]
["z.B. Eintrittsjahr, Tracht vom Verein (Ja/Nein/Größe), Schuhgröße,…"]
[]
[]
["2.3 Änderungsmaske"]
[]
["Die Änderungsmaske ist die selbe Maske wie die der Erfassung nur mit den bereits erfassten Daten des jeweiligen Kindes / Jugendlichen."]
[]
[]
["2.4 Deandl/Bua löschen"]
[]
["Deandl/Bua wird hiermit gelöscht (es gibt kein zurück) jedoch eine vorherige Sicherheitsabfrage."]
[]
[]
[]
[]
[]
[]
[]
[]
["3. Jugendleiter"]
[]
["3.1 Übersicht"]
[]
["Schaltflächen sind grundsätzlich die gleichen wie bei der Erfassung der Deandl bzw. Buam."]
[]
[]
[]
[]
[]
[]
["3.2 Erfassungsmaske"]
[]
["Hier werden die Daten der Jugendleiter erfasst. Neben den Angaben wie Name und Adressdaten werden hier auch die Aus- und Weiterbildungen sowie die JULEICA-Nummer erfasst."]
["Jugendleiter ohne JULEICA-Nummer werden nicht in den Erhebungsbogen bzw. Förderantrag übernommen!"]
["Unter Sonstiges können noch zusätzliche Angaben gemacht werden."]
[]
[]
[]
[]
[]
[]
[]
[]
[]
[]
[]
[]
[]
[]
[]
[]
[]
[]
[]
[]
[]
[]
[]
[]
[]
[]
[]
[]
[]
[]
["4. Mehrfachzählung / Jugenderhebungsbogen"]
[]
["Die in den Arbeitsmappen erfassten Daten der Kinder/Jugendlichen werden in diese Maske eingefügt"]
[]
[]
["Der Vereinsname, Sitz des Vereins sowie der Regierungsbezirk wird aus dem Deckblatt übernommen."]
[]
["Die Jugendleiter müssen selbst eingetragen werden."]
[]
[]
[]
[]
[]
[]
[]
[]
[]
[]
[]
[]
[]
[]
[]
[]
[]
[]
[]
[]
[]
[]
[]
["In dieser Maske muss noch die Anzahl der Mitarbeiter in der Jugendarbeit (z.B. Eltern, Vorplattler,…) einzutragen. Alle anderen Daten werden vom Programm selbstständig eingetragen."]
[]
[]
["Hier werden die qualifizierten Jugendleiter (ab 2018 nur mit JULEICA) aus der Jugendleitererfassung übernommen."]
[]
["Die maximal förderfähigen Jugendleiter werden  anhand der Richtlinien (je angefangene 10 Jugendliche ein förderfähiger Jugendleiter) berechnet"]
[]
["Mit dieser Schaltfläche wird der Erhebungsbogen extra gespeichert um diesen "]
["dann per Email an dem Gaujugendleiter zu schicken zu können."]
[]
["5. Förderantrag"]
["Der Vereinsname wird aus dem Deckblatt übernommen. Der Rest muss selbst eingetragen werden."]
["In den Förderantrag werden die Daten aus dem Erhebungsbogen für die Pro-Kopf und die Jugendleiterförderung übernommen. "]
[]
[]
[]
[]
[]
[]
[]
[]
[]
[]
[]
[]
[]
[]
[]
[]
[]
[]
[]
[]
[]
[]
[]
[]
[]
[]
[]
[]
[]
[]
[]
[]
[]
[]
[]
[]
[" Bankverbindung eintragen ausdrucken unterschreiben und FERTIG!"]
[]
[]
[]
["Bei Fragen:",null,"Huber Andal"]
[null,null,"Rieden 4, 82387 Antdorf"]
[null,null,"huaba-andal@web.de"]
[null,null,"0176/21673206"]

{"sheet":"Deandl","index":2,"n_rows":992,"n_cols":31,"rows_kept":992,"cut":false,"hidden":false,"merged":[[0,22,0,23],[0,24,0,25],[0,26,0,27]]}
["Nr.","Name","Vorname","Geburtstag",{"$f":"TODAY()","v":"2019-02-28"},"Telefon","Straße","PLZ","Ort","JG","PG","VT","SG","VM","BS","SG","MU","TH","MK","BA","PA","Eintrittsjahr",null,null,null,null,null,null,"(Bezeichnung eintragen)","(Bezeichnung eintragen)","(Bezeichnung eintragen)"]
[null,null,null,null,{"$f":"IF(D2=\"\",\"\",DATEDIF(D2,$E$1,\"Y\"))","v":""}]
[null,null,null,null,{"$f":"IF(D3=\"\",\"\",DATEDIF(D3,$E$1,\"Y\"))","v":""}]
[null,null,null,null,{"$f":"IF(D4=\"\",\"\",DATEDIF(D4,$E$1,\"Y\"))","v":""}]
[null,null,null,null,{"$f":"IF(D5=\"\",\"\",DATEDIF(D5,$E$1,\"Y\"))","v":""}]
[null,null,null,null,{"$f":"IF(D6=\"\",\"\",DATEDIF(D6,$E$1,\"Y\"))","v":""}]
[null,null,null,null,{"$f":"IF(D7=\"\",\"\",DATEDIF(D7,$E$1,\"Y\"))","v":""}]
[null,null,null,null,{"$f":"IF(D8=\"\",\"\",DATEDIF(D8,$E$1,\"Y\"))","v":""}]
[null,null,null,null,{"$f":"IF(D9=\"\",\"\",DATEDIF(D9,$E$1,\"Y\"))","v":""}]
[null,null,null,null,{"$f":"IF(D10=\"\",\"\",DATEDIF(D10,$E$1,\"Y\"))","v":""}]
[null,null,null,null,{"$f":"IF(D11=\"\",\"\",DATEDIF(D11,$E$1,\"Y\"))","v":""}]
[null,null,null,null,{"$f":"IF(D12=\"\",\"\",DATEDIF(D12,$E$1,\"Y\"))","v":""}]
[null,null,null,null,{"$f":"IF(D13=\"\",\"\",DATEDIF(D13,$E$1,\"Y\"))","v":""}]
[null,null,null,null,{"$f":"IF(D14=\"\",\"\",DATEDIF(D14,$E$1,\"Y\"))","v":""}]
[null,null,null,null,{"$f":"IF(D15=\"\",\"\",DATEDIF(D15,$E$1,\"Y\"))","v":""}]
[null,null,null,null,{"$f":"IF(D16=\"\",\"\",DATEDIF(D16,$E$1,\"Y\"))","v":""}]
[null,null,null,null,{"$f":"IF(D17=\"\",\"\",DATEDIF(D17,$E$1,\"Y\"))","v":""}]
[null,null,null,null,{"$f":"IF(D18=\"\",\"\",DATEDIF(D18,$E$1,\"Y\"))","v":""}]
[null,null,null,null,{"$f":"IF(D19=\"\",\"\",DATEDIF(D19,$E$1,\"Y\"))","v":""}]
[null,null,null,null,{"$f":"IF(D20=\"\",\"\",DATEDIF(D20,$E$1,\"Y\"))","v":""}]
[null,null,null,null,{"$f":"IF(D21=\"\",\"\",DATEDIF(D21,$E$1,\"Y\"))","v":""}]
[null,null,null,null,{"$f":"IF(D22=\"\",\"\",DATEDIF(D22,$E$1,\"Y\"))","v":""}]
[null,null,null,null,{"$f":"IF(D23=\"\",\"\",DATEDIF(D23,$E$1,\"Y\"))","v":""}]
[null,null,null,null,{"$f":"IF(D24=\"\",\"\",DATEDIF(D24,$E$1,\"Y\"))","v":""}]
[null,null,null,null,{"$f":"IF(D25=\"\",\"\",DATEDIF(D25,$E$1,\"Y\"))","v":""}]
[null,null,null,null,{"$f":"IF(D26=\"\",\"\",DATEDIF(D26,$E$1,\"Y\"))","v":""}]
[null,null,null,null,{"$f":"IF(D27=\"\",\"\",DATEDIF(D27,$E$1,\"Y\"))","v":""}]
[null,null,null,null,{"$f":"IF(D28=\"\",\"\",DATEDIF(D28,$E$1,\"Y\"))","v":""}]
[null,null,null,null,{"$f":"IF(D29=\"\",\"\",DATEDIF(D29,$E$1,\"Y\"))","v":""}]
[null,null,null,null,{"$f":"IF(D30=\"\",\"\",DATEDIF(D30,$E$1,\"Y\"))","v":""}]
[null,null,null,null,{"$f":"IF(D31=\"\",\"\",DATEDIF(D31,$E$1,\"Y\"))","v":""}]
[null,null,null,null,{"$f":"IF(D32=\"\",\"\",DATEDIF(D32,$E$1,\"Y\"))","v":""}]
[null,null,null,null,{"$f":"IF(D33=\"\",\"\",DATEDIF(D33,$E$1,\"Y\"))","v":""}]
[null,null,null,null,{"$f":"IF(D34=\"\",\"\",DATEDIF(D34,$E$1,\"Y\"))","v":""}]
[null,null,null,null,{"$f":"IF(D35=\"\",\"\",DATEDIF(D35,$E$1,\"Y\"))","v":""}]
[null,null,null,null,{"$f":"IF(D36=\"\",\"\",DATEDIF(D36,$E$1,\"Y\"))","v":""}]
[null,null,null,null,{"$f":"IF(D37=\"\",\"\",DATEDIF(D37,$E$1,\"Y\"))","v":""}]
[null,null,null,null,{"$f":"IF(D38=\"\",\"\",DATEDIF(D38,$E$1,\"Y\"))","v":""}]
[null,null,null,null,{"$f":"IF(D39=\"\",\"\",DATEDIF(D39,$E$1,\"Y\"))","v":""}]
[null,null,null,null,{"$f":"IF(D40=\"\",\"\",DATEDIF(D40,$E$1,\"Y\"))","v":""}]
[null,null,null,null,{"$f":"IF(D41=\"\",\"\",DATEDIF(D41,$E$1,\"Y\"))","v":""}]
[null,null,null,null,{"$f":"IF(D42=\"\",\"\",DATEDIF(D42,$E$1,\"Y\"))","v":""}]
[null,null,null,null,{"$f":"IF(D43=\"\",\"\",DATEDIF(D43,$E$1,\"Y\"))","v":""}]
[null,null,null,null,{"$f":"IF(D44=\"\",\"\",DATEDIF(D44,$E$1,\"Y\"))","v":""}]
[null,null,null,null,{"$f":"IF(D45=\"\",\"\",DATEDIF(D45,$E$1,\"Y\"))","v":""}]
[null,null,null,null,{"$f":"IF(D46=\"\",\"\",DATEDIF(D46,$E$1,\"Y\"))","v":""}]
[null,null,null,null,{"$f":"IF(D47=\"\",\"\",DATEDIF(D47,$E$1,\"Y\"))","v":""}]
[null,null,null,null,{"$f":"IF(D48=\"\",\"\",DATEDIF(D48,$E$1,\"Y\"))","v":""}]
[null,null,null,null,{"$f":"IF(D49=\"\",\"\",DATEDIF(D49,$E$1,\"Y\"))","v":""}]
[null,null,null,null,{"$f":"IF(D50=\"\",\"\",DATEDIF(D50,$E$1,\"Y\"))","v":""}]
[null,null,null,null,{"$f":"IF(D51=\"\",\"\",DATEDIF(D51,$E$1,\"Y\"))","v":""}]
[null,null,null,null,{"$f":"IF(D52=\"\",\"\",DATEDIF(D52,$E$1,\"Y\"))","v":""}]
[null,null,null,null,{"$f":"IF(D53=\"\",\"\",DATEDIF(D53,$E$1,\"Y\"))","v":""}]
[null,null,null,null,{"$f":"IF(D54=\"\",\"\",DATEDIF(D54,$E$1,\"Y\"))","v":""}]
[null,null,null,null,{"$f":"IF(D55=\"\",\"\",DATEDIF(D55,$E$1,\"Y\"))","v":""}]
[null,null,null,null,{"$f":"IF(D56=\"\",\"\",DATEDIF(D56,$E$1,\"Y\"))","v":""}]
[null,null,null,null,{"$f":"IF(D57=\"\",\"\",DATEDIF(D57,$E$1,\"Y\"))","v":""}]
[null,null,null,null,{"$f":"IF(D58=\"\",\"\",DATEDIF(D58,$E$1,\"Y\"))","v":""}]
[null,null,null,null,{"$f":"IF(D59=\"\",\"\",DATEDIF(D59,$E$1,\"Y\"))","v":""}]
[null,null,null,null,{"$f":"IF(D60=\"\",\"\",DATEDIF(D60,$E$1,\"Y\"))","v":""}]
[null,null,null,null,{"$f":"IF(D61=\"\",\"\",DATEDIF(D61,$E$1,\"Y\"))","v":""}]
[null,null,null,null,{"$f":"IF(D62=\"\",\"\",DATEDIF(D62,$E$1,\"Y\"))","v":""}]
[null,null,null,null,{"$f":"IF(D63=\"\",\"\",DATEDIF(D63,$E$1,\"Y\"))","v":""}]
[null,null,null,null,{"$f":"IF(D64=\"\",\"\",DATEDIF(D64,$E$1,\"Y\"))","v":""}]
[null,null,null,null,{"$f":"IF(D65=\"\",\"\",DATEDIF(D65,$E$1,\"Y\"))","v":""}]
[null,null,null,null,{"$f":"IF(D66=\"\",\"\",DATEDIF(D66,$E$1,\"Y\"))","v":""}]
[null,null,null,null,{"$f":"IF(D67=\"\",\"\",DATEDIF(D67,$E$1,\"Y\"))","v":""}]
[null,null,null,null,{"$f":"IF(D68=\"\",\"\",DATEDIF(D68,$E$1,\"Y\"))","v":""}]
[null,null,null,null,{"$f":"IF(D69=\"\",\"\",DATEDIF(D69,$E$1,\"Y\"))","v":""}]
[null,null,null,null,{"$f":"IF(D70=\"\",\"\",DATEDIF(D70,$E$1,\"Y\"))","v":""}]
[null,null,null,null,{"$f":"IF(D71=\"\",\"\",DATEDIF(D71,$E$1,\"Y\"))","v":""}]
[null,null,null,null,{"$f":"IF(D72=\"\",\"\",DATEDIF(D72,$E$1,\"Y\"))","v":""}]
[null,null,null,null,{"$f":"IF(D73=\"\",\"\",DATEDIF(D73,$E$1,\"Y\"))","v":""}]
[null,null,null,null,{"$f":"IF(D74=\"\",\"\",DATEDIF(D74,$E$1,\"Y\"))","v":""}]
[null,null,null,null,{"$f":"IF(D75=\"\",\"\",DATEDIF(D75,$E$1,\"Y\"))","v":""}]
[null,null,null,null,{"$f":"IF(D76=\"\",\"\",DATEDIF(D76,$E$1,\"Y\"))","v":""}]
[null,null,null,null,{"$f":"IF(D77=\"\",\"\",DATEDIF(D77,$E$1,\"Y\"))","v":""}]
[null,null,null,null,{"$f":"IF(D78=\"\",\"\",DATEDIF(D78,$E$1,\"Y\"))","v":""}]
[null,null,null,null,{"$f":"IF(D79=\"\",\"\",DATEDIF(D79,$E$1,\"Y\"))","v":""}]
[null,null,null,null,{"$f":"IF(D80=\"\",\"\",DATEDIF(D80,$E$1,\"Y\"))","v":""}]
[null,null,null,null,{"$f":"IF(D81=\"\",\"\",DATEDIF(D81,$E$1,\"Y\"))","v":""}]
[null,null,null,null,{"$f":"IF(D82=\"\",\"\",DATEDIF(D82,$E$1,\"Y\"))","v":""}]
[null,null,null,null,{"$f":"IF(D83=\"\",\"\",DATEDIF(D83,$E$1,\"Y\"))","v":""}]
[null,null,null,null,{"$f":"IF(D84=\"\",\"\",DATEDIF(D84,$E$1,\"Y\"))","v":""}]
[null,null,null,null,{"$f":"IF(D85=\"\",\"\",DATEDIF(D85,$E$1,\"Y\"))","v":""}]
[null,null,null,null,{"$f":"IF(D86=\"\",\"\",DATEDIF(D86,$E$1,\"Y\"))","v":""}]
[null,null,null,null,{"$f":"IF(D87=\"\",\"\",DATEDIF(D87,$E$1,\"Y\"))","v":""}]
[null,null,null,null,{"$f":"IF(D88=\"\",\"\",DATEDIF(D88,$E$1,\"Y\"))","v":""}]
[null,null,null,null,{"$f":"IF(D89=\"\",\"\",DATEDIF(D89,$E$1,\"Y\"))","v":""}]
[null,null,null,null,{"$f":"IF(D90=\"\",\"\",DATEDIF(D90,$E$1,\"Y\"))","v":""}]
[null,null,null,null,{"$f":"IF(D91=\"\",\"\",DATEDIF(D91,$E$1,\"Y\"))","v":""}]
[null,null,null,null,{"$f":"IF(D92=\"\",\"\",DATEDIF(D92,$E$1,\"Y\"))","v":""}]
[null,null,null,null,{"$f":"IF(D93=\"\",\"\",DATEDIF(D93,$E$1,\"Y\"))","v":""}]
[null,null,null,null,{"$f":"IF(D94=\"\",\"\",DATEDIF(D94,$E$1,\"Y\"))","v":""}]
[null,null,null,null,{"$f":"IF(D95=\"\",\"\",DATEDIF(D95,$E$1,\"Y\"))","v":""}]
[null,null,null,null,{"$f":"IF(D96=\"\",\"\",DATEDIF(D96,$E$1,\"Y\"))","v":""}]
[null,null,null,null,{"$f":"IF(D97=\"\",\"\",DATEDIF(D97,$E$1,\"Y\"))","v":""}]
[null,null,null,null,{"$f":"IF(D98=\"\",\"\",DATEDIF(D98,$E$1,\"Y\"))","v":""}]
[null,null,null,null,{"$f":"IF(D99=\"\",\"\",DATEDIF(D99,$E$1,\"Y\"))","v":""}]
[null,null,null,null,{"$f":"IF(D100=\"\",\"\",DATEDIF(D100,$E$1,\"Y\"))","v":""}]
[null,null,null,null,{"$f":"IF(D101=\"\",\"\",DATEDIF(D101,$E$1,\"Y\"))","v":""}]
[null,null,null,null,{"$f":"IF(D102=\"\",\"\",DATEDIF(D102,$E$1,\"Y\"))","v":""}]
[null,null,null,null,{"$f":"IF(D103=\"\",\"\",DATEDIF(D103,$E$1,\"Y\"))","v":""}]
[null,null,null,null,{"$f":"IF(D104=\"\",\"\",DATEDIF(D104,$E$1,\"Y\"))","v":""}]
[null,null,null,null,{"$f":"IF(D105=\"\",\"\",DATEDIF(D105,$E$1,\"Y\"))","v":""}]
[null,null,null,null,{"$f":"IF(D106=\"\",\"\",DATEDIF(D106,$E$1,\"Y\"))","v":""}]
[null,null,null,null,{"$f":"IF(D107=\"\",\"\",DATEDIF(D107,$E$1,\"Y\"))","v":""}]
[null,null,null,null,{"$f":"IF(D108=\"\",\"\",DATEDIF(D108,$E$1,\"Y\"))","v":""}]
[null,null,null,null,{"$f":"IF(D109=\"\",\"\",DATEDIF(D109,$E$1,\"Y\"))","v":""}]
[null,null,null,null,{"$f":"IF(D110=\"\",\"\",DATEDIF(D110,$E$1,\"Y\"))","v":""}]
[null,null,null,null,{"$f":"IF(D111=\"\",\"\",DATEDIF(D111,$E$1,\"Y\"))","v":""}]
[null,null,null,null,{"$f":"IF(D112=\"\",\"\",DATEDIF(D112,$E$1,\"Y\"))","v":""}]
[null,null,null,null,{"$f":"IF(D113=\"\",\"\",DATEDIF(D113,$E$1,\"Y\"))","v":""}]
[null,null,null,null,{"$f":"IF(D114=\"\",\"\",DATEDIF(D114,$E$1,\"Y\"))","v":""}]
[null,null,null,null,{"$f":"IF(D115=\"\",\"\",DATEDIF(D115,$E$1,\"Y\"))","v":""}]
[null,null,null,null,{"$f":"IF(D116=\"\",\"\",DATEDIF(D116,$E$1,\"Y\"))","v":""}]
[null,null,null,null,{"$f":"IF(D117=\"\",\"\",DATEDIF(D117,$E$1,\"Y\"))","v":""}]
[null,null,null,null,{"$f":"IF(D118=\"\",\"\",DATEDIF(D118,$E$1,\"Y\"))","v":""}]
[null,null,null,null,{"$f":"IF(D119=\"\",\"\",DATEDIF(D119,$E$1,\"Y\"))","v":""}]
[null,null,null,null,{"$f":"IF(D120=\"\",\"\",DATEDIF(D120,$E$1,\"Y\"))","v":""}]
[null,null,null,null,{"$f":"IF(D121=\"\",\"\",DATEDIF(D121,$E$1,\"Y\"))","v":""}]
[null,null,null,null,{"$f":"IF(D122=\"\",\"\",DATEDIF(D122,$E$1,\"Y\"))","v":""}]
[null,null,null,null,{"$f":"IF(D123=\"\",\"\",DATEDIF(D123,$E$1,\"Y\"))","v":""}]
[null,null,null,null,{"$f":"IF(D124=\"\",\"\",DATEDIF(D124,$E$1,\"Y\"))","v":""}]
[null,null,null,null,{"$f":"IF(D125=\"\",\"\",DATEDIF(D125,$E$1,\"Y\"))","v":""}]
[null,null,null,null,{"$f":"IF(D126=\"\",\"\",DATEDIF(D126,$E$1,\"Y\"))","v":""}]
[null,null,null,null,{"$f":"IF(D127=\"\",\"\",DATEDIF(D127,$E$1,\"Y\"))","v":""}]
[null,null,null,null,{"$f":"IF(D128=\"\",\"\",DATEDIF(D128,$E$1,\"Y\"))","v":""}]
[null,null,null,null,{"$f":"IF(D129=\"\",\"\",DATEDIF(D129,$E$1,\"Y\"))","v":""}]
[null,null,null,null,{"$f":"IF(D130=\"\",\"\",DATEDIF(D130,$E$1,\"Y\"))","v":""}]
[null,null,null,null,{"$f":"IF(D131=\"\",\"\",DATEDIF(D131,$E$1,\"Y\"))","v":""}]
[null,null,null,null,{"$f":"IF(D132=\"\",\"\",DATEDIF(D132,$E$1,\"Y\"))","v":""}]
[null,null,null,null,{"$f":"IF(D133=\"\",\"\",DATEDIF(D133,$E$1,\"Y\"))","v":""}]
[null,null,null,null,{"$f":"IF(D134=\"\",\"\",DATEDIF(D134,$E$1,\"Y\"))","v":""}]
[null,null,null,null,{"$f":"IF(D135=\"\",\"\",DATEDIF(D135,$E$1,\"Y\"))","v":""}]
[null,null,null,null,{"$f":"IF(D136=\"\",\"\",DATEDIF(D136,$E$1,\"Y\"))","v":""}]
[null,null,null,null,{"$f":"IF(D137=\"\",\"\",DATEDIF(D137,$E$1,\"Y\"))","v":""}]
[null,null,null,null,{"$f":"IF(D138=\"\",\"\",DATEDIF(D138,$E$1,\"Y\"))","v":""}]
[null,null,null,null,{"$f":"IF(D139=\"\",\"\",DATEDIF(D139,$E$1,\"Y\"))","v":""}]
[null,null,null,null,{"$f":"IF(D140=\"\",\"\",DATEDIF(D140,$E$1,\"Y\"))","v":""}]
[null,null,null,null,{"$f":"IF(D141=\"\",\"\",DATEDIF(D141,$E$1,\"Y\"))","v":""}]
[null,null,null,null,{"$f":"IF(D142=\"\",\"\",DATEDIF(D142,$E$1,\"Y\"))","v":""}]
[null,null,null,null,{"$f":"IF(D143=\"\",\"\",DATEDIF(D143,$E$1,\"Y\"))","v":""}]
[null,null,null,null,{"$f":"IF(D144=\"\",\"\",DATEDIF(D144,$E$1,\"Y\"))","v":""}]
[null,null,null,null,{"$f":"IF(D145=\"\",\"\",DATEDIF(D145,$E$1,\"Y\"))","v":""}]
[null,null,null,null,{"$f":"IF(D146=\"\",\"\",DATEDIF(D146,$E$1,\"Y\"))","v":""}]
[null,null,null,null,{"$f":"IF(D147=\"\",\"\",DATEDIF(D147,$E$1,\"Y\"))","v":""}]
[null,null,null,null,{"$f":"IF(D148=\"\",\"\",DATEDIF(D148,$E$1,\"Y\"))","v":""}]
[null,null,null,null,{"$f":"IF(D149=\"\",\"\",DATEDIF(D149,$E$1,\"Y\"))","v":""}]
[null,null,null,null,{"$f":"IF(D150=\"\",\"\",DATEDIF(D150,$E$1,\"Y\"))","v":""}]
[null,null,null,null,{"$f":"IF(D151=\"\",\"\",DATEDIF(D151,$E$1,\"Y\"))","v":""}]
[null,null,null,null,{"$f":"IF(D152=\"\",\"\",DATEDIF(D152,$E$1,\"Y\"))","v":""}]
[null,null,null,null,{"$f":"IF(D153=\"\",\"\",DATEDIF(D153,$E$1,\"Y\"))","v":""}]
[null,null,null,null,{"$f":"IF(D154=\"\",\"\",DATEDIF(D154,$E$1,\"Y\"))","v":""}]
[null,null,null,null,{"$f":"IF(D155=\"\",\"\",DATEDIF(D155,$E$1,\"Y\"))","v":""}]
[null,null,null,null,{"$f":"IF(D156=\"\",\"\",DATEDIF(D156,$E$1,\"Y\"))","v":""}]
[null,null,null,null,{"$f":"IF(D157=\"\",\"\",DATEDIF(D157,$E$1,\"Y\"))","v":""}]
[null,null,null,null,{"$f":"IF(D158=\"\",\"\",DATEDIF(D158,$E$1,\"Y\"))","v":""}]
[null,null,null,null,{"$f":"IF(D159=\"\",\"\",DATEDIF(D159,$E$1,\"Y\"))","v":""}]
[null,null,null,null,{"$f":"IF(D160=\"\",\"\",DATEDIF(D160,$E$1,\"Y\"))","v":""}]
[null,null,null,null,{"$f":"IF(D161=\"\",\"\",DATEDIF(D161,$E$1,\"Y\"))","v":""}]
[null,null,null,null,{"$f":"IF(D162=\"\",\"\",DATEDIF(D162,$E$1,\"Y\"))","v":""}]
[null,null,null,null,{"$f":"IF(D163=\"\",\"\",DATEDIF(D163,$E$1,\"Y\"))","v":""}]
[null,null,null,null,{"$f":"IF(D164=\"\",\"\",DATEDIF(D164,$E$1,\"Y\"))","v":""}]
[null,null,null,null,{"$f":"IF(D165=\"\",\"\",DATEDIF(D165,$E$1,\"Y\"))","v":""}]
[null,null,null,null,{"$f":"IF(D166=\"\",\"\",DATEDIF(D166,$E$1,\"Y\"))","v":""}]
[null,null,null,null,{"$f":"IF(D167=\"\",\"\",DATEDIF(D167,$E$1,\"Y\"))","v":""}]
[null,null,null,null,{"$f":"IF(D168=\"\",\"\",DATEDIF(D168,$E$1,\"Y\"))","v":""}]
[null,null,null,null,{"$f":"IF(D169=\"\",\"\",DATEDIF(D169,$E$1,\"Y\"))","v":""}]
[null,null,null,null,{"$f":"IF(D170=\"\",\"\",DATEDIF(D170,$E$1,\"Y\"))","v":""}]
[null,null,null,null,{"$f":"IF(D171=\"\",\"\",DATEDIF(D171,$E$1,\"Y\"))","v":""}]
[null,null,null,null,{"$f":"IF(D172=\"\",\"\",DATEDIF(D172,$E$1,\"Y\"))","v":""}]
[null,null,null,null,{"$f":"IF(D173=\"\",\"\",DATEDIF(D173,$E$1,\"Y\"))","v":""}]
[null,null,null,null,{"$f":"IF(D174=\"\",\"\",DATEDIF(D174,$E$1,\"Y\"))","v":""}]
[null,null,null,null,{"$f":"IF(D175=\"\",\"\",DATEDIF(D175,$E$1,\"Y\"))","v":""}]
[null,null,null,null,{"$f":"IF(D176=\"\",\"\",DATEDIF(D176,$E$1,\"Y\"))","v":""}]
[null,null,null,null,{"$f":"IF(D177=\"\",\"\",DATEDIF(D177,$E$1,\"Y\"))","v":""}]
[null,null,null,null,{"$f":"IF(D178=\"\",\"\",DATEDIF(D178,$E$1,\"Y\"))","v":""}]
[null,null,null,null,{"$f":"IF(D179=\"\",\"\",DATEDIF(D179,$E$1,\"Y\"))","v":""}]
[null,null,null,null,{"$f":"IF(D180=\"\",\"\",DATEDIF(D180,$E$1,\"Y\"))","v":""}]
[null,null,null,null,{"$f":"IF(D181=\"\",\"\",DATEDIF(D181,$E$1,\"Y\"))","v":""}]
[null,null,null,null,{"$f":"IF(D182=\"\",\"\",DATEDIF(D182,$E$1,\"Y\"))","v":""}]
[null,null,null,null,{"$f":"IF(D183=\"\",\"\",DATEDIF(D183,$E$1,\"Y\"))","v":""}]
[null,null,null,null,{"$f":"IF(D184=\"\",\"\",DATEDIF(D184,$E$1,\"Y\"))","v":""}]
[null,null,null,null,{"$f":"IF(D185=\"\",\"\",DATEDIF(D185,$E$1,\"Y\"))","v":""}]
[null,null,null,null,{"$f":"IF(D186=\"\",\"\",DATEDIF(D186,$E$1,\"Y\"))","v":""}]
[null,null,null,null,{"$f":"IF(D187=\"\",\"\",DATEDIF(D187,$E$1,\"Y\"))","v":""}]
[null,null,null,null,{"$f":"IF(D188=\"\",\"\",DATEDIF(D188,$E$1,\"Y\"))","v":""}]
[null,null,null,null,{"$f":"IF(D189=\"\",\"\",DATEDIF(D189,$E$1,\"Y\"))","v":""}]
[null,null,null,null,{"$f":"IF(D190=\"\",\"\",DATEDIF(D190,$E$1,\"Y\"))","v":""}]
[null,null,null,null,{"$f":"IF(D191=\"\",\"\",DATEDIF(D191,$E$1,\"Y\"))","v":""}]
[null,null,null,null,{"$f":"IF(D192=\"\",\"\",DATEDIF(D192,$E$1,\"Y\"))","v":""}]
[null,null,null,null,{"$f":"IF(D193=\"\",\"\",DATEDIF(D193,$E$1,\"Y\"))","v":""}]
[null,null,null,null,{"$f":"IF(D194=\"\",\"\",DATEDIF(D194,$E$1,\"Y\"))","v":""}]
[null,null,null,null,{"$f":"IF(D195=\"\",\"\",DATEDIF(D195,$E$1,\"Y\"))","v":""}]
[null,null,null,null,{"$f":"IF(D196=\"\",\"\",DATEDIF(D196,$E$1,\"Y\"))","v":""}]
[null,null,null,null,{"$f":"IF(D197=\"\",\"\",DATEDIF(D197,$E$1,\"Y\"))","v":""}]
[null,null,null,null,{"$f":"IF(D198=\"\",\"\",DATEDIF(D198,$E$1,\"Y\"))","v":""}]
[null,null,null,null,{"$f":"IF(D199=\"\",\"\",DATEDIF(D199,$E$1,\"Y\"))","v":""}]
[null,null,null,null,{"$f":"IF(D200=\"\",\"\",DATEDIF(D200,$E$1,\"Y\"))","v":""}]
[null,null,null,null,{"$f":"IF(D201=\"\",\"\",DATEDIF(D201,$E$1,\"Y\"))","v":""}]
[null,null,null,null,{"$f":"IF(D202=\"\",\"\",DATEDIF(D202,$E$1,\"Y\"))","v":""}]
[null,null,null,null,{"$f":"IF(D203=\"\",\"\",DATEDIF(D203,$E$1,\"Y\"))","v":""}]
[null,null,null,null,{"$f":"IF(D204=\"\",\"\",DATEDIF(D204,$E$1,\"Y\"))","v":""}]
[null,null,null,null,{"$f":"IF(D205=\"\",\"\",DATEDIF(D205,$E$1,\"Y\"))","v":""}]
[null,null,null,null,{"$f":"IF(D206=\"\",\"\",DATEDIF(D206,$E$1,\"Y\"))","v":""}]
[null,null,null,null,{"$f":"IF(D207=\"\",\"\",DATEDIF(D207,$E$1,\"Y\"))","v":""}]
[null,null,null,null,{"$f":"IF(D208=\"\",\"\",DATEDIF(D208,$E$1,\"Y\"))","v":""}]
[null,null,null,null,{"$f":"IF(D209=\"\",\"\",DATEDIF(D209,$E$1,\"Y\"))","v":""}]
[null,null,null,null,{"$f":"IF(D210=\"\",\"\",DATEDIF(D210,$E$1,\"Y\"))","v":""}]
[null,null,null,null,{"$f":"IF(D211=\"\",\"\",DATEDIF(D211,$E$1,\"Y\"))","v":""}]
[null,null,null,null,{"$f":"IF(D212=\"\",\"\",DATEDIF(D212,$E$1,\"Y\"))","v":""}]
[null,null,null,null,{"$f":"IF(D213=\"\",\"\",DATEDIF(D213,$E$1,\"Y\"))","v":""}]
[null,null,null,null,{"$f":"IF(D214=\"\",\"\",DATEDIF(D214,$E$1,\"Y\"))","v":""}]
[null,null,null,null,{"$f":"IF(D215=\"\",\"\",DATEDIF(D215,$E$1,\"Y\"))","v":""}]
[null,null,null,null,{"$f":"IF(D216=\"\",\"\",DATEDIF(D216,$E$1,\"Y\"))","v":""}]
[null,null,null,null,{"$f":"IF(D217=\"\",\"\",DATEDIF(D217,$E$1,\"Y\"))","v":""}]
[null,null,null,null,{"$f":"IF(D218=\"\",\"\",DATEDIF(D218,$E$1,\"Y\"))","v":""}]
[null,null,null,null,{"$f":"IF(D219=\"\",\"\",DATEDIF(D219,$E$1,\"Y\"))","v":""}]
[null,null,null,null,{"$f":"IF(D220=\"\",\"\",DATEDIF(D220,$E$1,\"Y\"))","v":""}]
[null,null,null,null,{"$f":"IF(D221=\"\",\"\",DATEDIF(D221,$E$1,\"Y\"))","v":""}]
[null,null,null,null,{"$f":"IF(D222=\"\",\"\",DATEDIF(D222,$E$1,\"Y\"))","v":""}]
[null,null,null,null,{"$f":"IF(D223=\"\",\"\",DATEDIF(D223,$E$1,\"Y\"))","v":""}]
[null,null,null,null,{"$f":"IF(D224=\"\",\"\",DATEDIF(D224,$E$1,\"Y\"))","v":""}]
[null,null,null,null,{"$f":"IF(D225=\"\",\"\",DATEDIF(D225,$E$1,\"Y\"))","v":""}]
[null,null,null,null,{"$f":"IF(D226=\"\",\"\",DATEDIF(D226,$E$1,\"Y\"))","v":""}]
[null,null,null,null,{"$f":"IF(D227=\"\",\"\",DATEDIF(D227,$E$1,\"Y\"))","v":""}]
[null,null,null,null,{"$f":"IF(D228=\"\",\"\",DATEDIF(D228,$E$1,\"Y\"))","v":""}]
[null,null,null,null,{"$f":"IF(D229=\"\",\"\",DATEDIF(D229,$E$1,\"Y\"))","v":""}]
[null,null,null,null,{"$f":"IF(D230=\"\",\"\",DATEDIF(D230,$E$1,\"Y\"))","v":""}]
[null,null,null,null,{"$f":"IF(D231=\"\",\"\",DATEDIF(D231,$E$1,\"Y\"))","v":""}]
[null,null,null,null,{"$f":"IF(D232=\"\",\"\",DATEDIF(D232,$E$1,\"Y\"))","v":""}]
[null,null,null,null,{"$f":"IF(D233=\"\",\"\",DATEDIF(D233,$E$1,\"Y\"))","v":""}]
[null,null,null,null,{"$f":"IF(D234=\"\",\"\",DATEDIF(D234,$E$1,\"Y\"))","v":""}]
[null,null,null,null,{"$f":"IF(D235=\"\",\"\",DATEDIF(D235,$E$1,\"Y\"))","v":""}]
[null,null,null,null,{"$f":"IF(D236=\"\",\"\",DATEDIF(D236,$E$1,\"Y\"))","v":""}]
[null,null,null,null,{"$f":"IF(D237=\"\",\"\",DATEDIF(D237,$E$1,\"Y\"))","v":""}]
[null,null,null,null,{"$f":"IF(D238=\"\",\"\",DATEDIF(D238,$E$1,\"Y\"))","v":""}]
[null,null,null,null,{"$f":"IF(D239=\"\",\"\",DATEDIF(D239,$E$1,\"Y\"))","v":""}]
[null,null,null,null,{"$f":"IF(D240=\"\",\"\",DATEDIF(D240,$E$1,\"Y\"))","v":""}]
[null,null,null,null,{"$f":"IF(D241=\"\",\"\",DATEDIF(D241,$E$1,\"Y\"))","v":""}]
[null,null,null,null,{"$f":"IF(D242=\"\",\"\",DATEDIF(D242,$E$1,\"Y\"))","v":""}]
[null,null,null,null,{"$f":"IF(D243=\"\",\"\",DATEDIF(D243,$E$1,\"Y\"))","v":""}]
[null,null,null,null,{"$f":"IF(D244=\"\",\"\",DATEDIF(D244,$E$1,\"Y\"))","v":""}]
[null,null,null,null,{"$f":"IF(D245=\"\",\"\",DATEDIF(D245,$E$1,\"Y\"))","v":""}]
[null,null,null,null,{"$f":"IF(D246=\"\",\"\",DATEDIF(D246,$E$1,\"Y\"))","v":""}]
[null,null,null,null,{"$f":"IF(D247=\"\",\"\",DATEDIF(D247,$E$1,\"Y\"))","v":""}]
[null,null,null,null,{"$f":"IF(D248=\"\",\"\",DATEDIF(D248,$E$1,\"Y\"))","v":""}]
[null,null,null,null,{"$f":"IF(D249=\"\",\"\",DATEDIF(D249,$E$1,\"Y\"))","v":""}]
[null,null,null,null,{"$f":"IF(D250=\"\",\"\",DATEDIF(D250,$E$1,\"Y\"))","v":""}]
[null,null,null,null,{"$f":"IF(D251=\"\",\"\",DATEDIF(D251,$E$1,\"Y\"))","v":""}]
[null,null,null,null,{"$f":"IF(D252=\"\",\"\",DATEDIF(D252,$E$1,\"Y\"))","v":""}]
[null,null,null,null,{"$f":"IF(D253=\"\",\"\",DATEDIF(D253,$E$1,\"Y\"))","v":""}]
[null,null,null,null,{"$f":"IF(D254=\"\",\"\",DATEDIF(D254,$E$1,\"Y\"))","v":""}]
[null,null,null,null,{"$f":"IF(D255=\"\",\"\",DATEDIF(D255,$E$1,\"Y\"))","v":""}]
[null,null,null,null,{"$f":"IF(D256=\"\",\"\",DATEDIF(D256,$E$1,\"Y\"))","v":""}]
[null,null,null,null,{"$f":"IF(D257=\"\",\"\",DATEDIF(D257,$E$1,\"Y\"))","v":""}]
[null,null,null,null,{"$f":"IF(D258=\"\",\"\",DATEDIF(D258,$E$1,\"Y\"))","v":""}]
[null,null,null,null,{"$f":"IF(D259=\"\",\"\",DATEDIF(D259,$E$1,\"Y\"))","v":""}]
[null,null,null,null,{"$f":"IF(D260=\"\",\"\",DATEDIF(D260,$E$1,\"Y\"))","v":""}]
[null,null,null,null,{"$f":"IF(D261=\"\",\"\",DATEDIF(D261,$E$1,\"Y\"))","v":""}]
[null,null,null,null,{"$f":"IF(D262=\"\",\"\",DATEDIF(D262,$E$1,\"Y\"))","v":""}]
[null,null,null,null,{"$f":"IF(D263=\"\",\"\",DATEDIF(D263,$E$1,\"Y\"))","v":""}]
[null,null,null,null,{"$f":"IF(D264=\"\",\"\",DATEDIF(D264,$E$1,\"Y\"))","v":""}]
[null,null,null,null,{"$f":"IF(D265=\"\",\"\",DATEDIF(D265,$E$1,\"Y\"))","v":""}]
[null,null,null,null,{"$f":"IF(D266=\"\",\"\",DATEDIF(D266,$E$1,\"Y\"))","v":""}]
[null,null,null,null,{"$f":"IF(D267=\"\",\"\",DATEDIF(D267,$E$1,\"Y\"))","v":""}]
[null,null,null,null,{"$f":"IF(D268=\"\",\"\",DATEDIF(D268,$E$1,\"Y\"))","v":""}]
[null,null,null,null,{"$f":"IF(D269=\"\",\"\",DATEDIF(D269,$E$1,\"Y\"))","v":""}]
[null,null,null,null,{"$f":"IF(D270=\"\",\"\",DATEDIF(D270,$E$1,\"Y\"))","v":""}]
[null,null,null,null,{"$f":"IF(D271=\"\",\"\",DATEDIF(D271,$E$1,\"Y\"))","v":""}]
[null,null,null,null,{"$f":"IF(D272=\"\",\"\",DATEDIF(D272,$E$1,\"Y\"))","v":""}]
[null,null,null,null,{"$f":"IF(D273=\"\",\"\",DATEDIF(D273,$E$1,\"Y\"))","v":""}]
[null,null,null,null,{"$f":"IF(D274=\"\",\"\",DATEDIF(D274,$E$1,\"Y\"))","v":""}]
[null,null,null,null,{"$f":"IF(D275=\"\",\"\",DATEDIF(D275,$E$1,\"Y\"))","v":""}]
[null,null,null,null,{"$f":"IF(D276=\"\",\"\",DATEDIF(D276,$E$1,\"Y\"))","v":""}]
[null,null,null,null,{"$f":"IF(D277=\"\",\"\",DATEDIF(D277,$E$1,\"Y\"))","v":""}]
[null,null,null,null,{"$f":"IF(D278=\"\",\"\",DATEDIF(D278,$E$1,\"Y\"))","v":""}]
[null,null,null,null,{"$f":"IF(D279=\"\",\"\",DATEDIF(D279,$E$1,\"Y\"))","v":""}]
[null,null,null,null,{"$f":"IF(D280=\"\",\"\",DATEDIF(D280,$E$1,\"Y\"))","v":""}]
[null,null,null,null,{"$f":"IF(D281=\"\",\"\",DATEDIF(D281,$E$1,\"Y\"))","v":""}]
[null,null,null,null,{"$f":"IF(D282=\"\",\"\",DATEDIF(D282,$E$1,\"Y\"))","v":""}]
[null,null,null,null,{"$f":"IF(D283=\"\",\"\",DATEDIF(D283,$E$1,\"Y\"))","v":""}]
[null,null,null,null,{"$f":"IF(D284=\"\",\"\",DATEDIF(D284,$E$1,\"Y\"))","v":""}]
[null,null,null,null,{"$f":"IF(D285=\"\",\"\",DATEDIF(D285,$E$1,\"Y\"))","v":""}]
[null,null,null,null,{"$f":"IF(D286=\"\",\"\",DATEDIF(D286,$E$1,\"Y\"))","v":""}]
[null,null,null,null,{"$f":"IF(D287=\"\",\"\",DATEDIF(D287,$E$1,\"Y\"))","v":""}]
[null,null,null,null,{"$f":"IF(D288=\"\",\"\",DATEDIF(D288,$E$1,\"Y\"))","v":""}]
[null,null,null,null,{"$f":"IF(D289=\"\",\"\",DATEDIF(D289,$E$1,\"Y\"))","v":""}]
[null,null,null,null,{"$f":"IF(D290=\"\",\"\",DATEDIF(D290,$E$1,\"Y\"))","v":""}]
[null,null,null,null,{"$f":"IF(D291=\"\",\"\",DATEDIF(D291,$E$1,\"Y\"))","v":""}]
[null,null,null,null,{"$f":"IF(D292=\"\",\"\",DATEDIF(D292,$E$1,\"Y\"))","v":""}]
[null,null,null,null,{"$f":"IF(D293=\"\",\"\",DATEDIF(D293,$E$1,\"Y\"))","v":""}]
[null,null,null,null,{"$f":"IF(D294=\"\",\"\",DATEDIF(D294,$E$1,\"Y\"))","v":""}]
[null,null,null,null,{"$f":"IF(D295=\"\",\"\",DATEDIF(D295,$E$1,\"Y\"))","v":""}]
[null,null,null,null,{"$f":"IF(D296=\"\",\"\",DATEDIF(D296,$E$1,\"Y\"))","v":""}]
[null,null,null,null,{"$f":"IF(D297=\"\",\"\",DATEDIF(D297,$E$1,\"Y\"))","v":""}]
[null,null,null,null,{"$f":"IF(D298=\"\",\"\",DATEDIF(D298,$E$1,\"Y\"))","v":""}]
[null,null,null,null,{"$f":"IF(D299=\"\",\"\",DATEDIF(D299,$E$1,\"Y\"))","v":""}]
[null,null,null,null,{"$f":"IF(D300=\"\",\"\",DATEDIF(D300,$E$1,\"Y\"))","v":""}]
[null,null,null,null,{"$f":"IF(D301=\"\",\"\",DATEDIF(D301,$E$1,\"Y\"))","v":""}]
[null,null,null,null,{"$f":"IF(D302=\"\",\"\",DATEDIF(D302,$E$1,\"Y\"))","v":""}]
[null,null,null,null,{"$f":"IF(D303=\"\",\"\",DATEDIF(D303,$E$1,\"Y\"))","v":""}]
[null,null,null,null,{"$f":"IF(D304=\"\",\"\",DATEDIF(D304,$E$1,\"Y\"))","v":""}]
[null,null,null,null,{"$f":"IF(D305=\"\",\"\",DATEDIF(D305,$E$1,\"Y\"))","v":""}]
[null,null,null,null,{"$f":"IF(D306=\"\",\"\",DATEDIF(D306,$E$1,\"Y\"))","v":""}]
[null,null,null,null,{"$f":"IF(D307=\"\",\"\",DATEDIF(D307,$E$1,\"Y\"))","v":""}]
[null,null,null,null,{"$f":"IF(D308=\"\",\"\",DATEDIF(D308,$E$1,\"Y\"))","v":""}]
[null,null,null,null,{"$f":"IF(D309=\"\",\"\",DATEDIF(D309,$E$1,\"Y\"))","v":""}]
[null,null,null,null,{"$f":"IF(D310=\"\",\"\",DATEDIF(D310,$E$1,\"Y\"))","v":""}]
[null,null,null,null,{"$f":"IF(D311=\"\",\"\",DATEDIF(D311,$E$1,\"Y\"))","v":""}]
[null,null,null,null,{"$f":"IF(D312=\"\",\"\",DATEDIF(D312,$E$1,\"Y\"))","v":""}]
[null,null,null,null,{"$f":"IF(D313=\"\",\"\",DATEDIF(D313,$E$1,\"Y\"))","v":""}]
[null,null,null,null,{"$f":"IF(D314=\"\",\"\",DATEDIF(D314,$E$1,\"Y\"))","v":""}]
[null,null,null,null,{"$f":"IF(D315=\"\",\"\",DATEDIF(D315,$E$1,\"Y\"))","v":""}]
[null,null,null,null,{"$f":"IF(D316=\"\",\"\",DATEDIF(D316,$E$1,\"Y\"))","v":""}]
[null,null,null,null,{"$f":"IF(D317=\"\",\"\",DATEDIF(D317,$E$1,\"Y\"))","v":""}]
[null,null,null,null,{"$f":"IF(D318=\"\",\"\",DATEDIF(D318,$E$1,\"Y\"))","v":""}]
[null,null,null,null,{"$f":"IF(D319=\"\",\"\",DATEDIF(D319,$E$1,\"Y\"))","v":""}]
[null,null,null,null,{"$f":"IF(D320=\"\",\"\",DATEDIF(D320,$E$1,\"Y\"))","v":""}]
[null,null,null,null,{"$f":"IF(D321=\"\",\"\",DATEDIF(D321,$E$1,\"Y\"))","v":""}]
[null,null,null,null,{"$f":"IF(D322=\"\",\"\",DATEDIF(D322,$E$1,\"Y\"))","v":""}]
[null,null,null,null,{"$f":"IF(D323=\"\",\"\",DATEDIF(D323,$E$1,\"Y\"))","v":""}]
[null,null,null,null,{"$f":"IF(D324=\"\",\"\",DATEDIF(D324,$E$1,\"Y\"))","v":""}]
[null,null,null,null,{"$f":"IF(D325=\"\",\"\",DATEDIF(D325,$E$1,\"Y\"))","v":""}]
[null,null,null,null,{"$f":"IF(D326=\"\",\"\",DATEDIF(D326,$E$1,\"Y\"))","v":""}]
[null,null,null,null,{"$f":"IF(D327=\"\",\"\",DATEDIF(D327,$E$1,\"Y\"))","v":""}]
[null,null,null,null,{"$f":"IF(D328=\"\",\"\",DATEDIF(D328,$E$1,\"Y\"))","v":""}]
[null,null,null,null,{"$f":"IF(D329=\"\",\"\",DATEDIF(D329,$E$1,\"Y\"))","v":""}]
[null,null,null,null,{"$f":"IF(D330=\"\",\"\",DATEDIF(D330,$E$1,\"Y\"))","v":""}]
[null,null,null,null,{"$f":"IF(D331=\"\",\"\",DATEDIF(D331,$E$1,\"Y\"))","v":""}]
[null,null,null,null,{"$f":"IF(D332=\"\",\"\",DATEDIF(D332,$E$1,\"Y\"))","v":""}]
[null,null,null,null,{"$f":"IF(D333=\"\",\"\",DATEDIF(D333,$E$1,\"Y\"))","v":""}]
[null,null,null,null,{"$f":"IF(D334=\"\",\"\",DATEDIF(D334,$E$1,\"Y\"))","v":""}]
[null,null,null,null,{"$f":"IF(D335=\"\",\"\",DATEDIF(D335,$E$1,\"Y\"))","v":""}]
[null,null,null,null,{"$f":"IF(D336=\"\",\"\",DATEDIF(D336,$E$1,\"Y\"))","v":""}]
[null,null,null,null,{"$f":"IF(D337=\"\",\"\",DATEDIF(D337,$E$1,\"Y\"))","v":""}]
[null,null,null,null,{"$f":"IF(D338=\"\",\"\",DATEDIF(D338,$E$1,\"Y\"))","v":""}]
[null,null,null,null,{"$f":"IF(D339=\"\",\"\",DATEDIF(D339,$E$1,\"Y\"))","v":""}]
[null,null,null,null,{"$f":"IF(D340=\"\",\"\",DATEDIF(D340,$E$1,\"Y\"))","v":""}]
[null,null,null,null,{"$f":"IF(D341=\"\",\"\",DATEDIF(D341,$E$1,\"Y\"))","v":""}]
[null,null,null,null,{"$f":"IF(D342=\"\",\"\",DATEDIF(D342,$E$1,\"Y\"))","v":""}]
[null,null,null,null,{"$f":"IF(D343=\"\",\"\",DATEDIF(D343,$E$1,\"Y\"))","v":""}]
[null,null,null,null,{"$f":"IF(D344=\"\",\"\",DATEDIF(D344,$E$1,\"Y\"))","v":""}]
[null,null,null,null,{"$f":"IF(D345=\"\",\"\",DATEDIF(D345,$E$1,\"Y\"))","v":""}]
[null,null,null,null,{"$f":"IF(D346=\"\",\"\",DATEDIF(D346,$E$1,\"Y\"))","v":""}]
[null,null,null,null,{"$f":"IF(D347=\"\",\"\",DATEDIF(D347,$E$1,\"Y\"))","v":""}]
[null,null,null,null,{"$f":"IF(D348=\"\",\"\",DATEDIF(D348,$E$1,\"Y\"))","v":""}]
[null,null,null,null,{"$f":"IF(D349=\"\",\"\",DATEDIF(D349,$E$1,\"Y\"))","v":""}]
[null,null,null,null,{"$f":"IF(D350=\"\",\"\",DATEDIF(D350,$E$1,\"Y\"))","v":""}]
[null,null,null,null,{"$f":"IF(D351=\"\",\"\",DATEDIF(D351,$E$1,\"Y\"))","v":""}]
[null,null,null,null,{"$f":"IF(D352=\"\",\"\",DATEDIF(D352,$E$1,\"Y\"))","v":""}]
[null,null,null,null,{"$f":"IF(D353=\"\",\"\",DATEDIF(D353,$E$1,\"Y\"))","v":""}]
[null,null,null,null,{"$f":"IF(D354=\"\",\"\",DATEDIF(D354,$E$1,\"Y\"))","v":""}]
[null,null,null,null,{"$f":"IF(D355=\"\",\"\",DATEDIF(D355,$E$1,\"Y\"))","v":""}]
[null,null,null,null,{"$f":"IF(D356=\"\",\"\",DATEDIF(D356,$E$1,\"Y\"))","v":""}]
[null,null,null,null,{"$f":"IF(D357=\"\",\"\",DATEDIF(D357,$E$1,\"Y\"))","v":""}]
[null,null,null,null,{"$f":"IF(D358=\"\",\"\",DATEDIF(D358,$E$1,\"Y\"))","v":""}]
[null,null,null,null,{"$f":"IF(D359=\"\",\"\",DATEDIF(D359,$E$1,\"Y\"))","v":""}]
[null,null,null,null,{"$f":"IF(D360=\"\",\"\",DATEDIF(D360,$E$1,\"Y\"))","v":""}]
[null,null,null,null,{"$f":"IF(D361=\"\",\"\",DATEDIF(D361,$E$1,\"Y\"))","v":""}]
[null,null,null,null,{"$f":"IF(D362=\"\",\"\",DATEDIF(D362,$E$1,\"Y\"))","v":""}]
[null,null,null,null,{"$f":"IF(D363=\"\",\"\",DATEDIF(D363,$E$1,\"Y\"))","v":""}]
[null,null,null,null,{"$f":"IF(D364=\"\",\"\",DATEDIF(D364,$E$1,\"Y\"))","v":""}]
[null,null,null,null,{"$f":"IF(D365=\"\",\"\",DATEDIF(D365,$E$1,\"Y\"))","v":""}]
[null,null,null,null,{"$f":"IF(D366=\"\",\"\",DATEDIF(D366,$E$1,\"Y\"))","v":""}]
[null,null,null,null,{"$f":"IF(D367=\"\",\"\",DATEDIF(D367,$E$1,\"Y\"))","v":""}]
[null,null,null,null,{"$f":"IF(D368=\"\",\"\",DATEDIF(D368,$E$1,\"Y\"))","v":""}]
[null,null,null,null,{"$f":"IF(D369=\"\",\"\",DATEDIF(D369,$E$1,\"Y\"))","v":""}]
[null,null,null,null,{"$f":"IF(D370=\"\",\"\",DATEDIF(D370,$E$1,\"Y\"))","v":""}]
[null,null,null,null,{"$f":"IF(D371=\"\",\"\",DATEDIF(D371,$E$1,\"Y\"))","v":""}]
[null,null,null,null,{"$f":"IF(D372=\"\",\"\",DATEDIF(D372,$E$1,\"Y\"))","v":""}]
[null,null,null,null,{"$f":"IF(D373=\"\",\"\",DATEDIF(D373,$E$1,\"Y\"))","v":""}]
[null,null,null,null,{"$f":"IF(D374=\"\",\"\",DATEDIF(D374,$E$1,\"Y\"))","v":""}]
[null,null,null,null,{"$f":"IF(D375=\"\",\"\",DATEDIF(D375,$E$1,\"Y\"))","v":""}]
[null,null,null,null,{"$f":"IF(D376=\"\",\"\",DATEDIF(D376,$E$1,\"Y\"))","v":""}]
[null,null,null,null,{"$f":"IF(D377=\"\",\"\",DATEDIF(D377,$E$1,\"Y\"))","v":""}]
[null,null,null,null,{"$f":"IF(D378=\"\",\"\",DATEDIF(D378,$E$1,\"Y\"))","v":""}]
[null,null,null,null,{"$f":"IF(D379=\"\",\"\",DATEDIF(D379,$E$1,\"Y\"))","v":""}]
[null,null,null,null,{"$f":"IF(D380=\"\",\"\",DATEDIF(D380,$E$1,\"Y\"))","v":""}]
[null,null,null,null,{"$f":"IF(D381=\"\",\"\",DATEDIF(D381,$E$1,\"Y\"))","v":""}]
[null,null,null,null,{"$f":"IF(D382=\"\",\"\",DATEDIF(D382,$E$1,\"Y\"))","v":""}]
[null,null,null,null,{"$f":"IF(D383=\"\",\"\",DATEDIF(D383,$E$1,\"Y\"))","v":""}]
[null,null,null,null,{"$f":"IF(D384=\"\",\"\",DATEDIF(D384,$E$1,\"Y\"))","v":""}]
[null,null,null,null,{"$f":"IF(D385=\"\",\"\",DATEDIF(D385,$E$1,\"Y\"))","v":""}]
[null,null,null,null,{"$f":"IF(D386=\"\",\"\",DATEDIF(D386,$E$1,\"Y\"))","v":""}]
[null,null,null,null,{"$f":"IF(D387=\"\",\"\",DATEDIF(D387,$E$1,\"Y\"))","v":""}]
[null,null,null,null,{"$f":"IF(D388=\"\",\"\",DATEDIF(D388,$E$1,\"Y\"))","v":""}]
[null,null,null,null,{"$f":"IF(D389=\"\",\"\",DATEDIF(D389,$E$1,\"Y\"))","v":""}]
[null,null,null,null,{"$f":"IF(D390=\"\",\"\",DATEDIF(D390,$E$1,\"Y\"))","v":""}]
[null,null,null,null,{"$f":"IF(D391=\"\",\"\",DATEDIF(D391,$E$1,\"Y\"))","v":""}]
[null,null,null,null,{"$f":"IF(D392=\"\",\"\",DATEDIF(D392,$E$1,\"Y\"))","v":""}]
[null,null,null,null,{"$f":"IF(D393=\"\",\"\",DATEDIF(D393,$E$1,\"Y\"))","v":""}]
[null,null,null,null,{"$f":"IF(D394=\"\",\"\",DATEDIF(D394,$E$1,\"Y\"))","v":""}]
[null,null,null,null,{"$f":"IF(D395=\"\",\"\",DATEDIF(D395,$E$1,\"Y\"))","v":""}]
[null,null,null,null,{"$f":"IF(D396=\"\",\"\",DATEDIF(D396,$E$1,\"Y\"))","v":""}]
[null,null,null,null,{"$f":"IF(D397=\"\",\"\",DATEDIF(D397,$E$1,\"Y\"))","v":""}]
[null,null,null,null,{"$f":"IF(D398=\"\",\"\",DATEDIF(D398,$E$1,\"Y\"))","v":""}]
[null,null,null,null,{"$f":"IF(D399=\"\",\"\",DATEDIF(D399,$E$1,\"Y\"))","v":""}]
[null,null,null,null,{"$f":"IF(D400=\"\",\"\",DATEDIF(D400,$E$1,\"Y\"))","v":""}]
[null,null,null,null,{"$f":"IF(D401=\"\",\"\",DATEDIF(D401,$E$1,\"Y\"))","v":""}]
[null,null,null,null,{"$f":"IF(D402=\"\",\"\",DATEDIF(D402,$E$1,\"Y\"))","v":""}]
[null,null,null,null,{"$f":"IF(D403=\"\",\"\",DATEDIF(D403,$E$1,\"Y\"))","v":""}]
[null,null,null,null,{"$f":"IF(D404=\"\",\"\",DATEDIF(D404,$E$1,\"Y\"))","v":""}]
[null,null,null,null,{"$f":"IF(D405=\"\",\"\",DATEDIF(D405,$E$1,\"Y\"))","v":""}]
[null,null,null,null,{"$f":"IF(D406=\"\",\"\",DATEDIF(D406,$E$1,\"Y\"))","v":""}]
[null,null,null,null,{"$f":"IF(D407=\"\",\"\",DATEDIF(D407,$E$1,\"Y\"))","v":""}]
[null,null,null,null,{"$f":"IF(D408=\"\",\"\",DATEDIF(D408,$E$1,\"Y\"))","v":""}]
[null,null,null,null,{"$f":"IF(D409=\"\",\"\",DATEDIF(D409,$E$1,\"Y\"))","v":""}]
[null,null,null,null,{"$f":"IF(D410=\"\",\"\",DATEDIF(D410,$E$1,\"Y\"))","v":""}]
[null,null,null,null,{"$f":"IF(D411=\"\",\"\",DATEDIF(D411,$E$1,\"Y\"))","v":""}]
[null,null,null,null,{"$f":"IF(D412=\"\",\"\",DATEDIF(D412,$E$1,\"Y\"))","v":""}]
[null,null,null,null,{"$f":"IF(D413=\"\",\"\",DATEDIF(D413,$E$1,\"Y\"))","v":""}]
[null,null,null,null,{"$f":"IF(D414=\"\",\"\",DATEDIF(D414,$E$1,\"Y\"))","v":""}]
[null,null,null,null,{"$f":"IF(D415=\"\",\"\",DATEDIF(D415,$E$1,\"Y\"))","v":""}]
[null,null,null,null,{"$f":"IF(D416=\"\",\"\",DATEDIF(D416,$E$1,\"Y\"))","v":""}]
[null,null,null,null,{"$f":"IF(D417=\"\",\"\",DATEDIF(D417,$E$1,\"Y\"))","v":""}]
[null,null,null,null,{"$f":"IF(D418=\"\",\"\",DATEDIF(D418,$E$1,\"Y\"))","v":""}]
[null,null,null,null,{"$f":"IF(D419=\"\",\"\",DATEDIF(D419,$E$1,\"Y\"))","v":""}]
[null,null,null,null,{"$f":"IF(D420=\"\",\"\",DATEDIF(D420,$E$1,\"Y\"))","v":""}]
[null,null,null,null,{"$f":"IF(D421=\"\",\"\",DATEDIF(D421,$E$1,\"Y\"))","v":""}]
[null,null,null,null,{"$f":"IF(D422=\"\",\"\",DATEDIF(D422,$E$1,\"Y\"))","v":""}]
[null,null,null,null,{"$f":"IF(D423=\"\",\"\",DATEDIF(D423,$E$1,\"Y\"))","v":""}]
[null,null,null,null,{"$f":"IF(D424=\"\",\"\",DATEDIF(D424,$E$1,\"Y\"))","v":""}]
[null,null,null,null,{"$f":"IF(D425=\"\",\"\",DATEDIF(D425,$E$1,\"Y\"))","v":""}]
[null,null,null,null,{"$f":"IF(D426=\"\",\"\",DATEDIF(D426,$E$1,\"Y\"))","v":""}]
[null,null,null,null,{"$f":"IF(D427=\"\",\"\",DATEDIF(D427,$E$1,\"Y\"))","v":""}]
[null,null,null,null,{"$f":"IF(D428=\"\",\"\",DATEDIF(D428,$E$1,\"Y\"))","v":""}]
[null,null,null,null,{"$f":"IF(D429=\"\",\"\",DATEDIF(D429,$E$1,\"Y\"))","v":""}]
[null,null,null,null,{"$f":"IF(D430=\"\",\"\",DATEDIF(D430,$E$1,\"Y\"))","v":""}]
[null,null,null,null,{"$f":"IF(D431=\"\",\"\",DATEDIF(D431,$E$1,\"Y\"))","v":""}]
[null,null,null,null,{"$f":"IF(D432=\"\",\"\",DATEDIF(D432,$E$1,\"Y\"))","v":""}]
[null,null,null,null,{"$f":"IF(D433=\"\",\"\",DATEDIF(D433,$E$1,\"Y\"))","v":""}]
[null,null,null,null,{"$f":"IF(D434=\"\",\"\",DATEDIF(D434,$E$1,\"Y\"))","v":""}]
[null,null,null,null,{"$f":"IF(D435=\"\",\"\",DATEDIF(D435,$E$1,\"Y\"))","v":""}]
[null,null,null,null,{"$f":"IF(D436=\"\",\"\",DATEDIF(D436,$E$1,\"Y\"))","v":""}]
[null,null,null,null,{"$f":"IF(D437=\"\",\"\",DATEDIF(D437,$E$1,\"Y\"))","v":""}]
[null,null,null,null,{"$f":"IF(D438=\"\",\"\",DATEDIF(D438,$E$1,\"Y\"))","v":""}]
[null,null,null,null,{"$f":"IF(D439=\"\",\"\",DATEDIF(D439,$E$1,\"Y\"))","v":""}]
[null,null,null,null,{"$f":"IF(D440=\"\",\"\",DATEDIF(D440,$E$1,\"Y\"))","v":""}]
[null,null,null,null,{"$f":"IF(D441=\"\",\"\",DATEDIF(D441,$E$1,\"Y\"))","v":""}]
[null,null,null,null,{"$f":"IF(D442=\"\",\"\",DATEDIF(D442,$E$1,\"Y\"))","v":""}]
[null,null,null,null,{"$f":"IF(D443=\"\",\"\",DATEDIF(D443,$E$1,\"Y\"))","v":""}]
[null,null,null,null,{"$f":"IF(D444=\"\",\"\",DATEDIF(D444,$E$1,\"Y\"))","v":""}]
[null,null,null,null,{"$f":"IF(D445=\"\",\"\",DATEDIF(D445,$E$1,\"Y\"))","v":""}]
[null,null,null,null,{"$f":"IF(D446=\"\",\"\",DATEDIF(D446,$E$1,\"Y\"))","v":""}]
[null,null,null,null,{"$f":"IF(D447=\"\",\"\",DATEDIF(D447,$E$1,\"Y\"))","v":""}]
[null,null,null,null,{"$f":"IF(D448=\"\",\"\",DATEDIF(D448,$E$1,\"Y\"))","v":""}]
[null,null,null,null,{"$f":"IF(D449=\"\",\"\",DATEDIF(D449,$E$1,\"Y\"))","v":""}]
[null,null,null,null,{"$f":"IF(D450=\"\",\"\",DATEDIF(D450,$E$1,\"Y\"))","v":""}]
[null,null,null,null,{"$f":"IF(D451=\"\",\"\",DATEDIF(D451,$E$1,\"Y\"))","v":""}]
[null,null,null,null,{"$f":"IF(D452=\"\",\"\",DATEDIF(D452,$E$1,\"Y\"))","v":""}]
[null,null,null,null,{"$f":"IF(D453=\"\",\"\",DATEDIF(D453,$E$1,\"Y\"))","v":""}]
[null,null,null,null,{"$f":"IF(D454=\"\",\"\",DATEDIF(D454,$E$1,\"Y\"))","v":""}]
[null,null,null,null,{"$f":"IF(D455=\"\",\"\",DATEDIF(D455,$E$1,\"Y\"))","v":""}]
[null,null,null,null,{"$f":"IF(D456=\"\",\"\",DATEDIF(D456,$E$1,\"Y\"))","v":""}]
[null,null,null,null,{"$f":"IF(D457=\"\",\"\",DATEDIF(D457,$E$1,\"Y\"))","v":""}]
[null,null,null,null,{"$f":"IF(D458=\"\",\"\",DATEDIF(D458,$E$1,\"Y\"))","v":""}]
[null,null,null,null,{"$f":"IF(D459=\"\",\"\",DATEDIF(D459,$E$1,\"Y\"))","v":""}]
[null,null,null,null,{"$f":"IF(D460=\"\",\"\",DATEDIF(D460,$E$1,\"Y\"))","v":""}]
[null,null,null,null,{"$f":"IF(D461=\"\",\"\",DATEDIF(D461,$E$1,\"Y\"))","v":""}]
[null,null,null,null,{"$f":"IF(D462=\"\",\"\",DATEDIF(D462,$E$1,\"Y\"))","v":""}]
[null,null,null,null,{"$f":"IF(D463=\"\",\"\",DATEDIF(D463,$E$1,\"Y\"))","v":""}]
[null,null,null,null,{"$f":"IF(D464=\"\",\"\",DATEDIF(D464,$E$1,\"Y\"))","v":""}]
[null,null,null,null,{"$f":"IF(D465=\"\",\"\",DATEDIF(D465,$E$1,\"Y\"))","v":""}]
[null,null,null,null,{"$f":"IF(D466=\"\",\"\",DATEDIF(D466,$E$1,\"Y\"))","v":""}]
[null,null,null,null,{"$f":"IF(D467=\"\",\"\",DATEDIF(D467,$E$1,\"Y\"))","v":""}]
[null,null,null,null,{"$f":"IF(D468=\"\",\"\",DATEDIF(D468,$E$1,\"Y\"))","v":""}]
[null,null,null,null,{"$f":"IF(D469=\"\",\"\",DATEDIF(D469,$E$1,\"Y\"))","v":""}]
[null,null,null,null,{"$f":"IF(D470=\"\",\"\",DATEDIF(D470,$E$1,\"Y\"))","v":""}]
[null,null,null,null,{"$f":"IF(D471=\"\",\"\",DATEDIF(D471,$E$1,\"Y\"))","v":""}]
[null,null,null,null,{"$f":"IF(D472=\"\",\"\",DATEDIF(D472,$E$1,\"Y\"))","v":""}]
[null,null,null,null,{"$f":"IF(D473=\"\",\"\",DATEDIF(D473,$E$1,\"Y\"))","v":""}]
[null,null,null,null,{"$f":"IF(D474=\"\",\"\",DATEDIF(D474,$E$1,\"Y\"))","v":""}]
[null,null,null,null,{"$f":"IF(D475=\"\",\"\",DATEDIF(D475,$E$1,\"Y\"))","v":""}]
[null,null,null,null,{"$f":"IF(D476=\"\",\"\",DATEDIF(D476,$E$1,\"Y\"))","v":""}]
[null,null,null,null,{"$f":"IF(D477=\"\",\"\",DATEDIF(D477,$E$1,\"Y\"))","v":""}]
[null,null,null,null,{"$f":"IF(D478=\"\",\"\",DATEDIF(D478,$E$1,\"Y\"))","v":""}]
[null,null,null,null,{"$f":"IF(D479=\"\",\"\",DATEDIF(D479,$E$1,\"Y\"))","v":""}]
[null,null,null,null,{"$f":"IF(D480=\"\",\"\",DATEDIF(D480,$E$1,\"Y\"))","v":""}]
[null,null,null,null,{"$f":"IF(D481=\"\",\"\",DATEDIF(D481,$E$1,\"Y\"))","v":""}]
[null,null,null,null,{"$f":"IF(D482=\"\",\"\",DATEDIF(D482,$E$1,\"Y\"))","v":""}]
[null,null,null,null,{"$f":"IF(D483=\"\",\"\",DATEDIF(D483,$E$1,\"Y\"))","v":""}]
[null,null,null,null,{"$f":"IF(D484=\"\",\"\",DATEDIF(D484,$E$1,\"Y\"))","v":""}]
[null,null,null,null,{"$f":"IF(D485=\"\",\"\",DATEDIF(D485,$E$1,\"Y\"))","v":""}]
[null,null,null,null,{"$f":"IF(D486=\"\",\"\",DATEDIF(D486,$E$1,\"Y\"))","v":""}]
[null,null,null,null,{"$f":"IF(D487=\"\",\"\",DATEDIF(D487,$E$1,\"Y\"))","v":""}]
[null,null,null,null,{"$f":"IF(D488=\"\",\"\",DATEDIF(D488,$E$1,\"Y\"))","v":""}]
[null,null,null,null,{"$f":"IF(D489=\"\",\"\",DATEDIF(D489,$E$1,\"Y\"))","v":""}]
[null,null,null,null,{"$f":"IF(D490=\"\",\"\",DATEDIF(D490,$E$1,\"Y\"))","v":""}]
[null,null,null,null,{"$f":"IF(D491=\"\",\"\",DATEDIF(D491,$E$1,\"Y\"))","v":""}]
[null,null,null,null,{"$f":"IF(D492=\"\",\"\",DATEDIF(D492,$E$1,\"Y\"))","v":""}]
[null,null,null,null,{"$f":"IF(D493=\"\",\"\",DATEDIF(D493,$E$1,\"Y\"))","v":""}]
[null,null,null,null,{"$f":"IF(D494=\"\",\"\",DATEDIF(D494,$E$1,\"Y\"))","v":""}]
[null,null,null,null,{"$f":"IF(D495=\"\",\"\",DATEDIF(D495,$E$1,\"Y\"))","v":""}]
[null,null,null,null,{"$f":"IF(D496=\"\",\"\",DATEDIF(D496,$E$1,\"Y\"))","v":""}]
[null,null,null,null,{"$f":"IF(D497=\"\",\"\",DATEDIF(D497,$E$1,\"Y\"))","v":""}]
[null,null,null,null,{"$f":"IF(D498=\"\",\"\",DATEDIF(D498,$E$1,\"Y\"))","v":""}]
[null,null,null,null,{"$f":"IF(D499=\"\",\"\",DATEDIF(D499,$E$1,\"Y\"))","v":""}]
[null,null,null,null,{"$f":"IF(D500=\"\",\"\",DATEDIF(D500,$E$1,\"Y\"))","v":""}]
[null,null,null,null,{"$f":"IF(D501=\"\",\"\",DATEDIF(D501,$E$1,\"Y\"))","v":""}]
[null,null,null,null,{"$f":"IF(D502=\"\",\"\",DATEDIF(D502,$E$1,\"Y\"))","v":""}]
[null,null,null,null,{"$f":"IF(D503=\"\",\"\",DATEDIF(D503,$E$1,\"Y\"))","v":""}]
[null,null,null,null,{"$f":"IF(D504=\"\",\"\",DATEDIF(D504,$E$1,\"Y\"))","v":""}]
[null,null,null,null,{"$f":"IF(D505=\"\",\"\",DATEDIF(D505,$E$1,\"Y\"))","v":""}]
[null,null,null,null,{"$f":"IF(D506=\"\",\"\",DATEDIF(D506,$E$1,\"Y\"))","v":""}]
[null,null,null,null,{"$f":"IF(D507=\"\",\"\",DATEDIF(D507,$E$1,\"Y\"))","v":""}]
[null,null,null,null,{"$f":"IF(D508=\"\",\"\",DATEDIF(D508,$E$1,\"Y\"))","v":""}]
[null,null,null,null,{"$f":"IF(D509=\"\",\"\",DATEDIF(D509,$E$1,\"Y\"))","v":""}]
[null,null,null,null,{"$f":"IF(D510=\"\",\"\",DATEDIF(D510,$E$1,\"Y\"))","v":""}]
[null,null,null,null,{"$f":"IF(D511=\"\",\"\",DATEDIF(D511,$E$1,\"Y\"))","v":""}]
[null,null,null,null,{"$f":"IF(D512=\"\",\"\",DATEDIF(D512,$E$1,\"Y\"))","v":""}]
[null,null,null,null,{"$f":"IF(D513=\"\",\"\",DATEDIF(D513,$E$1,\"Y\"))","v":""}]
[null,null,null,null,{"$f":"IF(D514=\"\",\"\",DATEDIF(D514,$E$1,\"Y\"))","v":""}]
[null,null,null,null,{"$f":"IF(D515=\"\",\"\",DATEDIF(D515,$E$1,\"Y\"))","v":""}]
[null,null,null,null,{"$f":"IF(D516=\"\",\"\",DATEDIF(D516,$E$1,\"Y\"))","v":""}]
[null,null,null,null,{"$f":"IF(D517=\"\",\"\",DATEDIF(D517,$E$1,\"Y\"))","v":""}]
[null,null,null,null,{"$f":"IF(D518=\"\",\"\",DATEDIF(D518,$E$1,\"Y\"))","v":""}]
[null,null,null,null,{"$f":"IF(D519=\"\",\"\",DATEDIF(D519,$E$1,\"Y\"))","v":""}]
[null,null,null,null,{"$f":"IF(D520=\"\",\"\",DATEDIF(D520,$E$1,\"Y\"))","v":""}]
[null,null,null,null,{"$f":"IF(D521=\"\",\"\",DATEDIF(D521,$E$1,\"Y\"))","v":""}]
[null,null,null,null,{"$f":"IF(D522=\"\",\"\",DATEDIF(D522,$E$1,\"Y\"))","v":""}]
[null,null,null,null,{"$f":"IF(D523=\"\",\"\",DATEDIF(D523,$E$1,\"Y\"))","v":""}]
[null,null,null,null,{"$f":"IF(D524=\"\",\"\",DATEDIF(D524,$E$1,\"Y\"))","v":""}]
[null,null,null,null,{"$f":"IF(D525=\"\",\"\",DATEDIF(D525,$E$1,\"Y\"))","v":""}]
[null,null,null,null,{"$f":"IF(D526=\"\",\"\",DATEDIF(D526,$E$1,\"Y\"))","v":""}]
[null,null,null,null,{"$f":"IF(D527=\"\",\"\",DATEDIF(D527,$E$1,\"Y\"))","v":""}]
[null,null,null,null,{"$f":"IF(D528=\"\",\"\",DATEDIF(D528,$E$1,\"Y\"))","v":""}]
[null,null,null,null,{"$f":"IF(D529=\"\",\"\",DATEDIF(D529,$E$1,\"Y\"))","v":""}]
[null,null,null,null,{"$f":"IF(D530=\"\",\"\",DATEDIF(D530,$E$1,\"Y\"))","v":""}]
[null,null,null,null,{"$f":"IF(D531=\"\",\"\",DATEDIF(D531,$E$1,\"Y\"))","v":""}]
[null,null,null,null,{"$f":"IF(D532=\"\",\"\",DATEDIF(D532,$E$1,\"Y\"))","v":""}]
[null,null,null,null,{"$f":"IF(D533=\"\",\"\",DATEDIF(D533,$E$1,\"Y\"))","v":""}]
[null,null,null,null,{"$f":"IF(D534=\"\",\"\",DATEDIF(D534,$E$1,\"Y\"))","v":""}]
[null,null,null,null,{"$f":"IF(D535=\"\",\"\",DATEDIF(D535,$E$1,\"Y\"))","v":""}]
[null,null,null,null,{"$f":"IF(D536=\"\",\"\",DATEDIF(D536,$E$1,\"Y\"))","v":""}]
[null,null,null,null,{"$f":"IF(D537=\"\",\"\",DATEDIF(D537,$E$1,\"Y\"))","v":""}]
[null,null,null,null,{"$f":"IF(D538=\"\",\"\",DATEDIF(D538,$E$1,\"Y\"))","v":""}]
[null,null,null,null,{"$f":"IF(D539=\"\",\"\",DATEDIF(D539,$E$1,\"Y\"))","v":""}]
[null,null,null,null,{"$f":"IF(D540=\"\",\"\",DATEDIF(D540,$E$1,\"Y\"))","v":""}]
[null,null,null,null,{"$f":"IF(D541=\"\",\"\",DATEDIF(D541,$E$1,\"Y\"))","v":""}]
[null,null,null,null,{"$f":"IF(D542=\"\",\"\",DATEDIF(D542,$E$1,\"Y\"))","v":""}]
[null,null,null,null,{"$f":"IF(D543=\"\",\"\",DATEDIF(D543,$E$1,\"Y\"))","v":""}]
[null,null,null,null,{"$f":"IF(D544=\"\",\"\",DATEDIF(D544,$E$1,\"Y\"))","v":""}]
[null,null,null,null,{"$f":"IF(D545=\"\",\"\",DATEDIF(D545,$E$1,\"Y\"))","v":""}]
[null,null,null,null,{"$f":"IF(D546=\"\",\"\",DATEDIF(D546,$E$1,\"Y\"))","v":""}]
[null,null,null,null,{"$f":"IF(D547=\"\",\"\",DATEDIF(D547,$E$1,\"Y\"))","v":""}]
[null,null,null,null,{"$f":"IF(D548=\"\",\"\",DATEDIF(D548,$E$1,\"Y\"))","v":""}]
[null,null,null,null,{"$f":"IF(D549=\"\",\"\",DATEDIF(D549,$E$1,\"Y\"))","v":""}]
[null,null,null,null,{"$f":"IF(D550=\"\",\"\",DATEDIF(D550,$E$1,\"Y\"))","v":""}]
[null,null,null,null,{"$f":"IF(D551=\"\",\"\",DATEDIF(D551,$E$1,\"Y\"))","v":""}]
[null,null,null,null,{"$f":"IF(D552=\"\",\"\",DATEDIF(D552,$E$1,\"Y\"))","v":""}]
[null,null,null,null,{"$f":"IF(D553=\"\",\"\",DATEDIF(D553,$E$1,\"Y\"))","v":""}]
[null,null,null,null,{"$f":"IF(D554=\"\",\"\",DATEDIF(D554,$E$1,\"Y\"))","v":""}]
[null,null,null,null,{"$f":"IF(D555=\"\",\"\",DATEDIF(D555,$E$1,\"Y\"))","v":""}]
[null,null,null,null,{"$f":"IF(D556=\"\",\"\",DATEDIF(D556,$E$1,\"Y\"))","v":""}]
[null,null,null,null,{"$f":"IF(D557=\"\",\"\",DATEDIF(D557,$E$1,\"Y\"))","v":""}]
[null,null,null,null,{"$f":"IF(D558=\"\",\"\",DATEDIF(D558,$E$1,\"Y\"))","v":""}]
[null,null,null,null,{"$f":"IF(D559=\"\",\"\",DATEDIF(D559,$E$1,\"Y\"))","v":""}]
[null,null,null,null,{"$f":"IF(D560=\"\",\"\",DATEDIF(D560,$E$1,\"Y\"))","v":""}]
[null,null,null,null,{"$f":"IF(D561=\"\",\"\",DATEDIF(D561,$E$1,\"Y\"))","v":""}]
[null,null,null,null,{"$f":"IF(D562=\"\",\"\",DATEDIF(D562,$E$1,\"Y\"))","v":""}]
[null,null,null,null,{"$f":"IF(D563=\"\",\"\",DATEDIF(D563,$E$1,\"Y\"))","v":""}]
[null,null,null,null,{"$f":"IF(D564=\"\",\"\",DATEDIF(D564,$E$1,\"Y\"))","v":""}]
[null,null,null,null,{"$f":"IF(D565=\"\",\"\",DATEDIF(D565,$E$1,\"Y\"))","v":""}]
[null,null,null,null,{"$f":"IF(D566=\"\",\"\",DATEDIF(D566,$E$1,\"Y\"))","v":""}]
[null,null,null,null,{"$f":"IF(D567=\"\",\"\",DATEDIF(D567,$E$1,\"Y\"))","v":""}]
[null,null,null,null,{"$f":"IF(D568=\"\",\"\",DATEDIF(D568,$E$1,\"Y\"))","v":""}]
[null,null,null,null,{"$f":"IF(D569=\"\",\"\",DATEDIF(D569,$E$1,\"Y\"))","v":""}]
[null,null,null,null,{"$f":"IF(D570=\"\",\"\",DATEDIF(D570,$E$1,\"Y\"))","v":""}]
[null,null,null,null,{"$f":"IF(D571=\"\",\"\",DATEDIF(D571,$E$1,\"Y\"))","v":""}]
[null,null,null,null,{"$f":"IF(D572=\"\",\"\",DATEDIF(D572,$E$1,\"Y\"))","v":""}]
[null,null,null,null,{"$f":"IF(D573=\"\",\"\",DATEDIF(D573,$E$1,\"Y\"))","v":""}]
[null,null,null,null,{"$f":"IF(D574=\"\",\"\",DATEDIF(D574,$E$1,\"Y\"))","v":""}]
[null,null,null,null,{"$f":"IF(D575=\"\",\"\",DATEDIF(D575,$E$1,\"Y\"))","v":""}]
[null,null,null,null,{"$f":"IF(D576=\"\",\"\",DATEDIF(D576,$E$1,\"Y\"))","v":""}]
[null,null,null,null,{"$f":"IF(D577=\"\",\"\",DATEDIF(D577,$E$1,\"Y\"))","v":""}]
[null,null,null,null,{"$f":"IF(D578=\"\",\"\",DATEDIF(D578,$E$1,\"Y\"))","v":""}]
[null,null,null,null,{"$f":"IF(D579=\"\",\"\",DATEDIF(D579,$E$1,\"Y\"))","v":""}]
[null,null,null,null,{"$f":"IF(D580=\"\",\"\",DATEDIF(D580,$E$1,\"Y\"))","v":""}]
[null,null,null,null,{"$f":"IF(D581=\"\",\"\",DATEDIF(D581,$E$1,\"Y\"))","v":""}]
[null,null,null,null,{"$f":"IF(D582=\"\",\"\",DATEDIF(D582,$E$1,\"Y\"))","v":""}]
[null,null,null,null,{"$f":"IF(D583=\"\",\"\",DATEDIF(D583,$E$1,\"Y\"))","v":""}]
[null,null,null,null,{"$f":"IF(D584=\"\",\"\",DATEDIF(D584,$E$1,\"Y\"))","v":""}]
[null,null,null,null,{"$f":"IF(D585=\"\",\"\",DATEDIF(D585,$E$1,\"Y\"))","v":""}]
[null,null,null,null,{"$f":"IF(D586=\"\",\"\",DATEDIF(D586,$E$1,\"Y\"))","v":""}]
[null,null,null,null,{"$f":"IF(D587=\"\",\"\",DATEDIF(D587,$E$1,\"Y\"))","v":""}]
[null,null,null,null,{"$f":"IF(D588=\"\",\"\",DATEDIF(D588,$E$1,\"Y\"))","v":""}]
[null,null,null,null,{"$f":"IF(D589=\"\",\"\",DATEDIF(D589,$E$1,\"Y\"))","v":""}]
[null,null,null,null,{"$f":"IF(D590=\"\",\"\",DATEDIF(D590,$E$1,\"Y\"))","v":""}]
[null,null,null,null,{"$f":"IF(D591=\"\",\"\",DATEDIF(D591,$E$1,\"Y\"))","v":""}]
[null,null,null,null,{"$f":"IF(D592=\"\",\"\",DATEDIF(D592,$E$1,\"Y\"))","v":""}]
[null,null,null,null,{"$f":"IF(D593=\"\",\"\",DATEDIF(D593,$E$1,\"Y\"))","v":""}]
[null,null,null,null,{"$f":"IF(D594=\"\",\"\",DATEDIF(D594,$E$1,\"Y\"))","v":""}]
[null,null,null,null,{"$f":"IF(D595=\"\",\"\",DATEDIF(D595,$E$1,\"Y\"))","v":""}]
[null,null,null,null,{"$f":"IF(D596=\"\",\"\",DATEDIF(D596,$E$1,\"Y\"))","v":""}]
[null,null,null,null,{"$f":"IF(D597=\"\",\"\",DATEDIF(D597,$E$1,\"Y\"))","v":""}]
[null,null,null,null,{"$f":"IF(D598=\"\",\"\",DATEDIF(D598,$E$1,\"Y\"))","v":""}]
[null,null,null,null,{"$f":"IF(D599=\"\",\"\",DATEDIF(D599,$E$1,\"Y\"))","v":""}]
[null,null,null,null,{"$f":"IF(D600=\"\",\"\",DATEDIF(D600,$E$1,\"Y\"))","v":""}]
[null,null,null,null,{"$f":"IF(D601=\"\",\"\",DATEDIF(D601,$E$1,\"Y\"))","v":""}]
[null,null,null,null,{"$f":"IF(D602=\"\",\"\",DATEDIF(D602,$E$1,\"Y\"))","v":""}]
[null,null,null,null,{"$f":"IF(D603=\"\",\"\",DATEDIF(D603,$E$1,\"Y\"))","v":""}]
[null,null,null,null,{"$f":"IF(D604=\"\",\"\",DATEDIF(D604,$E$1,\"Y\"))","v":""}]
[null,null,null,null,{"$f":"IF(D605=\"\",\"\",DATEDIF(D605,$E$1,\"Y\"))","v":""}]
[null,null,null,null,{"$f":"IF(D606=\"\",\"\",DATEDIF(D606,$E$1,\"Y\"))","v":""}]
[null,null,null,null,{"$f":"IF(D607=\"\",\"\",DATEDIF(D607,$E$1,\"Y\"))","v":""}]
[null,null,null,null,{"$f":"IF(D608=\"\",\"\",DATEDIF(D608,$E$1,\"Y\"))","v":""}]
[null,null,null,null,{"$f":"IF(D609=\"\",\"\",DATEDIF(D609,$E$1,\"Y\"))","v":""}]
[null,null,null,null,{"$f":"IF(D610=\"\",\"\",DATEDIF(D610,$E$1,\"Y\"))","v":""}]
[null,null,null,null,{"$f":"IF(D611=\"\",\"\",DATEDIF(D611,$E$1,\"Y\"))","v":""}]
[null,null,null,null,{"$f":"IF(D612=\"\",\"\",DATEDIF(D612,$E$1,\"Y\"))","v":""}]
[null,null,null,null,{"$f":"IF(D613=\"\",\"\",DATEDIF(D613,$E$1,\"Y\"))","v":""}]
[null,null,null,null,{"$f":"IF(D614=\"\",\"\",DATEDIF(D614,$E$1,\"Y\"))","v":""}]
[null,null,null,null,{"$f":"IF(D615=\"\",\"\",DATEDIF(D615,$E$1,\"Y\"))","v":""}]
[null,null,null,null,{"$f":"IF(D616=\"\",\"\",DATEDIF(D616,$E$1,\"Y\"))","v":""}]
[null,null,null,null,{"$f":"IF(D617=\"\",\"\",DATEDIF(D617,$E$1,\"Y\"))","v":""}]
[null,null,null,null,{"$f":"IF(D618=\"\",\"\",DATEDIF(D618,$E$1,\"Y\"))","v":""}]
[null,null,null,null,{"$f":"IF(D619=\"\",\"\",DATEDIF(D619,$E$1,\"Y\"))","v":""}]
[null,null,null,null,{"$f":"IF(D620=\"\",\"\",DATEDIF(D620,$E$1,\"Y\"))","v":""}]
[null,null,null,null,{"$f":"IF(D621=\"\",\"\",DATEDIF(D621,$E$1,\"Y\"))","v":""}]
[null,null,null,null,{"$f":"IF(D622=\"\",\"\",DATEDIF(D622,$E$1,\"Y\"))","v":""}]
[null,null,null,null,{"$f":"IF(D623=\"\",\"\",DATEDIF(D623,$E$1,\"Y\"))","v":""}]
[null,null,null,null,{"$f":"IF(D624=\"\",\"\",DATEDIF(D624,$E$1,\"Y\"))","v":""}]
[null,null,null,null,{"$f":"IF(D625=\"\",\"\",DATEDIF(D625,$E$1,\"Y\"))","v":""}]
[null,null,null,null,{"$f":"IF(D626=\"\",\"\",DATEDIF(D626,$E$1,\"Y\"))","v":""}]
[null,null,null,null,{"$f":"IF(D627=\"\",\"\",DATEDIF(D627,$E$1,\"Y\"))","v":""}]
[null,null,null,null,{"$f":"IF(D628=\"\",\"\",DATEDIF(D628,$E$1,\"Y\"))","v":""}]
[null,null,null,null,{"$f":"IF(D629=\"\",\"\",DATEDIF(D629,$E$1,\"Y\"))","v":""}]
[null,null,null,null,{"$f":"IF(D630=\"\",\"\",DATEDIF(D630,$E$1,\"Y\"))","v":""}]
[null,null,null,null,{"$f":"IF(D631=\"\",\"\",DATEDIF(D631,$E$1,\"Y\"))","v":""}]
[null,null,null,null,{"$f":"IF(D632=\"\",\"\",DATEDIF(D632,$E$1,\"Y\"))","v":""}]
[null,null,null,null,{"$f":"IF(D633=\"\",\"\",DATEDIF(D633,$E$1,\"Y\"))","v":""}]
[null,null,null,null,{"$f":"IF(D634=\"\",\"\",DATEDIF(D634,$E$1,\"Y\"))","v":""}]
[null,null,null,null,{"$f":"IF(D635=\"\",\"\",DATEDIF(D635,$E$1,\"Y\"))","v":""}]
[null,null,null,null,{"$f":"IF(D636=\"\",\"\",DATEDIF(D636,$E$1,\"Y\"))","v":""}]
[null,null,null,null,{"$f":"IF(D637=\"\",\"\",DATEDIF(D637,$E$1,\"Y\"))","v":""}]
[null,null,null,null,{"$f":"IF(D638=\"\",\"\",DATEDIF(D638,$E$1,\"Y\"))","v":""}]
[null,null,null,null,{"$f":"IF(D639=\"\",\"\",DATEDIF(D639,$E$1,\"Y\"))","v":""}]
[null,null,null,null,{"$f":"IF(D640=\"\",\"\",DATEDIF(D640,$E$1,\"Y\"))","v":""}]
[null,null,null,null,{"$f":"IF(D641=\"\",\"\",DATEDIF(D641,$E$1,\"Y\"))","v":""}]
[null,null,null,null,{"$f":"IF(D642=\"\",\"\",DATEDIF(D642,$E$1,\"Y\"))","v":""}]
[null,null,null,null,{"$f":"IF(D643=\"\",\"\",DATEDIF(D643,$E$1,\"Y\"))","v":""}]
[null,null,null,null,{"$f":"IF(D644=\"\",\"\",DATEDIF(D644,$E$1,\"Y\"))","v":""}]
[null,null,null,null,{"$f":"IF(D645=\"\",\"\",DATEDIF(D645,$E$1,\"Y\"))","v":""}]
[null,null,null,null,{"$f":"IF(D646=\"\",\"\",DATEDIF(D646,$E$1,\"Y\"))","v":""}]
[null,null,null,null,{"$f":"IF(D647=\"\",\"\",DATEDIF(D647,$E$1,\"Y\"))","v":""}]
[null,null,null,null,{"$f":"IF(D648=\"\",\"\",DATEDIF(D648,$E$1,\"Y\"))","v":""}]
[null,null,null,null,{"$f":"IF(D649=\"\",\"\",DATEDIF(D649,$E$1,\"Y\"))","v":""}]
[null,null,null,null,{"$f":"IF(D650=\"\",\"\",DATEDIF(D650,$E$1,\"Y\"))","v":""}]
[null,null,null,null,{"$f":"IF(D651=\"\",\"\",DATEDIF(D651,$E$1,\"Y\"))","v":""}]
[null,null,null,null,{"$f":"IF(D652=\"\",\"\",DATEDIF(D652,$E$1,\"Y\"))","v":""}]
[null,null,null,null,{"$f":"IF(D653=\"\",\"\",DATEDIF(D653,$E$1,\"Y\"))","v":""}]
[null,null,null,null,{"$f":"IF(D654=\"\",\"\",DATEDIF(D654,$E$1,\"Y\"))","v":""}]
[null,null,null,null,{"$f":"IF(D655=\"\",\"\",DATEDIF(D655,$E$1,\"Y\"))","v":""}]
[null,null,null,null,{"$f":"IF(D656=\"\",\"\",DATEDIF(D656,$E$1,\"Y\"))","v":""}]
[null,null,null,null,{"$f":"IF(D657=\"\",\"\",DATEDIF(D657,$E$1,\"Y\"))","v":""}]
[null,null,null,null,{"$f":"IF(D658=\"\",\"\",DATEDIF(D658,$E$1,\"Y\"))","v":""}]
[null,null,null,null,{"$f":"IF(D659=\"\",\"\",DATEDIF(D659,$E$1,\"Y\"))","v":""}]
[null,null,null,null,{"$f":"IF(D660=\"\",\"\",DATEDIF(D660,$E$1,\"Y\"))","v":""}]
[null,null,null,null,{"$f":"IF(D661=\"\",\"\",DATEDIF(D661,$E$1,\"Y\"))","v":""}]
[null,null,null,null,{"$f":"IF(D662=\"\",\"\",DATEDIF(D662,$E$1,\"Y\"))","v":""}]
[null,null,null,null,{"$f":"IF(D663=\"\",\"\",DATEDIF(D663,$E$1,\"Y\"))","v":""}]
[null,null,null,null,{"$f":"IF(D664=\"\",\"\",DATEDIF(D664,$E$1,\"Y\"))","v":""}]
[null,null,null,null,{"$f":"IF(D665=\"\",\"\",DATEDIF(D665,$E$1,\"Y\"))","v":""}]
[null,null,null,null,{"$f":"IF(D666=\"\",\"\",DATEDIF(D666,$E$1,\"Y\"))","v":""}]
[null,null,null,null,{"$f":"IF(D667=\"\",\"\",DATEDIF(D667,$E$1,\"Y\"))","v":""}]
[null,null,null,null,{"$f":"IF(D668=\"\",\"\",DATEDIF(D668,$E$1,\"Y\"))","v":""}]
[null,null,null,null,{"$f":"IF(D669=\"\",\"\",DATEDIF(D669,$E$1,\"Y\"))","v":""}]
[null,null,null,null,{"$f":"IF(D670=\"\",\"\",DATEDIF(D670,$E$1,\"Y\"))","v":""}]
[null,null,null,null,{"$f":"IF(D671=\"\",\"\",DATEDIF(D671,$E$1,\"Y\"))","v":""}]
[null,null,null,null,{"$f":"IF(D672=\"\",\"\",DATEDIF(D672,$E$1,\"Y\"))","v":""}]
[null,null,null,null,{"$f":"IF(D673=\"\",\"\",DATEDIF(D673,$E$1,\"Y\"))","v":""}]
[null,null,null,null,{"$f":"IF(D674=\"\",\"\",DATEDIF(D674,$E$1,\"Y\"))","v":""}]
[null,null,null,null,{"$f":"IF(D675=\"\",\"\",DATEDIF(D675,$E$1,\"Y\"))","v":""}]
[null,null,null,null,{"$f":"IF(D676=\"\",\"\",DATEDIF(D676,$E$1,\"Y\"))","v":""}]
[null,null,null,null,{"$f":"IF(D677=\"\",\"\",DATEDIF(D677,$E$1,\"Y\"))","v":""}]
[null,null,null,null,{"$f":"IF(D678=\"\",\"\",DATEDIF(D678,$E$1,\"Y\"))","v":""}]
[null,null,null,null,{"$f":"IF(D679=\"\",\"\",DATEDIF(D679,$E$1,\"Y\"))","v":""}]
[null,null,null,null,{"$f":"IF(D680=\"\",\"\",DATEDIF(D680,$E$1,\"Y\"))","v":""}]
[null,null,null,null,{"$f":"IF(D681=\"\",\"\",DATEDIF(D681,$E$1,\"Y\"))","v":""}]
[null,null,null,null,{"$f":"IF(D682=\"\",\"\",DATEDIF(D682,$E$1,\"Y\"))","v":""}]
[null,null,null,null,{"$f":"IF(D683=\"\",\"\",DATEDIF(D683,$E$1,\"Y\"))","v":""}]
[null,null,null,null,{"$f":"IF(D684=\"\",\"\",DATEDIF(D684,$E$1,\"Y\"))","v":""}]
[null,null,null,null,{"$f":"IF(D685=\"\",\"\",DATEDIF(D685,$E$1,\"Y\"))","v":""}]
[null,null,null,null,{"$f":"IF(D686=\"\",\"\",DATEDIF(D686,$E$1,\"Y\"))","v":""}]
[null,null,null,null,{"$f":"IF(D687=\"\",\"\",DATEDIF(D687,$E$1,\"Y\"))","v":""}]
[null,null,null,null,{"$f":"IF(D688=\"\",\"\",DATEDIF(D688,$E$1,\"Y\"))","v":""}]
[null,null,null,null,{"$f":"IF(D689=\"\",\"\",DATEDIF(D689,$E$1,\"Y\"))","v":""}]
[null,null,null,null,{"$f":"IF(D690=\"\",\"\",DATEDIF(D690,$E$1,\"Y\"))","v":""}]
[null,null,null,null,{"$f":"IF(D691=\"\",\"\",DATEDIF(D691,$E$1,\"Y\"))","v":""}]
[null,null,null,null,{"$f":"IF(D692=\"\",\"\",DATEDIF(D692,$E$1,\"Y\"))","v":""}]
[null,null,null,null,{"$f":"IF(D693=\"\",\"\",DATEDIF(D693,$E$1,\"Y\"))","v":""}]
[null,null,null,null,{"$f":"IF(D694=\"\",\"\",DATEDIF(D694,$E$1,\"Y\"))","v":""}]
[null,null,null,null,{"$f":"IF(D695=\"\",\"\",DATEDIF(D695,$E$1,\"Y\"))","v":""}]
[null,null,null,null,{"$f":"IF(D696=\"\",\"\",DATEDIF(D696,$E$1,\"Y\"))","v":""}]
[null,null,null,null,{"$f":"IF(D697=\"\",\"\",DATEDIF(D697,$E$1,\"Y\"))","v":""}]
[null,null,null,null,{"$f":"IF(D698=\"\",\"\",DATEDIF(D698,$E$1,\"Y\"))","v":""}]
[null,null,null,null,{"$f":"IF(D699=\"\",\"\",DATEDIF(D699,$E$1,\"Y\"))","v":""}]
[null,null,null,null,{"$f":"IF(D700=\"\",\"\",DATEDIF(D700,$E$1,\"Y\"))","v":""}]
[null,null,null,null,{"$f":"IF(D701=\"\",\"\",DATEDIF(D701,$E$1,\"Y\"))","v":""}]
[null,null,null,null,{"$f":"IF(D702=\"\",\"\",DATEDIF(D702,$E$1,\"Y\"))","v":""}]
[null,null,null,null,{"$f":"IF(D703=\"\",\"\",DATEDIF(D703,$E$1,\"Y\"))","v":""}]
[null,null,null,null,{"$f":"IF(D704=\"\",\"\",DATEDIF(D704,$E$1,\"Y\"))","v":""}]
[null,null,null,null,{"$f":"IF(D705=\"\",\"\",DATEDIF(D705,$E$1,\"Y\"))","v":""}]
[null,null,null,null,{"$f":"IF(D706=\"\",\"\",DATEDIF(D706,$E$1,\"Y\"))","v":""}]
[null,null,null,null,{"$f":"IF(D707=\"\",\"\",DATEDIF(D707,$E$1,\"Y\"))","v":""}]
[null,null,null,null,{"$f":"IF(D708=\"\",\"\",DATEDIF(D708,$E$1,\"Y\"))","v":""}]
[null,null,null,null,{"$f":"IF(D709=\"\",\"\",DATEDIF(D709,$E$1,\"Y\"))","v":""}]
[null,null,null,null,{"$f":"IF(D710=\"\",\"\",DATEDIF(D710,$E$1,\"Y\"))","v":""}]
[null,null,null,null,{"$f":"IF(D711=\"\",\"\",DATEDIF(D711,$E$1,\"Y\"))","v":""}]
[null,null,null,null,{"$f":"IF(D712=\"\",\"\",DATEDIF(D712,$E$1,\"Y\"))","v":""}]
[null,null,null,null,{"$f":"IF(D713=\"\",\"\",DATEDIF(D713,$E$1,\"Y\"))","v":""}]
[null,null,null,null,{"$f":"IF(D714=\"\",\"\",DATEDIF(D714,$E$1,\"Y\"))","v":""}]
[null,null,null,null,{"$f":"IF(D715=\"\",\"\",DATEDIF(D715,$E$1,\"Y\"))","v":""}]
[null,null,null,null,{"$f":"IF(D716=\"\",\"\",DATEDIF(D716,$E$1,\"Y\"))","v":""}]
[null,null,null,null,{"$f":"IF(D717=\"\",\"\",DATEDIF(D717,$E$1,\"Y\"))","v":""}]
[null,null,null,null,{"$f":"IF(D718=\"\",\"\",DATEDIF(D718,$E$1,\"Y\"))","v":""}]
[null,null,null,null,{"$f":"IF(D719=\"\",\"\",DATEDIF(D719,$E$1,\"Y\"))","v":""}]
[null,null,null,null,{"$f":"IF(D720=\"\",\"\",DATEDIF(D720,$E$1,\"Y\"))","v":""}]
[null,null,null,null,{"$f":"IF(D721=\"\",\"\",DATEDIF(D721,$E$1,\"Y\"))","v":""}]
[null,null,null,null,{"$f":"IF(D722=\"\",\"\",DATEDIF(D722,$E$1,\"Y\"))","v":""}]
[null,null,null,null,{"$f":"IF(D723=\"\",\"\",DATEDIF(D723,$E$1,\"Y\"))","v":""}]
[null,null,null,null,{"$f":"IF(D724=\"\",\"\",DATEDIF(D724,$E$1,\"Y\"))","v":""}]
[null,null,null,null,{"$f":"IF(D725=\"\",\"\",DATEDIF(D725,$E$1,\"Y\"))","v":""}]
[null,null,null,null,{"$f":"IF(D726=\"\",\"\",DATEDIF(D726,$E$1,\"Y\"))","v":""}]
[null,null,null,null,{"$f":"IF(D727=\"\",\"\",DATEDIF(D727,$E$1,\"Y\"))","v":""}]
[null,null,null,null,{"$f":"IF(D728=\"\",\"\",DATEDIF(D728,$E$1,\"Y\"))","v":""}]
[null,null,null,null,{"$f":"IF(D729=\"\",\"\",DATEDIF(D729,$E$1,\"Y\"))","v":""}]
[null,null,null,null,{"$f":"IF(D730=\"\",\"\",DATEDIF(D730,$E$1,\"Y\"))","v":""}]
[null,null,null,null,{"$f":"IF(D731=\"\",\"\",DATEDIF(D731,$E$1,\"Y\"))","v":""}]
[null,null,null,null,{"$f":"IF(D732=\"\",\"\",DATEDIF(D732,$E$1,\"Y\"))","v":""}]
[null,null,null,null,{"$f":"IF(D733=\"\",\"\",DATEDIF(D733,$E$1,\"Y\"))","v":""}]
[null,null,null,null,{"$f":"IF(D734=\"\",\"\",DATEDIF(D734,$E$1,\"Y\"))","v":""}]
[null,null,null,null,{"$f":"IF(D735=\"\",\"\",DATEDIF(D735,$E$1,\"Y\"))","v":""}]
[null,null,null,null,{"$f":"IF(D736=\"\",\"\",DATEDIF(D736,$E$1,\"Y\"))","v":""}]
[null,null,null,null,{"$f":"IF(D737=\"\",\"\",DATEDIF(D737,$E$1,\"Y\"))","v":""}]
[null,null,null,null,{"$f":"IF(D738=\"\",\"\",DATEDIF(D738,$E$1,\"Y\"))","v":""}]
[null,null,null,null,{"$f":"IF(D739=\"\",\"\",DATEDIF(D739,$E$1,\"Y\"))","v":""}]
[null,null,null,null,{"$f":"IF(D740=\"\",\"\",DATEDIF(D740,$E$1,\"Y\"))","v":""}]
[null,null,null,null,{"$f":"IF(D741=\"\",\"\",DATEDIF(D741,$E$1,\"Y\"))","v":""}]
[null,null,null,null,{"$f":"IF(D742=\"\",\"\",DATEDIF(D742,$E$1,\"Y\"))","v":""}]
[null,null,null,null,{"$f":"IF(D743=\"\",\"\",DATEDIF(D743,$E$1,\"Y\"))","v":""}]
[null,null,null,null,{"$f":"IF(D744=\"\",\"\",DATEDIF(D744,$E$1,\"Y\"))","v":""}]
[null,null,null,null,{"$f":"IF(D745=\"\",\"\",DATEDIF(D745,$E$1,\"Y\"))","v":""}]
[null,null,null,null,{"$f":"IF(D746=\"\",\"\",DATEDIF(D746,$E$1,\"Y\"))","v":""}]
[null,null,null,null,{"$f":"IF(D747=\"\",\"\",DATEDIF(D747,$E$1,\"Y\"))","v":""}]
[null,null,null,null,{"$f":"IF(D748=\"\",\"\",DATEDIF(D748,$E$1,\"Y\"))","v":""}]
[null,null,null,null,{"$f":"IF(D749=\"\",\"\",DATEDIF(D749,$E$1,\"Y\"))","v":""}]
[null,null,null,null,{"$f":"IF(D750=\"\",\"\",DATEDIF(D750,$E$1,\"Y\"))","v":""}]
[null,null,null,null,{"$f":"IF(D751=\"\",\"\",DATEDIF(D751,$E$1,\"Y\"))","v":""}]
[null,null,null,null,{"$f":"IF(D752=\"\",\"\",DATEDIF(D752,$E$1,\"Y\"))","v":""}]
[null,null,null,null,{"$f":"IF(D753=\"\",\"\",DATEDIF(D753,$E$1,\"Y\"))","v":""}]
[null,null,null,null,{"$f":"IF(D754=\"\",\"\",DATEDIF(D754,$E$1,\"Y\"))","v":""}]
[null,null,null,null,{"$f":"IF(D755=\"\",\"\",DATEDIF(D755,$E$1,\"Y\"))","v":""}]
[null,null,null,null,{"$f":"IF(D756=\"\",\"\",DATEDIF(D756,$E$1,\"Y\"))","v":""}]
[null,null,null,null,{"$f":"IF(D757=\"\",\"\",DATEDIF(D757,$E$1,\"Y\"))","v":""}]
[null,null,null,null,{"$f":"IF(D758=\"\",\"\",DATEDIF(D758,$E$1,\"Y\"))","v":""}]
[null,null,null,null,{"$f":"IF(D759=\"\",\"\",DATEDIF(D759,$E$1,\"Y\"))","v":""}]
[null,null,null,null,{"$f":"IF(D760=\"\",\"\",DATEDIF(D760,$E$1,\"Y\"))","v":""}]
[null,null,null,null,{"$f":"IF(D761=\"\",\"\",DATEDIF(D761,$E$1,\"Y\"))","v":""}]
[null,null,null,null,{"$f":"IF(D762=\"\",\"\",DATEDIF(D762,$E$1,\"Y\"))","v":""}]
[null,null,null,null,{"$f":"IF(D763=\"\",\"\",DATEDIF(D763,$E$1,\"Y\"))","v":""}]
[null,null,null,null,{"$f":"IF(D764=\"\",\"\",DATEDIF(D764,$E$1,\"Y\"))","v":""}]
[null,null,null,null,{"$f":"IF(D765=\"\",\"\",DATEDIF(D765,$E$1,\"Y\"))","v":""}]
[null,null,null,null,{"$f":"IF(D766=\"\",\"\",DATEDIF(D766,$E$1,\"Y\"))","v":""}]
[null,null,null,null,{"$f":"IF(D767=\"\",\"\",DATEDIF(D767,$E$1,\"Y\"))","v":""}]
[null,null,null,null,{"$f":"IF(D768=\"\",\"\",DATEDIF(D768,$E$1,\"Y\"))","v":""}]
[null,null,null,null,{"$f":"IF(D769=\"\",\"\",DATEDIF(D769,$E$1,\"Y\"))","v":""}]
[null,null,null,null,{"$f":"IF(D770=\"\",\"\",DATEDIF(D770,$E$1,\"Y\"))","v":""}]
[null,null,null,null,{"$f":"IF(D771=\"\",\"\",DATEDIF(D771,$E$1,\"Y\"))","v":""}]
[null,null,null,null,{"$f":"IF(D772=\"\",\"\",DATEDIF(D772,$E$1,\"Y\"))","v":""}]
[null,null,null,null,{"$f":"IF(D773=\"\",\"\",DATEDIF(D773,$E$1,\"Y\"))","v":""}]
[null,null,null,null,{"$f":"IF(D774=\"\",\"\",DATEDIF(D774,$E$1,\"Y\"))","v":""}]
[null,null,null,null,{"$f":"IF(D775=\"\",\"\",DATEDIF(D775,$E$1,\"Y\"))","v":""}]
[null,null,null,null,{"$f":"IF(D776=\"\",\"\",DATEDIF(D776,$E$1,\"Y\"))","v":""}]
[null,null,null,null,{"$f":"IF(D777=\"\",\"\",DATEDIF(D777,$E$1,\"Y\"))","v":""}]
[null,null,null,null,{"$f":"IF(D778=\"\",\"\",DATEDIF(D778,$E$1,\"Y\"))","v":""}]
[null,null,null,null,{"$f":"IF(D779=\"\",\"\",DATEDIF(D779,$E$1,\"Y\"))","v":""}]
[null,null,null,null,{"$f":"IF(D780=\"\",\"\",DATEDIF(D780,$E$1,\"Y\"))","v":""}]
[null,null,null,null,{"$f":"IF(D781=\"\",\"\",DATEDIF(D781,$E$1,\"Y\"))","v":""}]
[null,null,null,null,{"$f":"IF(D782=\"\",\"\",DATEDIF(D782,$E$1,\"Y\"))","v":""}]
[null,null,null,null,{"$f":"IF(D783=\"\",\"\",DATEDIF(D783,$E$1,\"Y\"))","v":""}]
[null,null,null,null,{"$f":"IF(D784=\"\",\"\",DATEDIF(D784,$E$1,\"Y\"))","v":""}]
[null,null,null,null,{"$f":"IF(D785=\"\",\"\",DATEDIF(D785,$E$1,\"Y\"))","v":""}]
[null,null,null,null,{"$f":"IF(D786=\"\",\"\",DATEDIF(D786,$E$1,\"Y\"))","v":""}]
[null,null,null,null,{"$f":"IF(D787=\"\",\"\",DATEDIF(D787,$E$1,\"Y\"))","v":""}]
[null,null,null,null,{"$f":"IF(D788=\"\",\"\",DATEDIF(D788,$E$1,\"Y\"))","v":""}]
[null,null,null,null,{"$f":"IF(D789=\"\",\"\",DATEDIF(D789,$E$1,\"Y\"))","v":""}]
[null,null,null,null,{"$f":"IF(D790=\"\",\"\",DATEDIF(D790,$E$1,\"Y\"))","v":""}]
[null,null,null,null,{"$f":"IF(D791=\"\",\"\",DATEDIF(D791,$E$1,\"Y\"))","v":""}]
[null,null,null,null,{"$f":"IF(D792=\"\",\"\",DATEDIF(D792,$E$1,\"Y\"))","v":""}]
[null,null,null,null,{"$f":"IF(D793=\"\",\"\",DATEDIF(D793,$E$1,\"Y\"))","v":""}]
[null,null,null,null,{"$f":"IF(D794=\"\",\"\",DATEDIF(D794,$E$1,\"Y\"))","v":""}]
[null,null,null,null,{"$f":"IF(D795=\"\",\"\",DATEDIF(D795,$E$1,\"Y\"))","v":""}]
[null,null,null,null,{"$f":"IF(D796=\"\",\"\",DATEDIF(D796,$E$1,\"Y\"))","v":""}]
[null,null,null,null,{"$f":"IF(D797=\"\",\"\",DATEDIF(D797,$E$1,\"Y\"))","v":""}]
[null,null,null,null,{"$f":"IF(D798=\"\",\"\",DATEDIF(D798,$E$1,\"Y\"))","v":""}]
[null,null,null,null,{"$f":"IF(D799=\"\",\"\",DATEDIF(D799,$E$1,\"Y\"))","v":""}]
[null,null,null,null,{"$f":"IF(D800=\"\",\"\",DATEDIF(D800,$E$1,\"Y\"))","v":""}]
[null,null,null,null,{"$f":"IF(D801=\"\",\"\",DATEDIF(D801,$E$1,\"Y\"))","v":""}]
[null,null,null,null,{"$f":"IF(D802=\"\",\"\",DATEDIF(D802,$E$1,\"Y\"))","v":""}]
[null,null,null,null,{"$f":"IF(D803=\"\",\"\",DATEDIF(D803,$E$1,\"Y\"))","v":""}]
[null,null,null,null,{"$f":"IF(D804=\"\",\"\",DATEDIF(D804,$E$1,\"Y\"))","v":""}]
[null,null,null,null,{"$f":"IF(D805=\"\",\"\",DATEDIF(D805,$E$1,\"Y\"))","v":""}]
[null,null,null,null,{"$f":"IF(D806=\"\",\"\",DATEDIF(D806,$E$1,\"Y\"))","v":""}]
[null,null,null,null,{"$f":"IF(D807=\"\",\"\",DATEDIF(D807,$E$1,\"Y\"))","v":""}]
[null,null,null,null,{"$f":"IF(D808=\"\",\"\",DATEDIF(D808,$E$1,\"Y\"))","v":""}]
[null,null,null,null,{"$f":"IF(D809=\"\",\"\",DATEDIF(D809,$E$1,\"Y\"))","v":""}]
[null,null,null,null,{"$f":"IF(D810=\"\",\"\",DATEDIF(D810,$E$1,\"Y\"))","v":""}]
[null,null,null,null,{"$f":"IF(D811=\"\",\"\",DATEDIF(D811,$E$1,\"Y\"))","v":""}]
[null,null,null,null,{"$f":"IF(D812=\"\",\"\",DATEDIF(D812,$E$1,\"Y\"))","v":""}]
[null,null,null,null,{"$f":"IF(D813=\"\",\"\",DATEDIF(D813,$E$1,\"Y\"))","v":""}]
[null,null,null,null,{"$f":"IF(D814=\"\",\"\",DATEDIF(D814,$E$1,\"Y\"))","v":""}]
[null,null,null,null,{"$f":"IF(D815=\"\",\"\",DATEDIF(D815,$E$1,\"Y\"))","v":""}]
[null,null,null,null,{"$f":"IF(D816=\"\",\"\",DATEDIF(D816,$E$1,\"Y\"))","v":""}]
[null,null,null,null,{"$f":"IF(D817=\"\",\"\",DATEDIF(D817,$E$1,\"Y\"))","v":""}]
[null,null,null,null,{"$f":"IF(D818=\"\",\"\",DATEDIF(D818,$E$1,\"Y\"))","v":""}]
[null,null,null,null,{"$f":"IF(D819=\"\",\"\",DATEDIF(D819,$E$1,\"Y\"))","v":""}]
[null,null,null,null,{"$f":"IF(D820=\"\",\"\",DATEDIF(D820,$E$1,\"Y\"))","v":""}]
[null,null,null,null,{"$f":"IF(D821=\"\",\"\",DATEDIF(D821,$E$1,\"Y\"))","v":""}]
[null,null,null,null,{"$f":"IF(D822=\"\",\"\",DATEDIF(D822,$E$1,\"Y\"))","v":""}]
[null,null,null,null,{"$f":"IF(D823=\"\",\"\",DATEDIF(D823,$E$1,\"Y\"))","v":""}]
[null,null,null,null,{"$f":"IF(D824=\"\",\"\",DATEDIF(D824,$E$1,\"Y\"))","v":""}]
[null,null,null,null,{"$f":"IF(D825=\"\",\"\",DATEDIF(D825,$E$1,\"Y\"))","v":""}]
[null,null,null,null,{"$f":"IF(D826=\"\",\"\",DATEDIF(D826,$E$1,\"Y\"))","v":""}]
[null,null,null,null,{"$f":"IF(D827=\"\",\"\",DATEDIF(D827,$E$1,\"Y\"))","v":""}]
[null,null,null,null,{"$f":"IF(D828=\"\",\"\",DATEDIF(D828,$E$1,\"Y\"))","v":""}]
[null,null,null,null,{"$f":"IF(D829=\"\",\"\",DATEDIF(D829,$E$1,\"Y\"))","v":""}]
[null,null,null,null,{"$f":"IF(D830=\"\",\"\",DATEDIF(D830,$E$1,\"Y\"))","v":""}]
[null,null,null,null,{"$f":"IF(D831=\"\",\"\",DATEDIF(D831,$E$1,\"Y\"))","v":""}]
[null,null,null,null,{"$f":"IF(D832=\"\",\"\",DATEDIF(D832,$E$1,\"Y\"))","v":""}]
[null,null,null,null,{"$f":"IF(D833=\"\",\"\",DATEDIF(D833,$E$1,\"Y\"))","v":""}]
[null,null,null,null,{"$f":"IF(D834=\"\",\"\",DATEDIF(D834,$E$1,\"Y\"))","v":""}]
[null,null,null,null,{"$f":"IF(D835=\"\",\"\",DATEDIF(D835,$E$1,\"Y\"))","v":""}]
[null,null,null,null,{"$f":"IF(D836=\"\",\"\",DATEDIF(D836,$E$1,\"Y\"))","v":""}]
[null,null,null,null,{"$f":"IF(D837=\"\",\"\",DATEDIF(D837,$E$1,\"Y\"))","v":""}]
[null,null,null,null,{"$f":"IF(D838=\"\",\"\",DATEDIF(D838,$E$1,\"Y\"))","v":""}]
[null,null,null,null,{"$f":"IF(D839=\"\",\"\",DATEDIF(D839,$E$1,\"Y\"))","v":""}]
[null,null,null,null,{"$f":"IF(D840=\"\",\"\",DATEDIF(D840,$E$1,\"Y\"))","v":""}]
[null,null,null,null,{"$f":"IF(D841=\"\",\"\",DATEDIF(D841,$E$1,\"Y\"))","v":""}]
[null,null,null,null,{"$f":"IF(D842=\"\",\"\",DATEDIF(D842,$E$1,\"Y\"))","v":""}]
[null,null,null,null,{"$f":"IF(D843=\"\",\"\",DATEDIF(D843,$E$1,\"Y\"))","v":""}]
[null,null,null,null,{"$f":"IF(D844=\"\",\"\",DATEDIF(D844,$E$1,\"Y\"))","v":""}]
[null,null,null,null,{"$f":"IF(D845=\"\",\"\",DATEDIF(D845,$E$1,\"Y\"))","v":""}]
[null,null,null,null,{"$f":"IF(D846=\"\",\"\",DATEDIF(D846,$E$1,\"Y\"))","v":""}]
[null,null,null,null,{"$f":"IF(D847=\"\",\"\",DATEDIF(D847,$E$1,\"Y\"))","v":""}]
[null,null,null,null,{"$f":"IF(D848=\"\",\"\",DATEDIF(D848,$E$1,\"Y\"))","v":""}]
[null,null,null,null,{"$f":"IF(D849=\"\",\"\",DATEDIF(D849,$E$1,\"Y\"))","v":""}]
[null,null,null,null,{"$f":"IF(D850=\"\",\"\",DATEDIF(D850,$E$1,\"Y\"))","v":""}]
[null,null,null,null,{"$f":"IF(D851=\"\",\"\",DATEDIF(D851,$E$1,\"Y\"))","v":""}]
[null,null,null,null,{"$f":"IF(D852=\"\",\"\",DATEDIF(D852,$E$1,\"Y\"))","v":""}]
[null,null,null,null,{"$f":"IF(D853=\"\",\"\",DATEDIF(D853,$E$1,\"Y\"))","v":""}]
[null,null,null,null,{"$f":"IF(D854=\"\",\"\",DATEDIF(D854,$E$1,\"Y\"))","v":""}]
[null,null,null,null,{"$f":"IF(D855=\"\",\"\",DATEDIF(D855,$E$1,\"Y\"))","v":""}]
[null,null,null,null,{"$f":"IF(D856=\"\",\"\",DATEDIF(D856,$E$1,\"Y\"))","v":""}]
[null,null,null,null,{"$f":"IF(D857=\"\",\"\",DATEDIF(D857,$E$1,\"Y\"))","v":""}]
[null,null,null,null,{"$f":"IF(D858=\"\",\"\",DATEDIF(D858,$E$1,\"Y\"))","v":""}]
[null,null,null,null,{"$f":"IF(D859=\"\",\"\",DATEDIF(D859,$E$1,\"Y\"))","v":""}]
[null,null,null,null,{"$f":"IF(D860=\"\",\"\",DATEDIF(D860,$E$1,\"Y\"))","v":""}]
[null,null,null,null,{"$f":"IF(D861=\"\",\"\",DATEDIF(D861,$E$1,\"Y\"))","v":""}]
[null,null,null,null,{"$f":"IF(D862=\"\",\"\",DATEDIF(D862,$E$1,\"Y\"))","v":""}]
[null,null,null,null,{"$f":"IF(D863=\"\",\"\",DATEDIF(D863,$E$1,\"Y\"))","v":""}]
[null,null,null,null,{"$f":"IF(D864=\"\",\"\",DATEDIF(D864,$E$1,\"Y\"))","v":""}]
[null,null,null,null,{"$f":"IF(D865=\"\",\"\",DATEDIF(D865,$E$1,\"Y\"))","v":""}]
[{"$f":"ROW()-1","v":865},"Fichtner","Maria","26.008.1992",{"$f":"IF(D866=\"\",\"\",DATEDIF(D866,$E$1,\"Y\"))","v":{"$error":"#NUM!"}},"","Im Seefeld ",null,"82387 Antdorf","x",null,"x","x","x",null,null,null,null,null,null,null,"2016","Firstlady","","",""]
[{"$f":"ROW()-1","v":866},"","","01.01.1991",null,"","",null,"","x","x","x","x","x",null,null,null,null,null,"x",null,"","","","",""]
[]
[]
[]
[]
[]
[]
[]
[]
[]
[]
[]
[]
[]
[]
[]
[]
[]
[]
[]
[]
[]
[]
[]
[]
[]
[]
[]
[]
[]
[]
[]
[]
[]
[]
[]
[]
[]
[]
[]
[]
[]
[]
[]
[]
[]
[]
[]
[]
[]
[]
[]
[]
[]
[]
[]
[]
[]
[]
[]
[]
[]
[]
[]
[]
[]
[]
[]
[]
[]
[]
[]
[]
[]
[]
[]
[]
[]
[]
[]
[]
[]
[]
[]
[]
[]
[]
[]
[]
[]
[]
[]
[]
[]
[]
[]
[]
[]
[]
[]
[]
[]
[]
[]
[]
[]
[]
[]
[]
[]
[]
[]
[]
[]
[]
[]
[]
[]
[]
[]
[]
[]
[]
[]
[]
[null,null,null,null,null,null,null,null,null,null,null,null,null,null,null,null,null,null,null,null,null,null,null,null,null,null,""]

{"sheet":"Buam","index":3,"n_rows":1052,"n_cols":37,"rows_kept":1052,"cut":false,"hidden":false,"merged":[[0,22,0,23],[0,24,0,25],[0,26,0,27]]}
["Nr.","Name","Vorname","Geburtstag",{"$f":"TODAY()","v":"2019-02-28"},"Telefon","Straße","PLZ","Ort","JG","PG","VT","SG","VM","BS","SG","MU","TH","MK","BA","PA","Eintrittsjahr",null,null,null,null,null,null,"(Bezeichnung eintragen)","(Bezeichnung eintragen)","(Bezeichnung eintragen)"]
[null,null,null,null,{"$f":"IF(D2=\"\",\"\",DATEDIF(D2,$E$1,\"Y\"))","v":""}]
[null,null,null,null,{"$f":"IF(D3=\"\",\"\",DATEDIF(D3,$E$1,\"Y\"))","v":""}]
[null,null,null,null,{"$f":"IF(D4=\"\",\"\",DATEDIF(D4,$E$1,\"Y\"))","v":""}]
[null,null,null,null,{"$f":"IF(D5=\"\",\"\",DATEDIF(D5,$E$1,\"Y\"))","v":""}]
[null,null,null,null,{"$f":"IF(D6=\"\",\"\",DATEDIF(D6,$E$1,\"Y\"))","v":""}]
[null,null,null,null,{"$f":"IF(D7=\"\",\"\",DATEDIF(D7,$E$1,\"Y\"))","v":""}]
[null,null,null,null,{"$f":"IF(D8=\"\",\"\",DATEDIF(D8,$E$1,\"Y\"))","v":""}]
[null,null,null,null,{"$f":"IF(D9=\"\",\"\",DATEDIF(D9,$E$1,\"Y\"))","v":""}]
[null,null,null,null,{"$f":"IF(D10=\"\",\"\",DATEDIF(D10,$E$1,\"Y\"))","v":""}]
[null,null,null,null,{"$f":"IF(D11=\"\",\"\",DATEDIF(D11,$E$1,\"Y\"))","v":""}]
[null,null,null,null,{"$f":"IF(D12=\"\",\"\",DATEDIF(D12,$E$1,\"Y\"))","v":""}]
[null,null,null,null,{"$f":"IF(D13=\"\",\"\",DATEDIF(D13,$E$1,\"Y\"))","v":""}]
[null,null,null,null,{"$f":"IF(D14=\"\",\"\",DATEDIF(D14,$E$1,\"Y\"))","v":""}]
[null,null,null,null,{"$f":"IF(D15=\"\",\"\",DATEDIF(D15,$E$1,\"Y\"))","v":""}]
[null,null,null,null,{"$f":"IF(D16=\"\",\"\",DATEDIF(D16,$E$1,\"Y\"))","v":""}]
[null,null,null,null,{"$f":"IF(D17=\"\",\"\",DATEDIF(D17,$E$1,\"Y\"))","v":""}]
[null,null,null,null,{"$f":"IF(D18=\"\",\"\",DATEDIF(D18,$E$1,\"Y\"))","v":""}]
[null,null,null,null,{"$f":"IF(D19=\"\",\"\",DATEDIF(D19,$E$1,\"Y\"))","v":""}]
[null,null,null,null,{"$f":"IF(D20=\"\",\"\",DATEDIF(D20,$E$1,\"Y\"))","v":""}]
[null,null,null,null,{"$f":"IF(D21=\"\",\"\",DATEDIF(D21,$E$1,\"Y\"))","v":""}]
[null,null,null,null,{"$f":"IF(D22=\"\",\"\",DATEDIF(D22,$E$1,\"Y\"))","v":""}]
[null,null,null,null,{"$f":"IF(D23=\"\",\"\",DATEDIF(D23,$E$1,\"Y\"))","v":""}]
[null,null,null,null,{"$f":"IF(D24=\"\",\"\",DATEDIF(D24,$E$1,\"Y\"))","v":""}]
[null,null,null,null,{"$f":"IF(D25=\"\",\"\",DATEDIF(D25,$E$1,\"Y\"))","v":""}]
[null,null,null,null,{"$f":"IF(D26=\"\",\"\",DATEDIF(D26,$E$1,\"Y\"))","v":""}]
[null,null,null,null,{"$f":"IF(D27=\"\",\"\",DATEDIF(D27,$E$1,\"Y\"))","v":""}]
[null,null,null,null,{"$f":"IF(D28=\"\",\"\",DATEDIF(D28,$E$1,\"Y\"))","v":""}]
[null,null,null,null,{"$f":"IF(D29=\"\",\"\",DATEDIF(D29,$E$1,\"Y\"))","v":""}]
[null,null,null,null,{"$f":"IF(D30=\"\",\"\",DATEDIF(D30,$E$1,\"Y\"))","v":""}]
[null,null,null,null,{"$f":"IF(D31=\"\",\"\",DATEDIF(D31,$E$1,\"Y\"))","v":""}]
[null,null,null,null,{"$f":"IF(D32=\"\",\"\",DATEDIF(D32,$E$1,\"Y\"))","v":""}]
[null,null,null,null,{"$f":"IF(D33=\"\",\"\",DATEDIF(D33,$E$1,\"Y\"))","v":""}]
[null,null,null,null,{"$f":"IF(D34=\"\",\"\",DATEDIF(D34,$E$1,\"Y\"))","v":""}]
[null,null,null,null,{"$f":"IF(D35=\"\",\"\",DATEDIF(D35,$E$1,\"Y\"))","v":""}]
[null,null,null,null,{"$f":"IF(D36=\"\",\"\",DATEDIF(D36,$E$1,\"Y\"))","v":""}]
[null,null,null,null,{"$f":"IF(D37=\"\",\"\",DATEDIF(D37,$E$1,\"Y\"))","v":""}]
[null,null,null,null,{"$f":"IF(D38=\"\",\"\",DATEDIF(D38,$E$1,\"Y\"))","v":""}]
[null,null,null,null,{"$f":"IF(D39=\"\",\"\",DATEDIF(D39,$E$1,\"Y\"))","v":""}]
[null,null,null,null,{"$f":"IF(D40=\"\",\"\",DATEDIF(D40,$E$1,\"Y\"))","v":""}]
[null,null,null,null,{"$f":"IF(D41=\"\",\"\",DATEDIF(D41,$E$1,\"Y\"))","v":""}]
[null,null,null,null,{"$f":"IF(D42=\"\",\"\",DATEDIF(D42,$E$1,\"Y\"))","v":""}]
[null,null,null,null,{"$f":"IF(D43=\"\",\"\",DATEDIF(D43,$E$1,\"Y\"))","v":""}]
[null,null,null,null,{"$f":"IF(D44=\"\",\"\",DATEDIF(D44,$E$1,\"Y\"))","v":""}]
[null,null,null,null,{"$f":"IF(D45=\"\",\"\",DATEDIF(D45,$E$1,\"Y\"))","v":""}]
[null,null,null,null,{"$f":"IF(D46=\"\",\"\",DATEDIF(D46,$E$1,\"Y\"))","v":""}]
[null,null,null,null,{"$f":"IF(D47=\"\",\"\",DATEDIF(D47,$E$1,\"Y\"))","v":""}]
[null,null,null,null,{"$f":"IF(D48=\"\",\"\",DATEDIF(D48,$E$1,\"Y\"))","v":""}]
[null,null,null,null,{"$f":"IF(D49=\"\",\"\",DATEDIF(D49,$E$1,\"Y\"))","v":""}]
[null,null,null,null,{"$f":"IF(D50=\"\",\"\",DATEDIF(D50,$E$1,\"Y\"))","v":""}]
[null,null,null,null,{"$f":"IF(D51=\"\",\"\",DATEDIF(D51,$E$1,\"Y\"))","v":""}]
[null,null,null,null,{"$f":"IF(D52=\"\",\"\",DATEDIF(D52,$E$1,\"Y\"))","v":""}]
[null,null,null,null,{"$f":"IF(D53=\"\",\"\",DATEDIF(D53,$E$1,\"Y\"))","v":""}]
[null,null,null,null,{"$f":"IF(D54=\"\",\"\",DATEDIF(D54,$E$1,\"Y\"))","v":""}]
[null,null,null,null,{"$f":"IF(D55=\"\",\"\",DATEDIF(D55,$E$1,\"Y\"))","v":""}]
[null,null,null,null,{"$f":"IF(D56=\"\",\"\",DATEDIF(D56,$E$1,\"Y\"))","v":""}]
[null,null,null,null,{"$f":"IF(D57=\"\",\"\",DATEDIF(D57,$E$1,\"Y\"))","v":""}]
[null,null,null,null,{"$f":"IF(D58=\"\",\"\",DATEDIF(D58,$E$1,\"Y\"))","v":""}]
[null,null,null,null,{"$f":"IF(D59=\"\",\"\",DATEDIF(D59,$E$1,\"Y\"))","v":""}]
[null,null,null,null,{"$f":"IF(D60=\"\",\"\",DATEDIF(D60,$E$1,\"Y\"))","v":""}]
[null,null,null,null,{"$f":"IF(D61=\"\",\"\",DATEDIF(D61,$E$1,\"Y\"))","v":""}]
[null,null,null,null,{"$f":"IF(D62=\"\",\"\",DATEDIF(D62,$E$1,\"Y\"))","v":""}]
[null,null,null,null,{"$f":"IF(D63=\"\",\"\",DATEDIF(D63,$E$1,\"Y\"))","v":""}]
[null,null,null,null,{"$f":"IF(D64=\"\",\"\",DATEDIF(D64,$E$1,\"Y\"))","v":""}]
[null,null,null,null,{"$f":"IF(D65=\"\",\"\",DATEDIF(D65,$E$1,\"Y\"))","v":""}]
[null,null,null,null,{"$f":"IF(D66=\"\",\"\",DATEDIF(D66,$E$1,\"Y\"))","v":""}]
[null,null,null,null,{"$f":"IF(D67=\"\",\"\",DATEDIF(D67,$E$1,\"Y\"))","v":""}]
[null,null,null,null,{"$f":"IF(D68=\"\",\"\",DATEDIF(D68,$E$1,\"Y\"))","v":""}]
[null,null,null,null,{"$f":"IF(D69=\"\",\"\",DATEDIF(D69,$E$1,\"Y\"))","v":""}]
[null,null,null,null,{"$f":"IF(D70=\"\",\"\",DATEDIF(D70,$E$1,\"Y\"))","v":""}]
[null,null,null,null,{"$f":"IF(D71=\"\",\"\",DATEDIF(D71,$E$1,\"Y\"))","v":""}]
[null,null,null,null,{"$f":"IF(D72=\"\",\"\",DATEDIF(D72,$E$1,\"Y\"))","v":""}]
[null,null,null,null,{"$f":"IF(D73=\"\",\"\",DATEDIF(D73,$E$1,\"Y\"))","v":""}]
[null,null,null,null,{"$f":"IF(D74=\"\",\"\",DATEDIF(D74,$E$1,\"Y\"))","v":""}]
[null,null,null,null,{"$f":"IF(D75=\"\",\"\",DATEDIF(D75,$E$1,\"Y\"))","v":""}]
[null,null,null,null,{"$f":"IF(D76=\"\",\"\",DATEDIF(D76,$E$1,\"Y\"))","v":""}]
[null,null,null,null,{"$f":"IF(D77=\"\",\"\",DATEDIF(D77,$E$1,\"Y\"))","v":""}]
[null,null,null,null,{"$f":"IF(D78=\"\",\"\",DATEDIF(D78,$E$1,\"Y\"))","v":""}]
[null,null,null,null,{"$f":"IF(D79=\"\",\"\",DATEDIF(D79,$E$1,\"Y\"))","v":""}]
[null,null,null,null,{"$f":"IF(D80=\"\",\"\",DATEDIF(D80,$E$1,\"Y\"))","v":""}]
[null,null,null,null,{"$f":"IF(D81=\"\",\"\",DATEDIF(D81,$E$1,\"Y\"))","v":""}]
[null,null,null,null,{"$f":"IF(D82=\"\",\"\",DATEDIF(D82,$E$1,\"Y\"))","v":""}]
[null,null,null,null,{"$f":"IF(D83=\"\",\"\",DATEDIF(D83,$E$1,\"Y\"))","v":""}]
[null,null,null,null,{"$f":"IF(D84=\"\",\"\",DATEDIF(D84,$E$1,\"Y\"))","v":""}]
[null,null,null,null,{"$f":"IF(D85=\"\",\"\",DATEDIF(D85,$E$1,\"Y\"))","v":""}]
[null,null,null,null,{"$f":"IF(D86=\"\",\"\",DATEDIF(D86,$E$1,\"Y\"))","v":""}]
[null,null,null,null,{"$f":"IF(D87=\"\",\"\",DATEDIF(D87,$E$1,\"Y\"))","v":""}]
[null,null,null,null,{"$f":"IF(D88=\"\",\"\",DATEDIF(D88,$E$1,\"Y\"))","v":""}]
[null,null,null,null,{"$f":"IF(D89=\"\",\"\",DATEDIF(D89,$E$1,\"Y\"))","v":""}]
[null,null,null,null,{"$f":"IF(D90=\"\",\"\",DATEDIF(D90,$E$1,\"Y\"))","v":""}]
[null,null,null,null,{"$f":"IF(D91=\"\",\"\",DATEDIF(D91,$E$1,\"Y\"))","v":""}]
[null,null,null,null,{"$f":"IF(D92=\"\",\"\",DATEDIF(D92,$E$1,\"Y\"))","v":""}]
[null,null,null,null,{"$f":"IF(D93=\"\",\"\",DATEDIF(D93,$E$1,\"Y\"))","v":""}]
[null,null,null,null,{"$f":"IF(D94=\"\",\"\",DATEDIF(D94,$E$1,\"Y\"))","v":""}]
[null,null,null,null,{"$f":"IF(D95=\"\",\"\",DATEDIF(D95,$E$1,\"Y\"))","v":""}]
[null,null,null,null,{"$f":"IF(D96=\"\",\"\",DATEDIF(D96,$E$1,\"Y\"))","v":""}]
[null,null,null,null,{"$f":"IF(D97=\"\",\"\",DATEDIF(D97,$E$1,\"Y\"))","v":""}]
[null,null,null,null,{"$f":"IF(D98=\"\",\"\",DATEDIF(D98,$E$1,\"Y\"))","v":""}]
[null,null,null,null,{"$f":"IF(D99=\"\",\"\",DATEDIF(D99,$E$1,\"Y\"))","v":""}]
[null,null,null,null,{"$f":"IF(D100=\"\",\"\",DATEDIF(D100,$E$1,\"Y\"))","v":""}]
[null,null,null,null,{"$f":"IF(D101=\"\",\"\",DATEDIF(D101,$E$1,\"Y\"))","v":""}]
[null,null,null,null,{"$f":"IF(D102=\"\",\"\",DATEDIF(D102,$E$1,\"Y\"))","v":""}]
[null,null,null,null,{"$f":"IF(D103=\"\",\"\",DATEDIF(D103,$E$1,\"Y\"))","v":""}]
[null,null,null,null,{"$f":"IF(D104=\"\",\"\",DATEDIF(D104,$E$1,\"Y\"))","v":""}]
[null,null,null,null,{"$f":"IF(D105=\"\",\"\",DATEDIF(D105,$E$1,\"Y\"))","v":""}]
[null,null,null,null,{"$f":"IF(D106=\"\",\"\",DATEDIF(D106,$E$1,\"Y\"))","v":""}]
[null,null,null,null,{"$f":"IF(D107=\"\",\"\",DATEDIF(D107,$E$1,\"Y\"))","v":""}]
[null,null,null,null,{"$f":"IF(D108=\"\",\"\",DATEDIF(D108,$E$1,\"Y\"))","v":""}]
[null,null,null,null,{"$f":"IF(D109=\"\",\"\",DATEDIF(D109,$E$1,\"Y\"))","v":""}]
[null,null,null,null,{"$f":"IF(D110=\"\",\"\",DATEDIF(D110,$E$1,\"Y\"))","v":""}]
[null,null,null,null,{"$f":"IF(D111=\"\",\"\",DATEDIF(D111,$E$1,\"Y\"))","v":""}]
[null,null,null,null,{"$f":"IF(D112=\"\",\"\",DATEDIF(D112,$E$1,\"Y\"))","v":""}]
[null,null,null,null,{"$f":"IF(D113=\"\",\"\",DATEDIF(D113,$E$1,\"Y\"))","v":""}]
[null,null,null,null,{"$f":"IF(D114=\"\",\"\",DATEDIF(D114,$E$1,\"Y\"))","v":""}]
[null,null,null,null,{"$f":"IF(D115=\"\",\"\",DATEDIF(D115,$E$1,\"Y\"))","v":""}]
[null,null,null,null,{"$f":"IF(D116=\"\",\"\",DATEDIF(D116,$E$1,\"Y\"))","v":""}]
[null,null,null,null,{"$f":"IF(D117=\"\",\"\",DATEDIF(D117,$E$1,\"Y\"))","v":""}]
[null,null,null,null,{"$f":"IF(D118=\"\",\"\",DATEDIF(D118,$E$1,\"Y\"))","v":""}]
[null,null,null,null,{"$f":"IF(D119=\"\",\"\",DATEDIF(D119,$E$1,\"Y\"))","v":""}]
[null,null,null,null,{"$f":"IF(D120=\"\",\"\",DATEDIF(D120,$E$1,\"Y\"))","v":""}]
[null,null,null,null,{"$f":"IF(D121=\"\",\"\",DATEDIF(D121,$E$1,\"Y\"))","v":""}]
[null,null,null,null,{"$f":"IF(D122=\"\",\"\",DATEDIF(D122,$E$1,\"Y\"))","v":""}]
[null,null,null,null,{"$f":"IF(D123=\"\",\"\",DATEDIF(D123,$E$1,\"Y\"))","v":""}]
[null,null,null,null,{"$f":"IF(D124=\"\",\"\",DATEDIF(D124,$E$1,\"Y\"))","v":""}]
[null,null,null,null,{"$f":"IF(D125=\"\",\"\",DATEDIF(D125,$E$1,\"Y\"))","v":""}]
[null,null,null,null,{"$f":"IF(D126=\"\",\"\",DATEDIF(D126,$E$1,\"Y\"))","v":""}]
[null,null,null,null,{"$f":"IF(D127=\"\",\"\",DATEDIF(D127,$E$1,\"Y\"))","v":""}]
[null,null,null,null,{"$f":"IF(D128=\"\",\"\",DATEDIF(D128,$E$1,\"Y\"))","v":""}]
[null,null,null,null,{"$f":"IF(D129=\"\",\"\",DATEDIF(D129,$E$1,\"Y\"))","v":""}]
[null,null,null,null,{"$f":"IF(D130=\"\",\"\",DATEDIF(D130,$E$1,\"Y\"))","v":""}]
[null,null,null,null,{"$f":"IF(D131=\"\",\"\",DATEDIF(D131,$E$1,\"Y\"))","v":""}]
[null,null,null,null,{"$f":"IF(D132=\"\",\"\",DATEDIF(D132,$E$1,\"Y\"))","v":""}]
[null,null,null,null,{"$f":"IF(D133=\"\",\"\",DATEDIF(D133,$E$1,\"Y\"))","v":""}]
[null,null,null,null,{"$f":"IF(D134=\"\",\"\",DATEDIF(D134,$E$1,\"Y\"))","v":""}]
[null,null,null,null,{"$f":"IF(D135=\"\",\"\",DATEDIF(D135,$E$1,\"Y\"))","v":""}]
[null,null,null,null,{"$f":"IF(D136=\"\",\"\",DATEDIF(D136,$E$1,\"Y\"))","v":""}]
[null,null,null,null,{"$f":"IF(D137=\"\",\"\",DATEDIF(D137,$E$1,\"Y\"))","v":""}]
[null,null,null,null,{"$f":"IF(D138=\"\",\"\",DATEDIF(D138,$E$1,\"Y\"))","v":""}]
[null,null,null,null,{"$f":"IF(D139=\"\",\"\",DATEDIF(D139,$E$1,\"Y\"))","v":""}]
[null,null,null,null,{"$f":"IF(D140=\"\",\"\",DATEDIF(D140,$E$1,\"Y\"))","v":""}]
[null,null,null,null,{"$f":"IF(D141=\"\",\"\",DATEDIF(D141,$E$1,\"Y\"))","v":""}]
[null,null,null,null,{"$f":"IF(D142=\"\",\"\",DATEDIF(D142,$E$1,\"Y\"))","v":""}]
[null,null,null,null,{"$f":"IF(D143=\"\",\"\",DATEDIF(D143,$E$1,\"Y\"))","v":""}]
[null,null,null,null,{"$f":"IF(D144=\"\",\"\",DATEDIF(D144,$E$1,\"Y\"))","v":""}]
[null,null,null,null,{"$f":"IF(D145=\"\",\"\",DATEDIF(D145,$E$1,\"Y\"))","v":""}]
[null,null,null,null,{"$f":"IF(D146=\"\",\"\",DATEDIF(D146,$E$1,\"Y\"))","v":""}]
[null,null,null,null,{"$f":"IF(D147=\"\",\"\",DATEDIF(D147,$E$1,\"Y\"))","v":""}]
[null,null,null,null,{"$f":"IF(D148=\"\",\"\",DATEDIF(D148,$E$1,\"Y\"))","v":""}]
[null,null,null,null,{"$f":"IF(D149=\"\",\"\",DATEDIF(D149,$E$1,\"Y\"))","v":""}]
[null,null,null,null,{"$f":"IF(D150=\"\",\"\",DATEDIF(D150,$E$1,\"Y\"))","v":""}]
[null,null,null,null,{"$f":"IF(D151=\"\",\"\",DATEDIF(D151,$E$1,\"Y\"))","v":""}]
[null,null,null,null,{"$f":"IF(D152=\"\",\"\",DATEDIF(D152,$E$1,\"Y\"))","v":""}]
[null,null,null,null,{"$f":"IF(D153=\"\",\"\",DATEDIF(D153,$E$1,\"Y\"))","v":""}]
[null,null,null,null,{"$f":"IF(D154=\"\",\"\",DATEDIF(D154,$E$1,\"Y\"))","v":""}]
[null,null,null,null,{"$f":"IF(D155=\"\",\"\",DATEDIF(D155,$E$1,\"Y\"))","v":""}]
[null,null,null,null,{"$f":"IF(D156=\"\",\"\",DATEDIF(D156,$E$1,\"Y\"))","v":""}]
[null,null,null,null,{"$f":"IF(D157=\"\",\"\",DATEDIF(D157,$E$1,\"Y\"))","v":""}]
[null,null,null,null,{"$f":"IF(D158=\"\",\"\",DATEDIF(D158,$E$1,\"Y\"))","v":""}]
[null,null,null,null,{"$f":"IF(D159=\"\",\"\",DATEDIF(D159,$E$1,\"Y\"))","v":""}]
[null,null,null,null,{"$f":"IF(D160=\"\",\"\",DATEDIF(D160,$E$1,\"Y\"))","v":""}]
[null,null,null,null,{"$f":"IF(D161=\"\",\"\",DATEDIF(D161,$E$1,\"Y\"))","v":""}]
[null,null,null,null,{"$f":"IF(D162=\"\",\"\",DATEDIF(D162,$E$1,\"Y\"))","v":""}]
[null,null,null,null,{"$f":"IF(D163=\"\",\"\",DATEDIF(D163,$E$1,\"Y\"))","v":""}]
[null,null,null,null,{"$f":"IF(D164=\"\",\"\",DATEDIF(D164,$E$1,\"Y\"))","v":""}]
[null,null,null,null,{"$f":"IF(D165=\"\",\"\",DATEDIF(D165,$E$1,\"Y\"))","v":""}]
[null,null,null,null,{"$f":"IF(D166=\"\",\"\",DATEDIF(D166,$E$1,\"Y\"))","v":""}]
[null,null,null,null,{"$f":"IF(D167=\"\",\"\",DATEDIF(D167,$E$1,\"Y\"))","v":""}]
[null,null,null,null,{"$f":"IF(D168=\"\",\"\",DATEDIF(D168,$E$1,\"Y\"))","v":""}]
[null,null,null,null,{"$f":"IF(D169=\"\",\"\",DATEDIF(D169,$E$1,\"Y\"))","v":""}]
[null,null,null,null,{"$f":"IF(D170=\"\",\"\",DATEDIF(D170,$E$1,\"Y\"))","v":""}]
[null,null,null,null,{"$f":"IF(D171=\"\",\"\",DATEDIF(D171,$E$1,\"Y\"))","v":""}]
[null,null,null,null,{"$f":"IF(D172=\"\",\"\",DATEDIF(D172,$E$1,\"Y\"))","v":""}]
[null,null,null,null,{"$f":"IF(D173=\"\",\"\",DATEDIF(D173,$E$1,\"Y\"))","v":""}]
[null,null,null,null,{"$f":"IF(D174=\"\",\"\",DATEDIF(D174,$E$1,\"Y\"))","v":""}]
[null,null,null,null,{"$f":"IF(D175=\"\",\"\",DATEDIF(D175,$E$1,\"Y\"))","v":""}]
[null,null,null,null,{"$f":"IF(D176=\"\",\"\",DATEDIF(D176,$E$1,\"Y\"))","v":""}]
[null,null,null,null,{"$f":"IF(D177=\"\",\"\",DATEDIF(D177,$E$1,\"Y\"))","v":""}]
[null,null,null,null,{"$f":"IF(D178=\"\",\"\",DATEDIF(D178,$E$1,\"Y\"))","v":""}]
[null,null,null,null,{"$f":"IF(D179=\"\",\"\",DATEDIF(D179,$E$1,\"Y\"))","v":""}]
[null,null,null,null,{"$f":"IF(D180=\"\",\"\",DATEDIF(D180,$E$1,\"Y\"))","v":""}]
[null,null,null,null,{"$f":"IF(D181=\"\",\"\",DATEDIF(D181,$E$1,\"Y\"))","v":""}]
[null,null,null,null,{"$f":"IF(D182=\"\",\"\",DATEDIF(D182,$E$1,\"Y\"))","v":""}]
[null,null,null,null,{"$f":"IF(D183=\"\",\"\",DATEDIF(D183,$E$1,\"Y\"))","v":""}]
[null,null,null,null,{"$f":"IF(D184=\"\",\"\",DATEDIF(D184,$E$1,\"Y\"))","v":""}]
[null,null,null,null,{"$f":"IF(D185=\"\",\"\",DATEDIF(D185,$E$1,\"Y\"))","v":""}]
[null,null,null,null,{"$f":"IF(D186=\"\",\"\",DATEDIF(D186,$E$1,\"Y\"))","v":""}]
[null,null,null,null,{"$f":"IF(D187=\"\",\"\",DATEDIF(D187,$E$1,\"Y\"))","v":""}]
[null,null,null,null,{"$f":"IF(D188=\"\",\"\",DATEDIF(D188,$E$1,\"Y\"))","v":""}]
[null,null,null,null,{"$f":"IF(D189=\"\",\"\",DATEDIF(D189,$E$1,\"Y\"))","v":""}]
[null,null,null,null,{"$f":"IF(D190=\"\",\"\",DATEDIF(D190,$E$1,\"Y\"))","v":""}]
[null,null,null,null,{"$f":"IF(D191=\"\",\"\",DATEDIF(D191,$E$1,\"Y\"))","v":""}]
[null,null,null,null,{"$f":"IF(D192=\"\",\"\",DATEDIF(D192,$E$1,\"Y\"))","v":""}]
[null,null,null,null,{"$f":"IF(D193=\"\",\"\",DATEDIF(D193,$E$1,\"Y\"))","v":""}]
[null,null,null,null,{"$f":"IF(D194=\"\",\"\",DATEDIF(D194,$E$1,\"Y\"))","v":""}]
[null,null,null,null,{"$f":"IF(D195=\"\",\"\",DATEDIF(D195,$E$1,\"Y\"))","v":""}]
[null,null,null,null,{"$f":"IF(D196=\"\",\"\",DATEDIF(D196,$E$1,\"Y\"))","v":""}]
[null,null,null,null,{"$f":"IF(D197=\"\",\"\",DATEDIF(D197,$E$1,\"Y\"))","v":""}]
[null,null,null,null,{"$f":"IF(D198=\"\",\"\",DATEDIF(D198,$E$1,\"Y\"))","v":""}]
[null,null,null,null,{"$f":"IF(D199=\"\",\"\",DATEDIF(D199,$E$1,\"Y\"))","v":""}]
[null,null,null,null,{"$f":"IF(D200=\"\",\"\",DATEDIF(D200,$E$1,\"Y\"))","v":""}]
[null,null,null,null,{"$f":"IF(D201=\"\",\"\",DATEDIF(D201,$E$1,\"Y\"))","v":""}]
[null,null,null,null,{"$f":"IF(D202=\"\",\"\",DATEDIF(D202,$E$1,\"Y\"))","v":""}]
[null,null,null,null,{"$f":"IF(D203=\"\",\"\",DATEDIF(D203,$E$1,\"Y\"))","v":""}]
[null,null,null,null,{"$f":"IF(D204=\"\",\"\",DATEDIF(D204,$E$1,\"Y\"))","v":""}]
[null,null,null,null,{"$f":"IF(D205=\"\",\"\",DATEDIF(D205,$E$1,\"Y\"))","v":""}]
[null,null,null,null,{"$f":"IF(D206=\"\",\"\",DATEDIF(D206,$E$1,\"Y\"))","v":""}]
[null,null,null,null,{"$f":"IF(D207=\"\",\"\",DATEDIF(D207,$E$1,\"Y\"))","v":""}]
[null,null,null,null,{"$f":"IF(D208=\"\",\"\",DATEDIF(D208,$E$1,\"Y\"))","v":""}]
[null,null,null,null,{"$f":"IF(D209=\"\",\"\",DATEDIF(D209,$E$1,\"Y\"))","v":""}]
[null,null,null,null,{"$f":"IF(D210=\"\",\"\",DATEDIF(D210,$E$1,\"Y\"))","v":""}]
[null,null,null,null,{"$f":"IF(D211=\"\",\"\",DATEDIF(D211,$E$1,\"Y\"))","v":""}]
[null,null,null,null,{"$f":"IF(D212=\"\",\"\",DATEDIF(D212,$E$1,\"Y\"))","v":""}]
[null,null,null,null,{"$f":"IF(D213=\"\",\"\",DATEDIF(D213,$E$1,\"Y\"))","v":""}]
[null,null,null,null,{"$f":"IF(D214=\"\",\"\",DATEDIF(D214,$E$1,\"Y\"))","v":""}]
[null,null,null,null,{"$f":"IF(D215=\"\",\"\",DATEDIF(D215,$E$1,\"Y\"))","v":""}]
[null,null,null,null,{"$f":"IF(D216=\"\",\"\",DATEDIF(D216,$E$1,\"Y\"))","v":""}]
[null,null,null,null,{"$f":"IF(D217=\"\",\"\",DATEDIF(D217,$E$1,\"Y\"))","v":""}]
[null,null,null,null,{"$f":"IF(D218=\"\",\"\",DATEDIF(D218,$E$1,\"Y\"))","v":""}]
[null,null,null,null,{"$f":"IF(D219=\"\",\"\",DATEDIF(D219,$E$1,\"Y\"))","v":""}]
[null,null,null,null,{"$f":"IF(D220=\"\",\"\",DATEDIF(D220,$E$1,\"Y\"))","v":""}]
[null,null,null,null,{"$f":"IF(D221=\"\",\"\",DATEDIF(D221,$E$1,\"Y\"))","v":""}]
[null,null,null,null,{"$f":"IF(D222=\"\",\"\",DATEDIF(D222,$E$1,\"Y\"))","v":""}]
[null,null,null,null,{"$f":"IF(D223=\"\",\"\",DATEDIF(D223,$E$1,\"Y\"))","v":""}]
[null,null,null,null,{"$f":"IF(D224=\"\",\"\",DATEDIF(D224,$E$1,\"Y\"))","v":""}]
[null,null,null,null,{"$f":"IF(D225=\"\",\"\",DATEDIF(D225,$E$1,\"Y\"))","v":""}]
[null,null,null,null,{"$f":"IF(D226=\"\",\"\",DATEDIF(D226,$E$1,\"Y\"))","v":""}]
[null,null,null,null,{"$f":"IF(D227=\"\",\"\",DATEDIF(D227,$E$1,\"Y\"))","v":""}]
[null,null,null,null,{"$f":"IF(D228=\"\",\"\",DATEDIF(D228,$E$1,\"Y\"))","v":""}]
[null,null,null,null,{"$f":"IF(D229=\"\",\"\",DATEDIF(D229,$E$1,\"Y\"))","v":""}]
[null,null,null,null,{"$f":"IF(D230=\"\",\"\",DATEDIF(D230,$E$1,\"Y\"))","v":""}]
[null,null,null,null,{"$f":"IF(D231=\"\",\"\",DATEDIF(D231,$E$1,\"Y\"))","v":""}]
[null,null,null,null,{"$f":"IF(D232=\"\",\"\",DATEDIF(D232,$E$1,\"Y\"))","v":""}]
[null,null,null,null,{"$f":"IF(D233=\"\",\"\",DATEDIF(D233,$E$1,\"Y\"))","v":""}]
[null,null,null,null,{"$f":"IF(D234=\"\",\"\",DATEDIF(D234,$E$1,\"Y\"))","v":""}]
[null,null,null,null,{"$f":"IF(D235=\"\",\"\",DATEDIF(D235,$E$1,\"Y\"))","v":""}]
[null,null,null,null,{"$f":"IF(D236=\"\",\"\",DATEDIF(D236,$E$1,\"Y\"))","v":""}]
[null,null,null,null,{"$f":"IF(D237=\"\",\"\",DATEDIF(D237,$E$1,\"Y\"))","v":""}]
[null,null,null,null,{"$f":"IF(D238=\"\",\"\",DATEDIF(D238,$E$1,\"Y\"))","v":""}]
[null,null,null,null,{"$f":"IF(D239=\"\",\"\",DATEDIF(D239,$E$1,\"Y\"))","v":""}]
[null,null,null,null,{"$f":"IF(D240=\"\",\"\",DATEDIF(D240,$E$1,\"Y\"))","v":""}]
[null,null,null,null,{"$f":"IF(D241=\"\",\"\",DATEDIF(D241,$E$1,\"Y\"))","v":""}]
[null,null,null,null,{"$f":"IF(D242=\"\",\"\",DATEDIF(D242,$E$1,\"Y\"))","v":""}]
[null,null,null,null,{"$f":"IF(D243=\"\",\"\",DATEDIF(D243,$E$1,\"Y\"))","v":""}]
[null,null,null,null,{"$f":"IF(D244=\"\",\"\",DATEDIF(D244,$E$1,\"Y\"))","v":""}]
[null,null,null,null,{"$f":"IF(D245=\"\",\"\",DATEDIF(D245,$E$1,\"Y\"))","v":""}]
[null,null,null,null,{"$f":"IF(D246=\"\",\"\",DATEDIF(D246,$E$1,\"Y\"))","v":""}]
[null,null,null,null,{"$f":"IF(D247=\"\",\"\",DATEDIF(D247,$E$1,\"Y\"))","v":""}]
[null,null,null,null,{"$f":"IF(D248=\"\",\"\",DATEDIF(D248,$E$1,\"Y\"))","v":""}]
[null,null,null,null,{"$f":"IF(D249=\"\",\"\",DATEDIF(D249,$E$1,\"Y\"))","v":""}]
[null,null,null,null,{"$f":"IF(D250=\"\",\"\",DATEDIF(D250,$E$1,\"Y\"))","v":""}]
[null,null,null,null,{"$f":"IF(D251=\"\",\"\",DATEDIF(D251,$E$1,\"Y\"))","v":""}]
[null,null,null,null,{"$f":"IF(D252=\"\",\"\",DATEDIF(D252,$E$1,\"Y\"))","v":""}]
[null,null,null,null,{"$f":"IF(D253=\"\",\"\",DATEDIF(D253,$E$1,\"Y\"))","v":""}]
[null,null,null,null,{"$f":"IF(D254=\"\",\"\",DATEDIF(D254,$E$1,\"Y\"))","v":""}]
[null,null,null,null,{"$f":"IF(D255=\"\",\"\",DATEDIF(D255,$E$1,\"Y\"))","v":""}]
[null,null,null,null,{"$f":"IF(D256=\"\",\"\",DATEDIF(D256,$E$1,\"Y\"))","v":""}]
[null,null,null,null,{"$f":"IF(D257=\"\",\"\",DATEDIF(D257,$E$1,\"Y\"))","v":""}]
[null,null,null,null,{"$f":"IF(D258=\"\",\"\",DATEDIF(D258,$E$1,\"Y\"))","v":""}]
[null,null,null,null,{"$f":"IF(D259=\"\",\"\",DATEDIF(D259,$E$1,\"Y\"))","v":""}]
[null,null,null,null,{"$f":"IF(D260=\"\",\"\",DATEDIF(D260,$E$1,\"Y\"))","v":""}]
[null,null,null,null,{"$f":"IF(D261=\"\",\"\",DATEDIF(D261,$E$1,\"Y\"))","v":""}]
[null,null,null,null,{"$f":"IF(D262=\"\",\"\",DATEDIF(D262,$E$1,\"Y\"))","v":""}]
[null,null,null,null,{"$f":"IF(D263=\"\",\"\",DATEDIF(D263,$E$1,\"Y\"))","v":""}]
[null,null,null,null,{"$f":"IF(D264=\"\",\"\",DATEDIF(D264,$E$1,\"Y\"))","v":""}]
[null,null,null,null,{"$f":"IF(D265=\"\",\"\",DATEDIF(D265,$E$1,\"Y\"))","v":""}]
[null,null,null,null,{"$f":"IF(D266=\"\",\"\",DATEDIF(D266,$E$1,\"Y\"))","v":""}]
[null,null,null,null,{"$f":"IF(D267=\"\",\"\",DATEDIF(D267,$E$1,\"Y\"))","v":""}]
[null,null,null,null,{"$f":"IF(D268=\"\",\"\",DATEDIF(D268,$E$1,\"Y\"))","v":""}]
[null,null,null,null,{"$f":"IF(D269=\"\",\"\",DATEDIF(D269,$E$1,\"Y\"))","v":""}]
[null,null,null,null,{"$f":"IF(D270=\"\",\"\",DATEDIF(D270,$E$1,\"Y\"))","v":""}]
[null,null,null,null,{"$f":"IF(D271=\"\",\"\",DATEDIF(D271,$E$1,\"Y\"))","v":""}]
[null,null,null,null,{"$f":"IF(D272=\"\",\"\",DATEDIF(D272,$E$1,\"Y\"))","v":""}]
[null,null,null,null,{"$f":"IF(D273=\"\",\"\",DATEDIF(D273,$E$1,\"Y\"))","v":""}]
[null,null,null,null,{"$f":"IF(D274=\"\",\"\",DATEDIF(D274,$E$1,\"Y\"))","v":""}]
[null,null,null,null,{"$f":"IF(D275=\"\",\"\",DATEDIF(D275,$E$1,\"Y\"))","v":""}]
[null,null,null,null,{"$f":"IF(D276=\"\",\"\",DATEDIF(D276,$E$1,\"Y\"))","v":""}]
[null,null,null,null,{"$f":"IF(D277=\"\",\"\",DATEDIF(D277,$E$1,\"Y\"))","v":""}]
[null,null,null,null,{"$f":"IF(D278=\"\",\"\",DATEDIF(D278,$E$1,\"Y\"))","v":""}]
[null,null,null,null,{"$f":"IF(D279=\"\",\"\",DATEDIF(D279,$E$1,\"Y\"))","v":""}]
[null,null,null,null,{"$f":"IF(D280=\"\",\"\",DATEDIF(D280,$E$1,\"Y\"))","v":""}]
[null,null,null,null,{"$f":"IF(D281=\"\",\"\",DATEDIF(D281,$E$1,\"Y\"))","v":""}]
[null,null,null,null,{"$f":"IF(D282=\"\",\"\",DATEDIF(D282,$E$1,\"Y\"))","v":""}]
[null,null,null,null,{"$f":"IF(D283=\"\",\"\",DATEDIF(D283,$E$1,\"Y\"))","v":""}]
[null,null,null,null,{"$f":"IF(D284=\"\",\"\",DATEDIF(D284,$E$1,\"Y\"))","v":""}]
[null,null,null,null,{"$f":"IF(D285=\"\",\"\",DATEDIF(D285,$E$1,\"Y\"))","v":""}]
[null,null,null,null,{"$f":"IF(D286=\"\",\"\",DATEDIF(D286,$E$1,\"Y\"))","v":""}]
[null,null,null,null,{"$f":"IF(D287=\"\",\"\",DATEDIF(D287,$E$1,\"Y\"))","v":""}]
[null,null,null,null,{"$f":"IF(D288=\"\",\"\",DATEDIF(D288,$E$1,\"Y\"))","v":""}]
[null,null,null,null,{"$f":"IF(D289=\"\",\"\",DATEDIF(D289,$E$1,\"Y\"))","v":""}]
[null,null,null,null,{"$f":"IF(D290=\"\",\"\",DATEDIF(D290,$E$1,\"Y\"))","v":""}]
[null,null,null,null,{"$f":"IF(D291=\"\",\"\",DATEDIF(D291,$E$1,\"Y\"))","v":""}]
[null,null,null,null,{"$f":"IF(D292=\"\",\"\",DATEDIF(D292,$E$1,\"Y\"))","v":""}]
[null,null,null,null,{"$f":"IF(D293=\"\",\"\",DATEDIF(D293,$E$1,\"Y\"))","v":""}]
[null,null,null,null,{"$f":"IF(D294=\"\",\"\",DATEDIF(D294,$E$1,\"Y\"))","v":""}]
[null,null,null,null,{"$f":"IF(D295=\"\",\"\",DATEDIF(D295,$E$1,\"Y\"))","v":""}]
[null,null,null,null,{"$f":"IF(D296=\"\",\"\",DATEDIF(D296,$E$1,\"Y\"))","v":""}]
[null,null,null,null,{"$f":"IF(D297=\"\",\"\",DATEDIF(D297,$E$1,\"Y\"))","v":""}]
[null,null,null,null,{"$f":"IF(D298=\"\",\"\",DATEDIF(D298,$E$1,\"Y\"))","v":""}]
[null,null,null,null,{"$f":"IF(D299=\"\",\"\",DATEDIF(D299,$E$1,\"Y\"))","v":""}]
[null,null,null,null,{"$f":"IF(D300=\"\",\"\",DATEDIF(D300,$E$1,\"Y\"))","v":""}]
[null,null,null,null,{"$f":"IF(D301=\"\",\"\",DATEDIF(D301,$E$1,\"Y\"))","v":""}]
[null,null,null,null,{"$f":"IF(D302=\"\",\"\",DATEDIF(D302,$E$1,\"Y\"))","v":""}]
[null,null,null,null,{"$f":"IF(D303=\"\",\"\",DATEDIF(D303,$E$1,\"Y\"))","v":""}]
[null,null,null,null,{"$f":"IF(D304=\"\",\"\",DATEDIF(D304,$E$1,\"Y\"))","v":""}]
[null,null,null,null,{"$f":"IF(D305=\"\",\"\",DATEDIF(D305,$E$1,\"Y\"))","v":""}]
[null,null,null,null,{"$f":"IF(D306=\"\",\"\",DATEDIF(D306,$E$1,\"Y\"))","v":""}]
[null,null,null,null,{"$f":"IF(D307=\"\",\"\",DATEDIF(D307,$E$1,\"Y\"))","v":""}]
[null,null,null,null,{"$f":"IF(D308=\"\",\"\",DATEDIF(D308,$E$1,\"Y\"))","v":""}]
[null,null,null,null,{"$f":"IF(D309=\"\",\"\",DATEDIF(D309,$E$1,\"Y\"))","v":""}]
[null,null,null,null,{"$f":"IF(D310=\"\",\"\",DATEDIF(D310,$E$1,\"Y\"))","v":""}]
[null,null,null,null,{"$f":"IF(D311=\"\",\"\",DATEDIF(D311,$E$1,\"Y\"))","v":""}]
[null,null,null,null,{"$f":"IF(D312=\"\",\"\",DATEDIF(D312,$E$1,\"Y\"))","v":""}]
[null,null,null,null,{"$f":"IF(D313=\"\",\"\",DATEDIF(D313,$E$1,\"Y\"))","v":""}]
[null,null,null,null,{"$f":"IF(D314=\"\",\"\",DATEDIF(D314,$E$1,\"Y\"))","v":""}]
[null,null,null,null,{"$f":"IF(D315=\"\",\"\",DATEDIF(D315,$E$1,\"Y\"))","v":""}]
[null,null,null,null,{"$f":"IF(D316=\"\",\"\",DATEDIF(D316,$E$1,\"Y\"))","v":""}]
[null,null,null,null,{"$f":"IF(D317=\"\",\"\",DATEDIF(D317,$E$1,\"Y\"))","v":""}]
[null,null,null,null,{"$f":"IF(D318=\"\",\"\",DATEDIF(D318,$E$1,\"Y\"))","v":""}]
[null,null,null,null,{"$f":"IF(D319=\"\",\"\",DATEDIF(D319,$E$1,\"Y\"))","v":""}]
[null,null,null,null,{"$f":"IF(D320=\"\",\"\",DATEDIF(D320,$E$1,\"Y\"))","v":""}]
[null,null,null,null,{"$f":"IF(D321=\"\",\"\",DATEDIF(D321,$E$1,\"Y\"))","v":""}]
[null,null,null,null,{"$f":"IF(D322=\"\",\"\",DATEDIF(D322,$E$1,\"Y\"))","v":""}]
[null,null,null,null,{"$f":"IF(D323=\"\",\"\",DATEDIF(D323,$E$1,\"Y\"))","v":""}]
[null,null,null,null,{"$f":"IF(D324=\"\",\"\",DATEDIF(D324,$E$1,\"Y\"))","v":""}]
[null,null,null,null,{"$f":"IF(D325=\"\",\"\",DATEDIF(D325,$E$1,\"Y\"))","v":""}]
[null,null,null,null,{"$f":"IF(D326=\"\",\"\",DATEDIF(D326,$E$1,\"Y\"))","v":""}]
[null,null,null,null,{"$f":"IF(D327=\"\",\"\",DATEDIF(D327,$E$1,\"Y\"))","v":""}]
[null,null,null,null,{"$f":"IF(D328=\"\",\"\",DATEDIF(D328,$E$1,\"Y\"))","v":""}]
[null,null,null,null,{"$f":"IF(D329=\"\",\"\",DATEDIF(D329,$E$1,\"Y\"))","v":""}]
[null,null,null,null,{"$f":"IF(D330=\"\",\"\",DATEDIF(D330,$E$1,\"Y\"))","v":""}]
[null,null,null,null,{"$f":"IF(D331=\"\",\"\",DATEDIF(D331,$E$1,\"Y\"))","v":""}]
[null,null,null,null,{"$f":"IF(D332=\"\",\"\",DATEDIF(D332,$E$1,\"Y\"))","v":""}]
[null,null,null,null,{"$f":"IF(D333=\"\",\"\",DATEDIF(D333,$E$1,\"Y\"))","v":""}]
[null,null,null,null,{"$f":"IF(D334=\"\",\"\",DATEDIF(D334,$E$1,\"Y\"))","v":""}]
[null,null,null,null,{"$f":"IF(D335=\"\",\"\",DATEDIF(D335,$E$1,\"Y\"))","v":""}]
[null,null,null,null,{"$f":"IF(D336=\"\",\"\",DATEDIF(D336,$E$1,\"Y\"))","v":""}]
[null,null,null,null,{"$f":"IF(D337=\"\",\"\",DATEDIF(D337,$E$1,\"Y\"))","v":""}]
[null,null,null,null,{"$f":"IF(D338=\"\",\"\",DATEDIF(D338,$E$1,\"Y\"))","v":""}]
[null,null,null,null,{"$f":"IF(D339=\"\",\"\",DATEDIF(D339,$E$1,\"Y\"))","v":""}]
[null,null,null,null,{"$f":"IF(D340=\"\",\"\",DATEDIF(D340,$E$1,\"Y\"))","v":""}]
[null,null,null,null,{"$f":"IF(D341=\"\",\"\",DATEDIF(D341,$E$1,\"Y\"))","v":""}]
[null,null,null,null,{"$f":"IF(D342=\"\",\"\",DATEDIF(D342,$E$1,\"Y\"))","v":""}]
[null,null,null,null,{"$f":"IF(D343=\"\",\"\",DATEDIF(D343,$E$1,\"Y\"))","v":""}]
[null,null,null,null,{"$f":"IF(D344=\"\",\"\",DATEDIF(D344,$E$1,\"Y\"))","v":""}]
[null,null,null,null,{"$f":"IF(D345=\"\",\"\",DATEDIF(D345,$E$1,\"Y\"))","v":""}]
[null,null,null,null,{"$f":"IF(D346=\"\",\"\",DATEDIF(D346,$E$1,\"Y\"))","v":""}]
[null,null,null,null,{"$f":"IF(D347=\"\",\"\",DATEDIF(D347,$E$1,\"Y\"))","v":""}]
[null,null,null,null,{"$f":"IF(D348=\"\",\"\",DATEDIF(D348,$E$1,\"Y\"))","v":""}]
[null,null,null,null,{"$f":"IF(D349=\"\",\"\",DATEDIF(D349,$E$1,\"Y\"))","v":""}]
[null,null,null,null,{"$f":"IF(D350=\"\",\"\",DATEDIF(D350,$E$1,\"Y\"))","v":""}]
[null,null,null,null,{"$f":"IF(D351=\"\",\"\",DATEDIF(D351,$E$1,\"Y\"))","v":""}]
[null,null,null,null,{"$f":"IF(D352=\"\",\"\",DATEDIF(D352,$E$1,\"Y\"))","v":""}]
[null,null,null,null,{"$f":"IF(D353=\"\",\"\",DATEDIF(D353,$E$1,\"Y\"))","v":""}]
[null,null,null,null,{"$f":"IF(D354=\"\",\"\",DATEDIF(D354,$E$1,\"Y\"))","v":""}]
[null,null,null,null,{"$f":"IF(D355=\"\",\"\",DATEDIF(D355,$E$1,\"Y\"))","v":""}]
[null,null,null,null,{"$f":"IF(D356=\"\",\"\",DATEDIF(D356,$E$1,\"Y\"))","v":""}]
[null,null,null,null,{"$f":"IF(D357=\"\",\"\",DATEDIF(D357,$E$1,\"Y\"))","v":""}]
[null,null,null,null,{"$f":"IF(D358=\"\",\"\",DATEDIF(D358,$E$1,\"Y\"))","v":""}]
[null,null,null,null,{"$f":"IF(D359=\"\",\"\",DATEDIF(D359,$E$1,\"Y\"))","v":""}]
[null,null,null,null,{"$f":"IF(D360=\"\",\"\",DATEDIF(D360,$E$1,\"Y\"))","v":""}]
[null,null,null,null,{"$f":"IF(D361=\"\",\"\",DATEDIF(D361,$E$1,\"Y\"))","v":""}]
[null,null,null,null,{"$f":"IF(D362=\"\",\"\",DATEDIF(D362,$E$1,\"Y\"))","v":""}]
[null,null,null,null,{"$f":"IF(D363=\"\",\"\",DATEDIF(D363,$E$1,\"Y\"))","v":""}]
[null,null,null,null,{"$f":"IF(D364=\"\",\"\",DATEDIF(D364,$E$1,\"Y\"))","v":""}]
[null,null,null,null,{"$f":"IF(D365=\"\",\"\",DATEDIF(D365,$E$1,\"Y\"))","v":""}]
[null,null,null,null,{"$f":"IF(D366=\"\",\"\",DATEDIF(D366,$E$1,\"Y\"))","v":""}]
[null,null,null,null,{"$f":"IF(D367=\"\",\"\",DATEDIF(D367,$E$1,\"Y\"))","v":""}]
[null,null,null,null,{"$f":"IF(D368=\"\",\"\",DATEDIF(D368,$E$1,\"Y\"))","v":""}]
[null,null,null,null,{"$f":"IF(D369=\"\",\"\",DATEDIF(D369,$E$1,\"Y\"))","v":""}]
[null,null,null,null,{"$f":"IF(D370=\"\",\"\",DATEDIF(D370,$E$1,\"Y\"))","v":""}]
[null,null,null,null,{"$f":"IF(D371=\"\",\"\",DATEDIF(D371,$E$1,\"Y\"))","v":""}]
[null,null,null,null,{"$f":"IF(D372=\"\",\"\",DATEDIF(D372,$E$1,\"Y\"))","v":""}]
[null,null,null,null,{"$f":"IF(D373=\"\",\"\",DATEDIF(D373,$E$1,\"Y\"))","v":""}]
[null,null,null,null,{"$f":"IF(D374=\"\",\"\",DATEDIF(D374,$E$1,\"Y\"))","v":""}]
[null,null,null,null,{"$f":"IF(D375=\"\",\"\",DATEDIF(D375,$E$1,\"Y\"))","v":""}]
[null,null,null,null,{"$f":"IF(D376=\"\",\"\",DATEDIF(D376,$E$1,\"Y\"))","v":""}]
[null,null,null,null,{"$f":"IF(D377=\"\",\"\",DATEDIF(D377,$E$1,\"Y\"))","v":""}]
[null,null,null,null,{"$f":"IF(D378=\"\",\"\",DATEDIF(D378,$E$1,\"Y\"))","v":""}]
[null,null,null,null,{"$f":"IF(D379=\"\",\"\",DATEDIF(D379,$E$1,\"Y\"))","v":""}]
[null,null,null,null,{"$f":"IF(D380=\"\",\"\",DATEDIF(D380,$E$1,\"Y\"))","v":""}]
[null,null,null,null,{"$f":"IF(D381=\"\",\"\",DATEDIF(D381,$E$1,\"Y\"))","v":""}]
[null,null,null,null,{"$f":"IF(D382=\"\",\"\",DATEDIF(D382,$E$1,\"Y\"))","v":""}]
[null,null,null,null,{"$f":"IF(D383=\"\",\"\",DATEDIF(D383,$E$1,\"Y\"))","v":""}]
[null,null,null,null,{"$f":"IF(D384=\"\",\"\",DATEDIF(D384,$E$1,\"Y\"))","v":""}]
[null,null,null,null,{"$f":"IF(D385=\"\",\"\",DATEDIF(D385,$E$1,\"Y\"))","v":""}]
[null,null,null,null,{"$f":"IF(D386=\"\",\"\",DATEDIF(D386,$E$1,\"Y\"))","v":""}]
[null,null,null,null,{"$f":"IF(D387=\"\",\"\",DATEDIF(D387,$E$1,\"Y\"))","v":""}]
[null,null,null,null,{"$f":"IF(D388=\"\",\"\",DATEDIF(D388,$E$1,\"Y\"))","v":""}]
[null,null,null,null,{"$f":"IF(D389=\"\",\"\",DATEDIF(D389,$E$1,\"Y\"))","v":""}]
[null,null,null,null,{"$f":"IF(D390=\"\",\"\",DATEDIF(D390,$E$1,\"Y\"))","v":""}]
[null,null,null,null,{"$f":"IF(D391=\"\",\"\",DATEDIF(D391,$E$1,\"Y\"))","v":""}]
[null,null,null,null,{"$f":"IF(D392=\"\",\"\",DATEDIF(D392,$E$1,\"Y\"))","v":""}]
[null,null,null,null,{"$f":"IF(D393=\"\",\"\",DATEDIF(D393,$E$1,\"Y\"))","v":""}]
[null,null,null,null,{"$f":"IF(D394=\"\",\"\",DATEDIF(D394,$E$1,\"Y\"))","v":""}]
[null,null,null,null,{"$f":"IF(D395=\"\",\"\",DATEDIF(D395,$E$1,\"Y\"))","v":""}]
[null,null,null,null,{"$f":"IF(D396=\"\",\"\",DATEDIF(D396,$E$1,\"Y\"))","v":""}]
[null,null,null,null,{"$f":"IF(D397=\"\",\"\",DATEDIF(D397,$E$1,\"Y\"))","v":""}]
[null,null,null,null,{"$f":"IF(D398=\"\",\"\",DATEDIF(D398,$E$1,\"Y\"))","v":""}]
[null,null,null,null,{"$f":"IF(D399=\"\",\"\",DATEDIF(D399,$E$1,\"Y\"))","v":""}]
[null,null,null,null,{"$f":"IF(D400=\"\",\"\",DATEDIF(D400,$E$1,\"Y\"))","v":""}]
[null,null,null,null,{"$f":"IF(D401=\"\",\"\",DATEDIF(D401,$E$1,\"Y\"))","v":""}]
[null,null,null,null,{"$f":"IF(D402=\"\",\"\",DATEDIF(D402,$E$1,\"Y\"))","v":""}]
[null,null,null,null,{"$f":"IF(D403=\"\",\"\",DATEDIF(D403,$E$1,\"Y\"))","v":""}]
[null,null,null,null,{"$f":"IF(D404=\"\",\"\",DATEDIF(D404,$E$1,\"Y\"))","v":""}]
[null,null,null,null,{"$f":"IF(D405=\"\",\"\",DATEDIF(D405,$E$1,\"Y\"))","v":""}]
[null,null,null,null,{"$f":"IF(D406=\"\",\"\",DATEDIF(D406,$E$1,\"Y\"))","v":""}]
[null,null,null,null,{"$f":"IF(D407=\"\",\"\",DATEDIF(D407,$E$1,\"Y\"))","v":""}]
[null,null,null,null,{"$f":"IF(D408=\"\",\"\",DATEDIF(D408,$E$1,\"Y\"))","v":""}]
[null,null,null,null,{"$f":"IF(D409=\"\",\"\",DATEDIF(D409,$E$1,\"Y\"))","v":""}]
[null,null,null,null,{"$f":"IF(D410=\"\",\"\",DATEDIF(D410,$E$1,\"Y\"))","v":""}]
[null,null,null,null,{"$f":"IF(D411=\"\",\"\",DATEDIF(D411,$E$1,\"Y\"))","v":""}]
[null,null,null,null,{"$f":"IF(D412=\"\",\"\",DATEDIF(D412,$E$1,\"Y\"))","v":""}]
[null,null,null,null,{"$f":"IF(D413=\"\",\"\",DATEDIF(D413,$E$1,\"Y\"))","v":""}]
[null,null,null,null,{"$f":"IF(D414=\"\",\"\",DATEDIF(D414,$E$1,\"Y\"))","v":""}]
[null,null,null,null,{"$f":"IF(D415=\"\",\"\",DATEDIF(D415,$E$1,\"Y\"))","v":""}]
[null,null,null,null,{"$f":"IF(D416=\"\",\"\",DATEDIF(D416,$E$1,\"Y\"))","v":""}]
[null,null,null,null,{"$f":"IF(D417=\"\",\"\",DATEDIF(D417,$E$1,\"Y\"))","v":""}]
[null,null,null,null,{"$f":"IF(D418=\"\",\"\",DATEDIF(D418,$E$1,\"Y\"))","v":""}]
[null,null,null,null,{"$f":"IF(D419=\"\",\"\",DATEDIF(D419,$E$1,\"Y\"))","v":""}]
[null,null,null,null,{"$f":"IF(D420=\"\",\"\",DATEDIF(D420,$E$1,\"Y\"))","v":""}]
[null,null,null,null,{"$f":"IF(D421=\"\",\"\",DATEDIF(D421,$E$1,\"Y\"))","v":""}]
[null,null,null,null,{"$f":"IF(D422=\"\",\"\",DATEDIF(D422,$E$1,\"Y\"))","v":""}]
[null,null,null,null,{"$f":"IF(D423=\"\",\"\",DATEDIF(D423,$E$1,\"Y\"))","v":""}]
[null,null,null,null,{"$f":"IF(D424=\"\",\"\",DATEDIF(D424,$E$1,\"Y\"))","v":""}]
[null,null,null,null,{"$f":"IF(D425=\"\",\"\",DATEDIF(D425,$E$1,\"Y\"))","v":""}]
[null,null,null,null,{"$f":"IF(D426=\"\",\"\",DATEDIF(D426,$E$1,\"Y\"))","v":""}]
[null,null,null,null,{"$f":"IF(D427=\"\",\"\",DATEDIF(D427,$E$1,\"Y\"))","v":""}]
[null,null,null,null,{"$f":"IF(D428=\"\",\"\",DATEDIF(D428,$E$1,\"Y\"))","v":""}]
[null,null,null,null,{"$f":"IF(D429=\"\",\"\",DATEDIF(D429,$E$1,\"Y\"))","v":""}]
[null,null,null,null,{"$f":"IF(D430=\"\",\"\",DATEDIF(D430,$E$1,\"Y\"))","v":""}]
[null,null,null,null,{"$f":"IF(D431=\"\",\"\",DATEDIF(D431,$E$1,\"Y\"))","v":""}]
[null,null,null,null,{"$f":"IF(D432=\"\",\"\",DATEDIF(D432,$E$1,\"Y\"))","v":""}]
[null,null,null,null,{"$f":"IF(D433=\"\",\"\",DATEDIF(D433,$E$1,\"Y\"))","v":""}]
[null,null,null,null,{"$f":"IF(D434=\"\",\"\",DATEDIF(D434,$E$1,\"Y\"))","v":""}]
[null,null,null,null,{"$f":"IF(D435=\"\",\"\",DATEDIF(D435,$E$1,\"Y\"))","v":""}]
[null,null,null,null,{"$f":"IF(D436=\"\",\"\",DATEDIF(D436,$E$1,\"Y\"))","v":""}]
[null,null,null,null,{"$f":"IF(D437=\"\",\"\",DATEDIF(D437,$E$1,\"Y\"))","v":""}]
[null,null,null,null,{"$f":"IF(D438=\"\",\"\",DATEDIF(D438,$E$1,\"Y\"))","v":""}]
[null,null,null,null,{"$f":"IF(D439=\"\",\"\",DATEDIF(D439,$E$1,\"Y\"))","v":""}]
[null,null,null,null,{"$f":"IF(D440=\"\",\"\",DATEDIF(D440,$E$1,\"Y\"))","v":""}]
[null,null,null,null,{"$f":"IF(D441=\"\",\"\",DATEDIF(D441,$E$1,\"Y\"))","v":""}]
[null,null,null,null,{"$f":"IF(D442=\"\",\"\",DATEDIF(D442,$E$1,\"Y\"))","v":""}]
[null,null,null,null,{"$f":"IF(D443=\"\",\"\",DATEDIF(D443,$E$1,\"Y\"))","v":""}]
[null,null,null,null,{"$f":"IF(D444=\"\",\"\",DATEDIF(D444,$E$1,\"Y\"))","v":""}]
[null,null,null,null,{"$f":"IF(D445=\"\",\"\",DATEDIF(D445,$E$1,\"Y\"))","v":""}]
[null,null,null,null,{"$f":"IF(D446=\"\",\"\",DATEDIF(D446,$E$1,\"Y\"))","v":""}]
[null,null,null,null,{"$f":"IF(D447=\"\",\"\",DATEDIF(D447,$E$1,\"Y\"))","v":""}]
[null,null,null,null,{"$f":"IF(D448=\"\",\"\",DATEDIF(D448,$E$1,\"Y\"))","v":""}]
[null,null,null,null,{"$f":"IF(D449=\"\",\"\",DATEDIF(D449,$E$1,\"Y\"))","v":""}]
[null,null,null,null,{"$f":"IF(D450=\"\",\"\",DATEDIF(D450,$E$1,\"Y\"))","v":""}]
[null,null,null,null,{"$f":"IF(D451=\"\",\"\",DATEDIF(D451,$E$1,\"Y\"))","v":""}]
[null,null,null,null,{"$f":"IF(D452=\"\",\"\",DATEDIF(D452,$E$1,\"Y\"))","v":""}]
[null,null,null,null,{"$f":"IF(D453=\"\",\"\",DATEDIF(D453,$E$1,\"Y\"))","v":""}]
[null,null,null,null,{"$f":"IF(D454=\"\",\"\",DATEDIF(D454,$E$1,\"Y\"))","v":""}]
[null,null,null,null,{"$f":"IF(D455=\"\",\"\",DATEDIF(D455,$E$1,\"Y\"))","v":""}]
[null,null,null,null,{"$f":"IF(D456=\"\",\"\",DATEDIF(D456,$E$1,\"Y\"))","v":""}]
[null,null,null,null,{"$f":"IF(D457=\"\",\"\",DATEDIF(D457,$E$1,\"Y\"))","v":""}]
[null,null,null,null,{"$f":"IF(D458=\"\",\"\",DATEDIF(D458,$E$1,\"Y\"))","v":""}]
[null,null,null,null,{"$f":"IF(D459=\"\",\"\",DATEDIF(D459,$E$1,\"Y\"))","v":""}]
[null,null,null,null,{"$f":"IF(D460=\"\",\"\",DATEDIF(D460,$E$1,\"Y\"))","v":""}]
[null,null,null,null,{"$f":"IF(D461=\"\",\"\",DATEDIF(D461,$E$1,\"Y\"))","v":""}]
[null,null,null,null,{"$f":"IF(D462=\"\",\"\",DATEDIF(D462,$E$1,\"Y\"))","v":""}]
[null,null,null,null,{"$f":"IF(D463=\"\",\"\",DATEDIF(D463,$E$1,\"Y\"))","v":""}]
[null,null,null,null,{"$f":"IF(D464=\"\",\"\",DATEDIF(D464,$E$1,\"Y\"))","v":""}]
[null,null,null,null,{"$f":"IF(D465=\"\",\"\",DATEDIF(D465,$E$1,\"Y\"))","v":""}]
[null,null,null,null,{"$f":"IF(D466=\"\",\"\",DATEDIF(D466,$E$1,\"Y\"))","v":""}]
[null,null,null,null,{"$f":"IF(D467=\"\",\"\",DATEDIF(D467,$E$1,\"Y\"))","v":""}]
[null,null,null,null,{"$f":"IF(D468=\"\",\"\",DATEDIF(D468,$E$1,\"Y\"))","v":""}]
[null,null,null,null,{"$f":"IF(D469=\"\",\"\",DATEDIF(D469,$E$1,\"Y\"))","v":""}]
[null,null,null,null,{"$f":"IF(D470=\"\",\"\",DATEDIF(D470,$E$1,\"Y\"))","v":""}]
[null,null,null,null,{"$f":"IF(D471=\"\",\"\",DATEDIF(D471,$E$1,\"Y\"))","v":""}]
[null,null,null,null,{"$f":"IF(D472=\"\",\"\",DATEDIF(D472,$E$1,\"Y\"))","v":""}]
[null,null,null,null,{"$f":"IF(D473=\"\",\"\",DATEDIF(D473,$E$1,\"Y\"))","v":""}]
[null,null,null,null,{"$f":"IF(D474=\"\",\"\",DATEDIF(D474,$E$1,\"Y\"))","v":""}]
[null,null,null,null,{"$f":"IF(D475=\"\",\"\",DATEDIF(D475,$E$1,\"Y\"))","v":""}]
[null,null,null,null,{"$f":"IF(D476=\"\",\"\",DATEDIF(D476,$E$1,\"Y\"))","v":""}]
[null,null,null,null,{"$f":"IF(D477=\"\",\"\",DATEDIF(D477,$E$1,\"Y\"))","v":""}]
[null,null,null,null,{"$f":"IF(D478=\"\",\"\",DATEDIF(D478,$E$1,\"Y\"))","v":""}]
[null,null,null,null,{"$f":"IF(D479=\"\",\"\",DATEDIF(D479,$E$1,\"Y\"))","v":""}]
[null,null,null,null,{"$f":"IF(D480=\"\",\"\",DATEDIF(D480,$E$1,\"Y\"))","v":""}]
[null,null,null,null,{"$f":"IF(D481=\"\",\"\",DATEDIF(D481,$E$1,\"Y\"))","v":""}]
[null,null,null,null,{"$f":"IF(D482=\"\",\"\",DATEDIF(D482,$E$1,\"Y\"))","v":""}]
[null,null,null,null,{"$f":"IF(D483=\"\",\"\",DATEDIF(D483,$E$1,\"Y\"))","v":""}]
[null,null,null,null,{"$f":"IF(D484=\"\",\"\",DATEDIF(D484,$E$1,\"Y\"))","v":""}]
[null,null,null,null,{"$f":"IF(D485=\"\",\"\",DATEDIF(D485,$E$1,\"Y\"))","v":""}]
[null,null,null,null,{"$f":"IF(D486=\"\",\"\",DATEDIF(D486,$E$1,\"Y\"))","v":""}]
[null,null,null,null,{"$f":"IF(D487=\"\",\"\",DATEDIF(D487,$E$1,\"Y\"))","v":""}]
[null,null,null,null,{"$f":"IF(D488=\"\",\"\",DATEDIF(D488,$E$1,\"Y\"))","v":""}]
[null,null,null,null,{"$f":"IF(D489=\"\",\"\",DATEDIF(D489,$E$1,\"Y\"))","v":""}]
[null,null,null,null,{"$f":"IF(D490=\"\",\"\",DATEDIF(D490,$E$1,\"Y\"))","v":""}]
[null,null,null,null,{"$f":"IF(D491=\"\",\"\",DATEDIF(D491,$E$1,\"Y\"))","v":""}]
[null,null,null,null,{"$f":"IF(D492=\"\",\"\",DATEDIF(D492,$E$1,\"Y\"))","v":""}]
[null,null,null,null,{"$f":"IF(D493=\"\",\"\",DATEDIF(D493,$E$1,\"Y\"))","v":""}]
[null,null,null,null,{"$f":"IF(D494=\"\",\"\",DATEDIF(D494,$E$1,\"Y\"))","v":""}]
[null,null,null,null,{"$f":"IF(D495=\"\",\"\",DATEDIF(D495,$E$1,\"Y\"))","v":""}]
[null,null,null,null,{"$f":"IF(D496=\"\",\"\",DATEDIF(D496,$E$1,\"Y\"))","v":""}]
[null,null,null,null,{"$f":"IF(D497=\"\",\"\",DATEDIF(D497,$E$1,\"Y\"))","v":""}]
[null,null,null,null,{"$f":"IF(D498=\"\",\"\",DATEDIF(D498,$E$1,\"Y\"))","v":""}]
[null,null,null,null,{"$f":"IF(D499=\"\",\"\",DATEDIF(D499,$E$1,\"Y\"))","v":""}]
[null,null,null,null,{"$f":"IF(D500=\"\",\"\",DATEDIF(D500,$E$1,\"Y\"))","v":""}]
[null,null,null,null,{"$f":"IF(D501=\"\",\"\",DATEDIF(D501,$E$1,\"Y\"))","v":""}]
[null,null,null,null,{"$f":"IF(D502=\"\",\"\",DATEDIF(D502,$E$1,\"Y\"))","v":""}]
[null,null,null,null,{"$f":"IF(D503=\"\",\"\",DATEDIF(D503,$E$1,\"Y\"))","v":""}]
[null,null,null,null,{"$f":"IF(D504=\"\",\"\",DATEDIF(D504,$E$1,\"Y\"))","v":""}]
[null,null,null,null,{"$f":"IF(D505=\"\",\"\",DATEDIF(D505,$E$1,\"Y\"))","v":""}]
[null,null,null,null,{"$f":"IF(D506=\"\",\"\",DATEDIF(D506,$E$1,\"Y\"))","v":""}]
[null,null,null,null,{"$f":"IF(D507=\"\",\"\",DATEDIF(D507,$E$1,\"Y\"))","v":""}]
[null,null,null,null,{"$f":"IF(D508=\"\",\"\",DATEDIF(D508,$E$1,\"Y\"))","v":""}]
[null,null,null,null,{"$f":"IF(D509=\"\",\"\",DATEDIF(D509,$E$1,\"Y\"))","v":""}]
[null,null,null,null,{"$f":"IF(D510=\"\",\"\",DATEDIF(D510,$E$1,\"Y\"))","v":""}]
[null,null,null,null,{"$f":"IF(D511=\"\",\"\",DATEDIF(D511,$E$1,\"Y\"))","v":""}]
[null,null,null,null,{"$f":"IF(D512=\"\",\"\",DATEDIF(D512,$E$1,\"Y\"))","v":""}]
[null,null,null,null,{"$f":"IF(D513=\"\",\"\",DATEDIF(D513,$E$1,\"Y\"))","v":""}]
[null,null,null,null,{"$f":"IF(D514=\"\",\"\",DATEDIF(D514,$E$1,\"Y\"))","v":""}]
[null,null,null,null,{"$f":"IF(D515=\"\",\"\",DATEDIF(D515,$E$1,\"Y\"))","v":""}]
[null,null,null,null,{"$f":"IF(D516=\"\",\"\",DATEDIF(D516,$E$1,\"Y\"))","v":""}]
[null,null,null,null,{"$f":"IF(D517=\"\",\"\",DATEDIF(D517,$E$1,\"Y\"))","v":""}]
[null,null,null,null,{"$f":"IF(D518=\"\",\"\",DATEDIF(D518,$E$1,\"Y\"))","v":""}]
[null,null,null,null,{"$f":"IF(D519=\"\",\"\",DATEDIF(D519,$E$1,\"Y\"))","v":""}]
[null,null,null,null,{"$f":"IF(D520=\"\",\"\",DATEDIF(D520,$E$1,\"Y\"))","v":""}]
[null,null,null,null,{"$f":"IF(D521=\"\",\"\",DATEDIF(D521,$E$1,\"Y\"))","v":""}]
[null,null,null,null,{"$f":"IF(D522=\"\",\"\",DATEDIF(D522,$E$1,\"Y\"))","v":""}]
[null,null,null,null,{"$f":"IF(D523=\"\",\"\",DATEDIF(D523,$E$1,\"Y\"))","v":""}]
[null,null,null,null,{"$f":"IF(D524=\"\",\"\",DATEDIF(D524,$E$1,\"Y\"))","v":""}]
[null,null,null,null,{"$f":"IF(D525=\"\",\"\",DATEDIF(D525,$E$1,\"Y\"))","v":""}]
[null,null,null,null,{"$f":"IF(D526=\"\",\"\",DATEDIF(D526,$E$1,\"Y\"))","v":""}]
[null,null,null,null,{"$f":"IF(D527=\"\",\"\",DATEDIF(D527,$E$1,\"Y\"))","v":""}]
[null,null,null,null,{"$f":"IF(D528=\"\",\"\",DATEDIF(D528,$E$1,\"Y\"))","v":""}]
[null,null,null,null,{"$f":"IF(D529=\"\",\"\",DATEDIF(D529,$E$1,\"Y\"))","v":""}]
[null,null,null,null,{"$f":"IF(D530=\"\",\"\",DATEDIF(D530,$E$1,\"Y\"))","v":""}]
[null,null,null,null,{"$f":"IF(D531=\"\",\"\",DATEDIF(D531,$E$1,\"Y\"))","v":""}]
[null,null,null,null,{"$f":"IF(D532=\"\",\"\",DATEDIF(D532,$E$1,\"Y\"))","v":""}]
[null,null,null,null,{"$f":"IF(D533=\"\",\"\",DATEDIF(D533,$E$1,\"Y\"))","v":""}]
[null,null,null,null,{"$f":"IF(D534=\"\",\"\",DATEDIF(D534,$E$1,\"Y\"))","v":""}]
[null,null,null,null,{"$f":"IF(D535=\"\",\"\",DATEDIF(D535,$E$1,\"Y\"))","v":""}]
[null,null,null,null,{"$f":"IF(D536=\"\",\"\",DATEDIF(D536,$E$1,\"Y\"))","v":""}]
[null,null,null,null,{"$f":"IF(D537=\"\",\"\",DATEDIF(D537,$E$1,\"Y\"))","v":""}]
[null,null,null,null,{"$f":"IF(D538=\"\",\"\",DATEDIF(D538,$E$1,\"Y\"))","v":""}]
[null,null,null,null,{"$f":"IF(D539=\"\",\"\",DATEDIF(D539,$E$1,\"Y\"))","v":""}]
[null,null,null,null,{"$f":"IF(D540=\"\",\"\",DATEDIF(D540,$E$1,\"Y\"))","v":""}]
[null,null,null,null,{"$f":"IF(D541=\"\",\"\",DATEDIF(D541,$E$1,\"Y\"))","v":""}]
[null,null,null,null,{"$f":"IF(D542=\"\",\"\",DATEDIF(D542,$E$1,\"Y\"))","v":""}]
[null,null,null,null,{"$f":"IF(D543=\"\",\"\",DATEDIF(D543,$E$1,\"Y\"))","v":""}]
[null,null,null,null,{"$f":"IF(D544=\"\",\"\",DATEDIF(D544,$E$1,\"Y\"))","v":""}]
[null,null,null,null,{"$f":"IF(D545=\"\",\"\",DATEDIF(D545,$E$1,\"Y\"))","v":""}]
[null,null,null,null,{"$f":"IF(D546=\"\",\"\",DATEDIF(D546,$E$1,\"Y\"))","v":""}]
[null,null,null,null,{"$f":"IF(D547=\"\",\"\",DATEDIF(D547,$E$1,\"Y\"))","v":""}]
[null,null,null,null,{"$f":"IF(D548=\"\",\"\",DATEDIF(D548,$E$1,\"Y\"))","v":""}]
[null,null,null,null,{"$f":"IF(D549=\"\",\"\",DATEDIF(D549,$E$1,\"Y\"))","v":""}]
[null,null,null,null,{"$f":"IF(D550=\"\",\"\",DATEDIF(D550,$E$1,\"Y\"))","v":""}]
[null,null,null,null,{"$f":"IF(D551=\"\",\"\",DATEDIF(D551,$E$1,\"Y\"))","v":""}]
[null,null,null,null,{"$f":"IF(D552=\"\",\"\",DATEDIF(D552,$E$1,\"Y\"))","v":""}]
[null,null,null,null,{"$f":"IF(D553=\"\",\"\",DATEDIF(D553,$E$1,\"Y\"))","v":""}]
[null,null,null,null,{"$f":"IF(D554=\"\",\"\",DATEDIF(D554,$E$1,\"Y\"))","v":""}]
[null,null,null,null,{"$f":"IF(D555=\"\",\"\",DATEDIF(D555,$E$1,\"Y\"))","v":""}]
[null,null,null,null,{"$f":"IF(D556=\"\",\"\",DATEDIF(D556,$E$1,\"Y\"))","v":""}]
[null,null,null,null,{"$f":"IF(D557=\"\",\"\",DATEDIF(D557,$E$1,\"Y\"))","v":""}]
[null,null,null,null,{"$f":"IF(D558=\"\",\"\",DATEDIF(D558,$E$1,\"Y\"))","v":""}]
[null,null,null,null,{"$f":"IF(D559=\"\",\"\",DATEDIF(D559,$E$1,\"Y\"))","v":""}]
[null,null,null,null,{"$f":"IF(D560=\"\",\"\",DATEDIF(D560,$E$1,\"Y\"))","v":""}]
[null,null,null,null,{"$f":"IF(D561=\"\",\"\",DATEDIF(D561,$E$1,\"Y\"))","v":""}]
[null,null,null,null,{"$f":"IF(D562=\"\",\"\",DATEDIF(D562,$E$1,\"Y\"))","v":""}]
[null,null,null,null,{"$f":"IF(D563=\"\",\"\",DATEDIF(D563,$E$1,\"Y\"))","v":""}]
[null,null,null,null,{"$f":"IF(D564=\"\",\"\",DATEDIF(D564,$E$1,\"Y\"))","v":""}]
[null,null,null,null,{"$f":"IF(D565=\"\",\"\",DATEDIF(D565,$E$1,\"Y\"))","v":""}]
[null,null,null,null,{"$f":"IF(D566=\"\",\"\",DATEDIF(D566,$E$1,\"Y\"))","v":""}]
[null,null,null,null,{"$f":"IF(D567=\"\",\"\",DATEDIF(D567,$E$1,\"Y\"))","v":""}]
[null,null,null,null,{"$f":"IF(D568=\"\",\"\",DATEDIF(D568,$E$1,\"Y\"))","v":""}]
[null,null,null,null,{"$f":"IF(D569=\"\",\"\",DATEDIF(D569,$E$1,\"Y\"))","v":""}]
[null,null,null,null,{"$f":"IF(D570=\"\",\"\",DATEDIF(D570,$E$1,\"Y\"))","v":""}]
[null,null,null,null,{"$f":"IF(D571=\"\",\"\",DATEDIF(D571,$E$1,\"Y\"))","v":""}]
[null,null,null,null,{"$f":"IF(D572=\"\",\"\",DATEDIF(D572,$E$1,\"Y\"))","v":""}]
[null,null,null,null,{"$f":"IF(D573=\"\",\"\",DATEDIF(D573,$E$1,\"Y\"))","v":""}]
[null,null,null,null,{"$f":"IF(D574=\"\",\"\",DATEDIF(D574,$E$1,\"Y\"))","v":""}]
[null,null,null,null,{"$f":"IF(D575=\"\",\"\",DATEDIF(D575,$E$1,\"Y\"))","v":""}]
[null,null,null,null,{"$f":"IF(D576=\"\",\"\",DATEDIF(D576,$E$1,\"Y\"))","v":""}]
[null,null,null,null,{"$f":"IF(D577=\"\",\"\",DATEDIF(D577,$E$1,\"Y\"))","v":""}]
[null,null,null,null,{"$f":"IF(D578=\"\",\"\",DATEDIF(D578,$E$1,\"Y\"))","v":""}]
[null,null,null,null,{"$f":"IF(D579=\"\",\"\",DATEDIF(D579,$E$1,\"Y\"))","v":""}]
[null,null,null,null,{"$f":"IF(D580=\"\",\"\",DATEDIF(D580,$E$1,\"Y\"))","v":""}]
[null,null,null,null,{"$f":"IF(D581=\"\",\"\",DATEDIF(D581,$E$1,\"Y\"))","v":""}]
[null,null,null,null,{"$f":"IF(D582=\"\",\"\",DATEDIF(D582,$E$1,\"Y\"))","v":""}]
[null,null,null,null,{"$f":"IF(D583=\"\",\"\",DATEDIF(D583,$E$1,\"Y\"))","v":""}]
[null,null,null,null,{"$f":"IF(D584=\"\",\"\",DATEDIF(D584,$E$1,\"Y\"))","v":""}]
[null,null,null,null,{"$f":"IF(D585=\"\",\"\",DATEDIF(D585,$E$1,\"Y\"))","v":""}]
[null,null,null,null,{"$f":"IF(D586=\"\",\"\",DATEDIF(D586,$E$1,\"Y\"))","v":""}]
[null,null,null,null,{"$f":"IF(D587=\"\",\"\",DATEDIF(D587,$E$1,\"Y\"))","v":""}]
[null,null,null,null,{"$f":"IF(D588=\"\",\"\",DATEDIF(D588,$E$1,\"Y\"))","v":""}]
[null,null,null,null,{"$f":"IF(D589=\"\",\"\",DATEDIF(D589,$E$1,\"Y\"))","v":""}]
[null,null,null,null,{"$f":"IF(D590=\"\",\"\",DATEDIF(D590,$E$1,\"Y\"))","v":""}]
[null,null,null,null,{"$f":"IF(D591=\"\",\"\",DATEDIF(D591,$E$1,\"Y\"))","v":""}]
[null,null,null,null,{"$f":"IF(D592=\"\",\"\",DATEDIF(D592,$E$1,\"Y\"))","v":""}]
[null,null,null,null,{"$f":"IF(D593=\"\",\"\",DATEDIF(D593,$E$1,\"Y\"))","v":""}]
[null,null,null,null,{"$f":"IF(D594=\"\",\"\",DATEDIF(D594,$E$1,\"Y\"))","v":""}]
[null,null,null,null,{"$f":"IF(D595=\"\",\"\",DATEDIF(D595,$E$1,\"Y\"))","v":""}]
[null,null,null,null,{"$f":"IF(D596=\"\",\"\",DATEDIF(D596,$E$1,\"Y\"))","v":""}]
[null,null,null,null,{"$f":"IF(D597=\"\",\"\",DATEDIF(D597,$E$1,\"Y\"))","v":""}]
[null,null,null,null,{"$f":"IF(D598=\"\",\"\",DATEDIF(D598,$E$1,\"Y\"))","v":""}]
[null,null,null,null,{"$f":"IF(D599=\"\",\"\",DATEDIF(D599,$E$1,\"Y\"))","v":""}]
[null,null,null,null,{"$f":"IF(D600=\"\",\"\",DATEDIF(D600,$E$1,\"Y\"))","v":""}]
[null,null,null,null,{"$f":"IF(D601=\"\",\"\",DATEDIF(D601,$E$1,\"Y\"))","v":""}]
[null,null,null,null,{"$f":"IF(D602=\"\",\"\",DATEDIF(D602,$E$1,\"Y\"))","v":""}]
[null,null,null,null,{"$f":"IF(D603=\"\",\"\",DATEDIF(D603,$E$1,\"Y\"))","v":""}]
[null,null,null,null,{"$f":"IF(D604=\"\",\"\",DATEDIF(D604,$E$1,\"Y\"))","v":""}]
[null,null,null,null,{"$f":"IF(D605=\"\",\"\",DATEDIF(D605,$E$1,\"Y\"))","v":""}]
[null,null,null,null,{"$f":"IF(D606=\"\",\"\",DATEDIF(D606,$E$1,\"Y\"))","v":""}]
[null,null,null,null,{"$f":"IF(D607=\"\",\"\",DATEDIF(D607,$E$1,\"Y\"))","v":""}]
[null,null,null,null,{"$f":"IF(D608=\"\",\"\",DATEDIF(D608,$E$1,\"Y\"))","v":""}]
[null,null,null,null,{"$f":"IF(D609=\"\",\"\",DATEDIF(D609,$E$1,\"Y\"))","v":""}]
[null,null,null,null,{"$f":"IF(D610=\"\",\"\",DATEDIF(D610,$E$1,\"Y\"))","v":""}]
[null,null,null,null,{"$f":"IF(D611=\"\",\"\",DATEDIF(D611,$E$1,\"Y\"))","v":""}]
[null,null,null,null,{"$f":"IF(D612=\"\",\"\",DATEDIF(D612,$E$1,\"Y\"))","v":""}]
[null,null,null,null,{"$f":"IF(D613=\"\",\"\",DATEDIF(D613,$E$1,\"Y\"))","v":""}]
[null,null,null,null,{"$f":"IF(D614=\"\",\"\",DATEDIF(D614,$E$1,\"Y\"))","v":""}]
[null,null,null,null,{"$f":"IF(D615=\"\",\"\",DATEDIF(D615,$E$1,\"Y\"))","v":""}]
[null,null,null,null,{"$f":"IF(D616=\"\",\"\",DATEDIF(D616,$E$1,\"Y\"))","v":""}]
[null,null,null,null,{"$f":"IF(D617=\"\",\"\",DATEDIF(D617,$E$1,\"Y\"))","v":""}]
[null,null,null,null,{"$f":"IF(D618=\"\",\"\",DATEDIF(D618,$E$1,\"Y\"))","v":""}]
[null,null,null,null,{"$f":"IF(D619=\"\",\"\",DATEDIF(D619,$E$1,\"Y\"))","v":""}]
[null,null,null,null,{"$f":"IF(D620=\"\",\"\",DATEDIF(D620,$E$1,\"Y\"))","v":""}]
[null,null,null,null,{"$f":"IF(D621=\"\",\"\",DATEDIF(D621,$E$1,\"Y\"))","v":""}]
[null,null,null,null,{"$f":"IF(D622=\"\",\"\",DATEDIF(D622,$E$1,\"Y\"))","v":""}]
[null,null,null,null,{"$f":"IF(D623=\"\",\"\",DATEDIF(D623,$E$1,\"Y\"))","v":""}]
[null,null,null,null,{"$f":"IF(D624=\"\",\"\",DATEDIF(D624,$E$1,\"Y\"))","v":""}]
[null,null,null,null,{"$f":"IF(D625=\"\",\"\",DATEDIF(D625,$E$1,\"Y\"))","v":""}]
[null,null,null,null,{"$f":"IF(D626=\"\",\"\",DATEDIF(D626,$E$1,\"Y\"))","v":""}]
[null,null,null,null,{"$f":"IF(D627=\"\",\"\",DATEDIF(D627,$E$1,\"Y\"))","v":""}]
[null,null,null,null,{"$f":"IF(D628=\"\",\"\",DATEDIF(D628,$E$1,\"Y\"))","v":""}]
[null,null,null,null,{"$f":"IF(D629=\"\",\"\",DATEDIF(D629,$E$1,\"Y\"))","v":""}]
[null,null,null,null,{"$f":"IF(D630=\"\",\"\",DATEDIF(D630,$E$1,\"Y\"))","v":""}]
[null,null,null,null,{"$f":"IF(D631=\"\",\"\",DATEDIF(D631,$E$1,\"Y\"))","v":""}]
[null,null,null,null,{"$f":"IF(D632=\"\",\"\",DATEDIF(D632,$E$1,\"Y\"))","v":""}]
[null,null,null,null,{"$f":"IF(D633=\"\",\"\",DATEDIF(D633,$E$1,\"Y\"))","v":""}]
[null,null,null,null,{"$f":"IF(D634=\"\",\"\",DATEDIF(D634,$E$1,\"Y\"))","v":""}]
[null,null,null,null,{"$f":"IF(D635=\"\",\"\",DATEDIF(D635,$E$1,\"Y\"))","v":""}]
[null,null,null,null,{"$f":"IF(D636=\"\",\"\",DATEDIF(D636,$E$1,\"Y\"))","v":""}]
[null,null,null,null,{"$f":"IF(D637=\"\",\"\",DATEDIF(D637,$E$1,\"Y\"))","v":""}]
[null,null,null,null,{"$f":"IF(D638=\"\",\"\",DATEDIF(D638,$E$1,\"Y\"))","v":""}]
[null,null,null,null,{"$f":"IF(D639=\"\",\"\",DATEDIF(D639,$E$1,\"Y\"))","v":""}]
[null,null,null,null,{"$f":"IF(D640=\"\",\"\",DATEDIF(D640,$E$1,\"Y\"))","v":""}]
[null,null,null,null,{"$f":"IF(D641=\"\",\"\",DATEDIF(D641,$E$1,\"Y\"))","v":""}]
[null,null,null,null,{"$f":"IF(D642=\"\",\"\",DATEDIF(D642,$E$1,\"Y\"))","v":""}]
[null,null,null,null,{"$f":"IF(D643=\"\",\"\",DATEDIF(D643,$E$1,\"Y\"))","v":""}]
[null,null,null,null,{"$f":"IF(D644=\"\",\"\",DATEDIF(D644,$E$1,\"Y\"))","v":""}]
[null,null,null,null,{"$f":"IF(D645=\"\",\"\",DATEDIF(D645,$E$1,\"Y\"))","v":""}]
[null,null,null,null,{"$f":"IF(D646=\"\",\"\",DATEDIF(D646,$E$1,\"Y\"))","v":""}]
[null,null,null,null,{"$f":"IF(D647=\"\",\"\",DATEDIF(D647,$E$1,\"Y\"))","v":""}]
[null,null,null,null,{"$f":"IF(D648=\"\",\"\",DATEDIF(D648,$E$1,\"Y\"))","v":""}]
[null,null,null,null,{"$f":"IF(D649=\"\",\"\",DATEDIF(D649,$E$1,\"Y\"))","v":""}]
[null,null,null,null,{"$f":"IF(D650=\"\",\"\",DATEDIF(D650,$E$1,\"Y\"))","v":""}]
[null,null,null,null,{"$f":"IF(D651=\"\",\"\",DATEDIF(D651,$E$1,\"Y\"))","v":""}]
[null,null,null,null,{"$f":"IF(D652=\"\",\"\",DATEDIF(D652,$E$1,\"Y\"))","v":""}]
[null,null,null,null,{"$f":"IF(D653=\"\",\"\",DATEDIF(D653,$E$1,\"Y\"))","v":""}]
[null,null,null,null,{"$f":"IF(D654=\"\",\"\",DATEDIF(D654,$E$1,\"Y\"))","v":""}]
[null,null,null,null,{"$f":"IF(D655=\"\",\"\",DATEDIF(D655,$E$1,\"Y\"))","v":""}]
[null,null,null,null,{"$f":"IF(D656=\"\",\"\",DATEDIF(D656,$E$1,\"Y\"))","v":""}]
[null,null,null,null,{"$f":"IF(D657=\"\",\"\",DATEDIF(D657,$E$1,\"Y\"))","v":""}]
[null,null,null,null,{"$f":"IF(D658=\"\",\"\",DATEDIF(D658,$E$1,\"Y\"))","v":""}]
[null,null,null,null,{"$f":"IF(D659=\"\",\"\",DATEDIF(D659,$E$1,\"Y\"))","v":""}]
[null,null,null,null,{"$f":"IF(D660=\"\",\"\",DATEDIF(D660,$E$1,\"Y\"))","v":""}]
[null,null,null,null,{"$f":"IF(D661=\"\",\"\",DATEDIF(D661,$E$1,\"Y\"))","v":""}]
[null,null,null,null,{"$f":"IF(D662=\"\",\"\",DATEDIF(D662,$E$1,\"Y\"))","v":""}]
[null,null,null,null,{"$f":"IF(D663=\"\",\"\",DATEDIF(D663,$E$1,\"Y\"))","v":""}]
[null,null,null,null,{"$f":"IF(D664=\"\",\"\",DATEDIF(D664,$E$1,\"Y\"))","v":""}]
[null,null,null,null,{"$f":"IF(D665=\"\",\"\",DATEDIF(D665,$E$1,\"Y\"))","v":""}]
[null,null,null,null,{"$f":"IF(D666=\"\",\"\",DATEDIF(D666,$E$1,\"Y\"))","v":""}]
[null,null,null,null,{"$f":"IF(D667=\"\",\"\",DATEDIF(D667,$E$1,\"Y\"))","v":""}]
[null,null,null,null,{"$f":"IF(D668=\"\",\"\",DATEDIF(D668,$E$1,\"Y\"))","v":""}]
[null,null,null,null,{"$f":"IF(D669=\"\",\"\",DATEDIF(D669,$E$1,\"Y\"))","v":""}]
[null,null,null,null,{"$f":"IF(D670=\"\",\"\",DATEDIF(D670,$E$1,\"Y\"))","v":""}]
[null,null,null,null,{"$f":"IF(D671=\"\",\"\",DATEDIF(D671,$E$1,\"Y\"))","v":""}]
[null,null,null,null,{"$f":"IF(D672=\"\",\"\",DATEDIF(D672,$E$1,\"Y\"))","v":""}]
[null,null,null,null,{"$f":"IF(D673=\"\",\"\",DATEDIF(D673,$E$1,\"Y\"))","v":""}]
[null,null,null,null,{"$f":"IF(D674=\"\",\"\",DATEDIF(D674,$E$1,\"Y\"))","v":""}]
[null,null,null,null,{"$f":"IF(D675=\"\",\"\",DATEDIF(D675,$E$1,\"Y\"))","v":""}]
[null,null,null,null,{"$f":"IF(D676=\"\",\"\",DATEDIF(D676,$E$1,\"Y\"))","v":""}]
[null,null,null,null,{"$f":"IF(D677=\"\",\"\",DATEDIF(D677,$E$1,\"Y\"))","v":""}]
[null,null,null,null,{"$f":"IF(D678=\"\",\"\",DATEDIF(D678,$E$1,\"Y\"))","v":""}]
[null,null,null,null,{"$f":"IF(D679=\"\",\"\",DATEDIF(D679,$E$1,\"Y\"))","v":""}]
[null,null,null,null,{"$f":"IF(D680=\"\",\"\",DATEDIF(D680,$E$1,\"Y\"))","v":""}]
[null,null,null,null,{"$f":"IF(D681=\"\",\"\",DATEDIF(D681,$E$1,\"Y\"))","v":""}]
[null,null,null,null,{"$f":"IF(D682=\"\",\"\",DATEDIF(D682,$E$1,\"Y\"))","v":""}]
[null,null,null,null,{"$f":"IF(D683=\"\",\"\",DATEDIF(D683,$E$1,\"Y\"))","v":""}]
[null,null,null,null,{"$f":"IF(D684=\"\",\"\",DATEDIF(D684,$E$1,\"Y\"))","v":""}]
[null,null,null,null,{"$f":"IF(D685=\"\",\"\",DATEDIF(D685,$E$1,\"Y\"))","v":""}]
[null,null,null,null,{"$f":"IF(D686=\"\",\"\",DATEDIF(D686,$E$1,\"Y\"))","v":""}]
[null,null,null,null,{"$f":"IF(D687=\"\",\"\",DATEDIF(D687,$E$1,\"Y\"))","v":""}]
[null,null,null,null,{"$f":"IF(D688=\"\",\"\",DATEDIF(D688,$E$1,\"Y\"))","v":""}]
[null,null,null,null,{"$f":"IF(D689=\"\",\"\",DATEDIF(D689,$E$1,\"Y\"))","v":""}]
[null,null,null,null,{"$f":"IF(D690=\"\",\"\",DATEDIF(D690,$E$1,\"Y\"))","v":""}]
[null,null,null,null,{"$f":"IF(D691=\"\",\"\",DATEDIF(D691,$E$1,\"Y\"))","v":""}]
[null,null,null,null,{"$f":"IF(D692=\"\",\"\",DATEDIF(D692,$E$1,\"Y\"))","v":""}]
[null,null,null,null,{"$f":"IF(D693=\"\",\"\",DATEDIF(D693,$E$1,\"Y\"))","v":""}]
[null,null,null,null,{"$f":"IF(D694=\"\",\"\",DATEDIF(D694,$E$1,\"Y\"))","v":""}]
[null,null,null,null,{"$f":"IF(D695=\"\",\"\",DATEDIF(D695,$E$1,\"Y\"))","v":""}]
[null,null,null,null,{"$f":"IF(D696=\"\",\"\",DATEDIF(D696,$E$1,\"Y\"))","v":""}]
[null,null,null,null,{"$f":"IF(D697=\"\",\"\",DATEDIF(D697,$E$1,\"Y\"))","v":""}]
[null,null,null,null,{"$f":"IF(D698=\"\",\"\",DATEDIF(D698,$E$1,\"Y\"))","v":""}]
[null,null,null,null,{"$f":"IF(D699=\"\",\"\",DATEDIF(D699,$E$1,\"Y\"))","v":""}]
[null,null,null,null,{"$f":"IF(D700=\"\",\"\",DATEDIF(D700,$E$1,\"Y\"))","v":""}]
[null,null,null,null,{"$f":"IF(D701=\"\",\"\",DATEDIF(D701,$E$1,\"Y\"))","v":""}]
[null,null,null,null,{"$f":"IF(D702=\"\",\"\",DATEDIF(D702,$E$1,\"Y\"))","v":""}]
[null,null,null,null,{"$f":"IF(D703=\"\",\"\",DATEDIF(D703,$E$1,\"Y\"))","v":""}]
[null,null,null,null,{"$f":"IF(D704=\"\",\"\",DATEDIF(D704,$E$1,\"Y\"))","v":""}]
[null,null,null,null,{"$f":"IF(D705=\"\",\"\",DATEDIF(D705,$E$1,\"Y\"))","v":""}]
[null,null,null,null,{"$f":"IF(D706=\"\",\"\",DATEDIF(D706,$E$1,\"Y\"))","v":""}]
[null,null,null,null,{"$f":"IF(D707=\"\",\"\",DATEDIF(D707,$E$1,\"Y\"))","v":""}]
[null,null,null,null,{"$f":"IF(D708=\"\",\"\",DATEDIF(D708,$E$1,\"Y\"))","v":""}]
[null,null,null,null,{"$f":"IF(D709=\"\",\"\",DATEDIF(D709,$E$1,\"Y\"))","v":""}]
[null,null,null,null,{"$f":"IF(D710=\"\",\"\",DATEDIF(D710,$E$1,\"Y\"))","v":""}]
[null,null,null,null,{"$f":"IF(D711=\"\",\"\",DATEDIF(D711,$E$1,\"Y\"))","v":""}]
[null,null,null,null,{"$f":"IF(D712=\"\",\"\",DATEDIF(D712,$E$1,\"Y\"))","v":""}]
[null,null,null,null,{"$f":"IF(D713=\"\",\"\",DATEDIF(D713,$E$1,\"Y\"))","v":""}]
[null,null,null,null,{"$f":"IF(D714=\"\",\"\",DATEDIF(D714,$E$1,\"Y\"))","v":""}]
[null,null,null,null,{"$f":"IF(D715=\"\",\"\",DATEDIF(D715,$E$1,\"Y\"))","v":""}]
[null,null,null,null,{"$f":"IF(D716=\"\",\"\",DATEDIF(D716,$E$1,\"Y\"))","v":""}]
[null,null,null,null,{"$f":"IF(D717=\"\",\"\",DATEDIF(D717,$E$1,\"Y\"))","v":""}]
[null,null,null,null,{"$f":"IF(D718=\"\",\"\",DATEDIF(D718,$E$1,\"Y\"))","v":""}]
[null,null,null,null,{"$f":"IF(D719=\"\",\"\",DATEDIF(D719,$E$1,\"Y\"))","v":""}]
[null,null,null,null,{"$f":"IF(D720=\"\",\"\",DATEDIF(D720,$E$1,\"Y\"))","v":""}]
[null,null,null,null,{"$f":"IF(D721=\"\",\"\",DATEDIF(D721,$E$1,\"Y\"))","v":""}]
[null,null,null,null,{"$f":"IF(D722=\"\",\"\",DATEDIF(D722,$E$1,\"Y\"))","v":""}]
[null,null,null,null,{"$f":"IF(D723=\"\",\"\",DATEDIF(D723,$E$1,\"Y\"))","v":""}]
[null,null,null,null,{"$f":"IF(D724=\"\",\"\",DATEDIF(D724,$E$1,\"Y\"))","v":""}]
[null,null,null,null,{"$f":"IF(D725=\"\",\"\",DATEDIF(D725,$E$1,\"Y\"))","v":""}]
[null,null,null,null,{"$f":"IF(D726=\"\",\"\",DATEDIF(D726,$E$1,\"Y\"))","v":""}]
[null,null,null,null,{"$f":"IF(D727=\"\",\"\",DATEDIF(D727,$E$1,\"Y\"))","v":""}]
[null,null,null,null,{"$f":"IF(D728=\"\",\"\",DATEDIF(D728,$E$1,\"Y\"))","v":""}]
[null,null,null,null,{"$f":"IF(D729=\"\",\"\",DATEDIF(D729,$E$1,\"Y\"))","v":""}]
[null,null,null,null,{"$f":"IF(D730=\"\",\"\",DATEDIF(D730,$E$1,\"Y\"))","v":""}]
[null,null,null,null,{"$f":"IF(D731=\"\",\"\",DATEDIF(D731,$E$1,\"Y\"))","v":""}]
[null,null,null,null,{"$f":"IF(D732=\"\",\"\",DATEDIF(D732,$E$1,\"Y\"))","v":""}]
[null,null,null,null,{"$f":"IF(D733=\"\",\"\",DATEDIF(D733,$E$1,\"Y\"))","v":""}]
[null,null,null,null,{"$f":"IF(D734=\"\",\"\",DATEDIF(D734,$E$1,\"Y\"))","v":""}]
[null,null,null,null,{"$f":"IF(D735=\"\",\"\",DATEDIF(D735,$E$1,\"Y\"))","v":""}]
[null,null,null,null,{"$f":"IF(D736=\"\",\"\",DATEDIF(D736,$E$1,\"Y\"))","v":""}]
[null,null,null,null,{"$f":"IF(D737=\"\",\"\",DATEDIF(D737,$E$1,\"Y\"))","v":""}]
[null,null,null,null,{"$f":"IF(D738=\"\",\"\",DATEDIF(D738,$E$1,\"Y\"))","v":""}]
[null,null,null,null,{"$f":"IF(D739=\"\",\"\",DATEDIF(D739,$E$1,\"Y\"))","v":""}]
[null,null,null,null,{"$f":"IF(D740=\"\",\"\",DATEDIF(D740,$E$1,\"Y\"))","v":""}]
[null,null,null,null,{"$f":"IF(D741=\"\",\"\",DATEDIF(D741,$E$1,\"Y\"))","v":""}]
[null,null,null,null,{"$f":"IF(D742=\"\",\"\",DATEDIF(D742,$E$1,\"Y\"))","v":""}]
[null,null,null,null,{"$f":"IF(D743=\"\",\"\",DATEDIF(D743,$E$1,\"Y\"))","v":""}]
[null,null,null,null,{"$f":"IF(D744=\"\",\"\",DATEDIF(D744,$E$1,\"Y\"))","v":""}]
[null,null,null,null,{"$f":"IF(D745=\"\",\"\",DATEDIF(D745,$E$1,\"Y\"))","v":""}]
[null,null,null,null,{"$f":"IF(D746=\"\",\"\",DATEDIF(D746,$E$1,\"Y\"))","v":""}]
[null,null,null,null,{"$f":"IF(D747=\"\",\"\",DATEDIF(D747,$E$1,\"Y\"))","v":""}]
[null,null,null,null,{"$f":"IF(D748=\"\",\"\",DATEDIF(D748,$E$1,\"Y\"))","v":""}]
[null,null,null,null,{"$f":"IF(D749=\"\",\"\",DATEDIF(D749,$E$1,\"Y\"))","v":""}]
[null,null,null,null,{"$f":"IF(D750=\"\",\"\",DATEDIF(D750,$E$1,\"Y\"))","v":""}]
[null,null,null,null,{"$f":"IF(D751=\"\",\"\",DATEDIF(D751,$E$1,\"Y\"))","v":""}]
[null,null,null,null,{"$f":"IF(D752=\"\",\"\",DATEDIF(D752,$E$1,\"Y\"))","v":""}]
[null,null,null,null,{"$f":"IF(D753=\"\",\"\",DATEDIF(D753,$E$1,\"Y\"))","v":""}]
[null,null,null,null,{"$f":"IF(D754=\"\",\"\",DATEDIF(D754,$E$1,\"Y\"))","v":""}]
[null,null,null,null,{"$f":"IF(D755=\"\",\"\",DATEDIF(D755,$E$1,\"Y\"))","v":""}]
[null,null,null,null,{"$f":"IF(D756=\"\",\"\",DATEDIF(D756,$E$1,\"Y\"))","v":""}]
[null,null,null,null,{"$f":"IF(D757=\"\",\"\",DATEDIF(D757,$E$1,\"Y\"))","v":""}]
[null,null,null,null,{"$f":"IF(D758=\"\",\"\",DATEDIF(D758,$E$1,\"Y\"))","v":""}]
[null,null,null,null,{"$f":"IF(D759=\"\",\"\",DATEDIF(D759,$E$1,\"Y\"))","v":""}]
[null,null,null,null,{"$f":"IF(D760=\"\",\"\",DATEDIF(D760,$E$1,\"Y\"))","v":""}]
[null,null,null,null,{"$f":"IF(D761=\"\",\"\",DATEDIF(D761,$E$1,\"Y\"))","v":""}]
[null,null,null,null,{"$f":"IF(D762=\"\",\"\",DATEDIF(D762,$E$1,\"Y\"))","v":""}]
[null,null,null,null,{"$f":"IF(D763=\"\",\"\",DATEDIF(D763,$E$1,\"Y\"))","v":""}]
[null,null,null,null,{"$f":"IF(D764=\"\",\"\",DATEDIF(D764,$E$1,\"Y\"))","v":""}]
[null,null,null,null,{"$f":"IF(D765=\"\",\"\",DATEDIF(D765,$E$1,\"Y\"))","v":""}]
[null,null,null,null,{"$f":"IF(D766=\"\",\"\",DATEDIF(D766,$E$1,\"Y\"))","v":""}]
[null,null,null,null,{"$f":"IF(D767=\"\",\"\",DATEDIF(D767,$E$1,\"Y\"))","v":""}]
[null,null,null,null,{"$f":"IF(D768=\"\",\"\",DATEDIF(D768,$E$1,\"Y\"))","v":""}]
[null,null,null,null,{"$f":"IF(D769=\"\",\"\",DATEDIF(D769,$E$1,\"Y\"))","v":""}]
[null,null,null,null,{"$f":"IF(D770=\"\",\"\",DATEDIF(D770,$E$1,\"Y\"))","v":""}]
[null,null,null,null,{"$f":"IF(D771=\"\",\"\",DATEDIF(D771,$E$1,\"Y\"))","v":""}]
[null,null,null,null,{"$f":"IF(D772=\"\",\"\",DATEDIF(D772,$E$1,\"Y\"))","v":""}]
[null,null,null,null,{"$f":"IF(D773=\"\",\"\",DATEDIF(D773,$E$1,\"Y\"))","v":""}]
[null,null,null,null,{"$f":"IF(D774=\"\",\"\",DATEDIF(D774,$E$1,\"Y\"))","v":""}]
[null,null,null,null,{"$f":"IF(D775=\"\",\"\",DATEDIF(D775,$E$1,\"Y\"))","v":""}]
[null,null,null,null,{"$f":"IF(D776=\"\",\"\",DATEDIF(D776,$E$1,\"Y\"))","v":""}]
[null,null,null,null,{"$f":"IF(D777=\"\",\"\",DATEDIF(D777,$E$1,\"Y\"))","v":""}]
[null,null,null,null,{"$f":"IF(D778=\"\",\"\",DATEDIF(D778,$E$1,\"Y\"))","v":""}]
[null,null,null,null,{"$f":"IF(D779=\"\",\"\",DATEDIF(D779,$E$1,\"Y\"))","v":""}]
[null,null,null,null,{"$f":"IF(D780=\"\",\"\",DATEDIF(D780,$E$1,\"Y\"))","v":""}]
[null,null,null,null,{"$f":"IF(D781=\"\",\"\",DATEDIF(D781,$E$1,\"Y\"))","v":""}]
[null,null,null,null,{"$f":"IF(D782=\"\",\"\",DATEDIF(D782,$E$1,\"Y\"))","v":""}]
[null,null,null,null,{"$f":"IF(D783=\"\",\"\",DATEDIF(D783,$E$1,\"Y\"))","v":""}]
[null,null,null,null,{"$f":"IF(D784=\"\",\"\",DATEDIF(D784,$E$1,\"Y\"))","v":""}]
[null,null,null,null,{"$f":"IF(D785=\"\",\"\",DATEDIF(D785,$E$1,\"Y\"))","v":""}]
[null,null,null,null,{"$f":"IF(D786=\"\",\"\",DATEDIF(D786,$E$1,\"Y\"))","v":""}]
[null,null,null,null,{"$f":"IF(D787=\"\",\"\",DATEDIF(D787,$E$1,\"Y\"))","v":""}]
[null,null,null,null,{"$f":"IF(D788=\"\",\"\",DATEDIF(D788,$E$1,\"Y\"))","v":""}]
[null,null,null,null,{"$f":"IF(D789=\"\",\"\",DATEDIF(D789,$E$1,\"Y\"))","v":""}]
[null,null,null,null,{"$f":"IF(D790=\"\",\"\",DATEDIF(D790,$E$1,\"Y\"))","v":""}]
[null,null,null,null,{"$f":"IF(D791=\"\",\"\",DATEDIF(D791,$E$1,\"Y\"))","v":""}]
[null,null,null,null,{"$f":"IF(D792=\"\",\"\",DATEDIF(D792,$E$1,\"Y\"))","v":""}]
[null,null,null,null,{"$f":"IF(D793=\"\",\"\",DATEDIF(D793,$E$1,\"Y\"))","v":""}]
[null,null,null,null,{"$f":"IF(D794=\"\",\"\",DATEDIF(D794,$E$1,\"Y\"))","v":""}]
[null,null,null,null,{"$f":"IF(D795=\"\",\"\",DATEDIF(D795,$E$1,\"Y\"))","v":""}]
[null,null,null,null,{"$f":"IF(D796=\"\",\"\",DATEDIF(D796,$E$1,\"Y\"))","v":""}]
[null,null,null,null,{"$f":"IF(D797=\"\",\"\",DATEDIF(D797,$E$1,\"Y\"))","v":""}]
[null,null,null,null,{"$f":"IF(D798=\"\",\"\",DATEDIF(D798,$E$1,\"Y\"))","v":""}]
[null,null,null,null,{"$f":"IF(D799=\"\",\"\",DATEDIF(D799,$E$1,\"Y\"))","v":""}]
[null,null,null,null,{"$f":"IF(D800=\"\",\"\",DATEDIF(D800,$E$1,\"Y\"))","v":""}]
[null,null,null,null,{"$f":"IF(D801=\"\",\"\",DATEDIF(D801,$E$1,\"Y\"))","v":""}]
[null,null,null,null,{"$f":"IF(D802=\"\",\"\",DATEDIF(D802,$E$1,\"Y\"))","v":""}]
[null,null,null,null,{"$f":"IF(D803=\"\",\"\",DATEDIF(D803,$E$1,\"Y\"))","v":""}]
[null,null,null,null,{"$f":"IF(D804=\"\",\"\",DATEDIF(D804,$E$1,\"Y\"))","v":""}]
[null,null,null,null,{"$f":"IF(D805=\"\",\"\",DATEDIF(D805,$E$1,\"Y\"))","v":""}]
[null,null,null,null,{"$f":"IF(D806=\"\",\"\",DATEDIF(D806,$E$1,\"Y\"))","v":""}]
[null,null,null,null,{"$f":"IF(D807=\"\",\"\",DATEDIF(D807,$E$1,\"Y\"))","v":""}]
[null,null,null,null,{"$f":"IF(D808=\"\",\"\",DATEDIF(D808,$E$1,\"Y\"))","v":""}]
[null,null,null,null,{"$f":"IF(D809=\"\",\"\",DATEDIF(D809,$E$1,\"Y\"))","v":""}]
[null,null,null,null,{"$f":"IF(D810=\"\",\"\",DATEDIF(D810,$E$1,\"Y\"))","v":""}]
[null,null,null,null,{"$f":"IF(D811=\"\",\"\",DATEDIF(D811,$E$1,\"Y\"))","v":""}]
[null,null,null,null,{"$f":"IF(D812=\"\",\"\",DATEDIF(D812,$E$1,\"Y\"))","v":""}]
[null,null,null,null,{"$f":"IF(D813=\"\",\"\",DATEDIF(D813,$E$1,\"Y\"))","v":""}]
[null,null,null,null,{"$f":"IF(D814=\"\",\"\",DATEDIF(D814,$E$1,\"Y\"))","v":""}]
[null,null,null,null,{"$f":"IF(D815=\"\",\"\",DATEDIF(D815,$E$1,\"Y\"))","v":""}]
[null,null,null,null,{"$f":"IF(D816=\"\",\"\",DATEDIF(D816,$E$1,\"Y\"))","v":""}]
[null,null,null,null,{"$f":"IF(D817=\"\",\"\",DATEDIF(D817,$E$1,\"Y\"))","v":""}]
[null,null,null,null,{"$f":"IF(D818=\"\",\"\",DATEDIF(D818,$E$1,\"Y\"))","v":""}]
[null,null,null,null,{"$f":"IF(D819=\"\",\"\",DATEDIF(D819,$E$1,\"Y\"))","v":""}]
[null,null,null,null,{"$f":"IF(D820=\"\",\"\",DATEDIF(D820,$E$1,\"Y\"))","v":""}]
[null,null,null,null,{"$f":"IF(D821=\"\",\"\",DATEDIF(D821,$E$1,\"Y\"))","v":""}]
[null,null,null,null,{"$f":"IF(D822=\"\",\"\",DATEDIF(D822,$E$1,\"Y\"))","v":""}]
[null,null,null,null,{"$f":"IF(D823=\"\",\"\",DATEDIF(D823,$E$1,\"Y\"))","v":""}]
[null,null,null,null,{"$f":"IF(D824=\"\",\"\",DATEDIF(D824,$E$1,\"Y\"))","v":""}]
[null,null,null,null,{"$f":"IF(D825=\"\",\"\",DATEDIF(D825,$E$1,\"Y\"))","v":""}]
[null,null,null,null,{"$f":"IF(D826=\"\",\"\",DATEDIF(D826,$E$1,\"Y\"))","v":""}]
[null,null,null,null,{"$f":"IF(D827=\"\",\"\",DATEDIF(D827,$E$1,\"Y\"))","v":""}]
[null,null,null,null,{"$f":"IF(D828=\"\",\"\",DATEDIF(D828,$E$1,\"Y\"))","v":""}]
[null,null,null,null,{"$f":"IF(D829=\"\",\"\",DATEDIF(D829,$E$1,\"Y\"))","v":""}]
[null,null,null,null,{"$f":"IF(D830=\"\",\"\",DATEDIF(D830,$E$1,\"Y\"))","v":""}]
[null,null,null,null,{"$f":"IF(D831=\"\",\"\",DATEDIF(D831,$E$1,\"Y\"))","v":""}]
[null,null,null,null,{"$f":"IF(D832=\"\",\"\",DATEDIF(D832,$E$1,\"Y\"))","v":""}]
[null,null,null,null,{"$f":"IF(D833=\"\",\"\",DATEDIF(D833,$E$1,\"Y\"))","v":""}]
[null,null,null,null,{"$f":"IF(D834=\"\",\"\",DATEDIF(D834,$E$1,\"Y\"))","v":""}]
[null,null,null,null,{"$f":"IF(D835=\"\",\"\",DATEDIF(D835,$E$1,\"Y\"))","v":""}]
[null,null,null,null,{"$f":"IF(D836=\"\",\"\",DATEDIF(D836,$E$1,\"Y\"))","v":""}]
[null,null,null,null,{"$f":"IF(D837=\"\",\"\",DATEDIF(D837,$E$1,\"Y\"))","v":""}]
[null,null,null,null,{"$f":"IF(D838=\"\",\"\",DATEDIF(D838,$E$1,\"Y\"))","v":""}]
[null,null,null,null,{"$f":"IF(D839=\"\",\"\",DATEDIF(D839,$E$1,\"Y\"))","v":""}]
[null,null,null,null,{"$f":"IF(D840=\"\",\"\",DATEDIF(D840,$E$1,\"Y\"))","v":""}]
[null,null,null,null,{"$f":"IF(D841=\"\",\"\",DATEDIF(D841,$E$1,\"Y\"))","v":""}]
[null,null,null,null,{"$f":"IF(D842=\"\",\"\",DATEDIF(D842,$E$1,\"Y\"))","v":""}]
[null,null,null,null,{"$f":"IF(D843=\"\",\"\",DATEDIF(D843,$E$1,\"Y\"))","v":""}]
[null,null,null,null,{"$f":"IF(D844=\"\",\"\",DATEDIF(D844,$E$1,\"Y\"))","v":""}]
[null,null,null,null,{"$f":"IF(D845=\"\",\"\",DATEDIF(D845,$E$1,\"Y\"))","v":""}]
[null,null,null,null,{"$f":"IF(D846=\"\",\"\",DATEDIF(D846,$E$1,\"Y\"))","v":""}]
[null,null,null,null,{"$f":"IF(D847=\"\",\"\",DATEDIF(D847,$E$1,\"Y\"))","v":""}]
[null,null,null,null,{"$f":"IF(D848=\"\",\"\",DATEDIF(D848,$E$1,\"Y\"))","v":""}]
[null,null,null,null,{"$f":"IF(D849=\"\",\"\",DATEDIF(D849,$E$1,\"Y\"))","v":""}]
[null,null,null,null,{"$f":"IF(D850=\"\",\"\",DATEDIF(D850,$E$1,\"Y\"))","v":""}]
[null,null,null,null,{"$f":"IF(D851=\"\",\"\",DATEDIF(D851,$E$1,\"Y\"))","v":""}]
[null,null,null,null,{"$f":"IF(D852=\"\",\"\",DATEDIF(D852,$E$1,\"Y\"))","v":""}]
[null,null,null,null,{"$f":"IF(D853=\"\",\"\",DATEDIF(D853,$E$1,\"Y\"))","v":""}]
[null,null,null,null,{"$f":"IF(D854=\"\",\"\",DATEDIF(D854,$E$1,\"Y\"))","v":""}]
[null,null,null,null,{"$f":"IF(D855=\"\",\"\",DATEDIF(D855,$E$1,\"Y\"))","v":""}]
[null,null,null,null,{"$f":"IF(D856=\"\",\"\",DATEDIF(D856,$E$1,\"Y\"))","v":""}]
[null,null,null,null,{"$f":"IF(D857=\"\",\"\",DATEDIF(D857,$E$1,\"Y\"))","v":""}]
[null,null,null,null,{"$f":"IF(D858=\"\",\"\",DATEDIF(D858,$E$1,\"Y\"))","v":""}]
[null,null,null,null,null,null,null,null,null,null,null,null,null,null,null,null,null,null,null,null,null,null,null,null,null,"",null,"",""]
[null,null,null,null,null,null,null,null,null,null,null,null,null,null,null,null,null,null,null,null,null,null,null,null,null,"",null,"",""]
[]
[]
[]
[]
[]
[]
[]
[]
[]
[]
[]
[]
[]
[]
[]
[]
[]
[]
[]
[]
[]
[]
[]
[]
[]
[]
[]
[]
[]
[]
[]
[]
[]
[]
[]
[]
[]
[]
[]
[]
[]
[]
[]
[]
[]
[]
[]
[]
[]
[]
[]
[]
[]
[]
[]
[]
[]
[]
[]
[]
[]
[]
[]
[]
[]
[]
[]
[]
[]
[]
[]
[]
[]
[]
[]
[]
[]
[]
[]
[]
[]
[]
[]
[]
[]
[]
[]
[]
[]
[]
[]
[]
[]
[]
[]
[]
[]
[]
[]
[]
[]
[]
[]
[]
[]
[]
[]
[]
[]
[]
[]
[]
[]
[]
[]
[]
[]
[]
[]
[]
[]
[]
[]
[]
[null,null,null,null,null,null,null,null,null,null,null,null,null,null,null,null,null,null,null,null,null,null,null,null,null,null,null,null,null,""]
[]
[]
[]
[]
[]
[]
[]
[]
[]
[]
[]
[]
[]
[]
[]
[]
[]
[]
[]
[]
[]
[]
[]
[]
[]
[]
[]
[]
[]
[]
[]
[]
[]
[]
[]
[]
[]
[]
[]
[]
[]
[]
[]
[]
[]
[]
[]
[]
[]
[]
[]
[]
[]
[]
[]
[]
[null,null,null,null,null,null,null,null,null,null,null,null,null,null,null,null,null,null,null,null,null,null,null,null,null,null,null,null,null,null,null,null,null,null,null,null,"Name"]
[null,null,null,null,null,null,null,null,null,null,null,null,null,null,null,null,null,null,null,null,null,null,null,null,null,null,null,null,null,null,null,null,null,null,null,null,"Vorname"]
[null,null,null,null,null,null,null,null,null,null,null,null,null,null,null,null,null,null,null,null,null,null,null,null,null,null,null,null,null,null,null,null,null,null,null,null,"Alter"]
[null,null,null,null,null,null,null,null,null,null,null,null,null,null,null,null,null,null,null,null,null,null,null,null,null,null,null,null,null,null,null,null,null,null,null,null,"PLZ"]
[null,null,null,null,null,null,null,null,null,null,null,null,null,null,null,null,null,null,null,null,null,null,null,null,null,null,null,null,null,null,null,null,null,null,null,null,"Eintrittsjahr"]
[null,null,null,null,null,null,null,null,null,null,null,null,null,null,null,null,null,null,null,null,null,null,null,null,null,null,null,null,null,null,null,null,null,null,null,null,"Sonstiges 1"]
[null,null,null,null,null,null,null,null,null,null,null,null,null,null,null,null,null,null,null,null,null,null,null,null,null,null,null,null,null,null,null,null,null,null,null,null,"Sonstiges 2"]
[null,null,null,null,null,null,null,null,null,null,null,null,null,null,null,null,null,null,null,null,null,null,null,null,null,null,null,null,null,null,null,null,null,null,null,null,"Sonstiges 3"]
[null,null,null,null,null,null,null,null,null,null,null,null,null,null,null,null,null,null,null,null,null,null,null,null,null,null,null,null,null,null,null,null,null,null,null,null,"Zusätzlich I"]
[null,null,null,null,null,null,null,null,null,null,null,null,null,null,null,null,null,null,null,null,null,null,null,null,null,null,null,null,null,null,null,null,null,null,null,null,"Zusätzlich II"]
[null,null,null,null,null,null,null,null,null,null,null,null,null,null,null,null,null,null,null,null,null,null,null,null,null,null,null,null,null,null,null,null,null,null,null,null,"Zusätzlich III"]

{"sheet":"Jugendleiter","index":4,"n_rows":1388,"n_cols":20,"rows_kept":1388,"cut":false,"hidden":false,"merged":[]}
[" Nr.","Name","Vorname","Straße","PLZ, Ort","Telefon","Email","Amt im Verein ","Geburtstag",{"$f":"TODAY()","v":"2019-02-28"},"Jugendleiter grundschulung Teil I","Jugendleiter grundschulung Teil II","Erste-Hilfe-Kurs","JULEICA Nr.","JULEICA       gültig bis",null,"(Bezeichnung eintragen)","(Bezeichnung eintragen)",{"$f":"Erhebungsbogen!I2","v":"(Vereinsort eintragen)"},{"$f":"Erhebungsbogen!J1","v":2019}]
[null,null,null,null,null,null,null,null,null,{"$f":"IF(I2=\"\",\"\",DATEDIF(I2,$J$1,\"Y\"))","v":""}]
[null,null,null,null,null,null,null,null,null,{"$f":"IF(I3=\"\",\"\",DATEDIF(I3,$J$1,\"Y\"))","v":""}]
[null,null,null,null,null,null,null,null,null,{"$f":"IF(I4=\"\",\"\",DATEDIF(I4,$J$1,\"Y\"))","v":""}]
[null,null,null,null,null,null,null,null,null,{"$f":"IF(I5=\"\",\"\",DATEDIF(I5,$J$1,\"Y\"))","v":""}]
[null,null,null,null,null,null,null,null,null,{"$f":"IF(I6=\"\",\"\",DATEDIF(I6,$J$1,\"Y\"))","v":""}]
[null,null,null,null,null,null,null,null,null,{"$f":"IF(I7=\"\",\"\",DATEDIF(I7,$J$1,\"Y\"))","v":""}]
[null,null,null,null,null,null,null,null,null,{"$f":"IF(I8=\"\",\"\",DATEDIF(I8,$J$1,\"Y\"))","v":""}]
[null,null,null,null,null,null,null,null,null,{"$f":"IF(I9=\"\",\"\",DATEDIF(I9,$J$1,\"Y\"))","v":""}]
[null,null,null,null,null,null,null,null,null,{"$f":"IF(I10=\"\",\"\",DATEDIF(I10,$J$1,\"Y\"))","v":""}]
[null,null,null,null,null,null,null,null,null,{"$f":"IF(I11=\"\",\"\",DATEDIF(I11,$J$1,\"Y\"))","v":""}]
[null,null,null,null,null,null,null,null,null,{"$f":"IF(I12=\"\",\"\",DATEDIF(I12,$J$1,\"Y\"))","v":""}]
[null,null,null,null,null,null,null,null,null,{"$f":"IF(I13=\"\",\"\",DATEDIF(I13,$J$1,\"Y\"))","v":""}]
[null,null,null,null,null,null,null,null,null,{"$f":"IF(I14=\"\",\"\",DATEDIF(I14,$J$1,\"Y\"))","v":""}]
[null,null,null,null,null,null,null,null,null,{"$f":"IF(I15=\"\",\"\",DATEDIF(I15,$J$1,\"Y\"))","v":""}]
[null,null,null,null,null,null,null,null,null,{"$f":"IF(I16=\"\",\"\",DATEDIF(I16,$J$1,\"Y\"))","v":""}]
[null,null,null,null,null,null,null,null,null,{"$f":"IF(I17=\"\",\"\",DATEDIF(I17,$J$1,\"Y\"))","v":""}]
[null,null,null,null,null,null,null,null,null,{"$f":"IF(I18=\"\",\"\",DATEDIF(I18,$J$1,\"Y\"))","v":""}]
[null,null,null,null,null,null,null,null,null,{"$f":"IF(I19=\"\",\"\",DATEDIF(I19,$J$1,\"Y\"))","v":""}]
[null,null,null,null,null,null,null,null,null,{"$f":"IF(I20=\"\",\"\",DATEDIF(I20,$J$1,\"Y\"))","v":""}]
[null,null,null,null,null,null,null,null,null,{"$f":"IF(I21=\"\",\"\",DATEDIF(I21,$J$1,\"Y\"))","v":""}]
[null,null,null,null,null,null,null,null,null,{"$f":"IF(I22=\"\",\"\",DATEDIF(I22,$J$1,\"Y\"))","v":""}]
[null,null,null,null,null,null,null,null,null,{"$f":"IF(I23=\"\",\"\",DATEDIF(I23,$J$1,\"Y\"))","v":""}]
[null,null,null,null,null,null,null,null,null,{"$f":"IF(I24=\"\",\"\",DATEDIF(I24,$J$1,\"Y\"))","v":""}]
[null,null,null,null,null,null,null,null,null,{"$f":"IF(I25=\"\",\"\",DATEDIF(I25,$J$1,\"Y\"))","v":""}]
[null,null,null,null,null,null,null,null,null,{"$f":"IF(I26=\"\",\"\",DATEDIF(I26,$J$1,\"Y\"))","v":""}]
[null,null,null,null,null,null,null,null,null,{"$f":"IF(I27=\"\",\"\",DATEDIF(I27,$J$1,\"Y\"))","v":""}]
[null,null,null,null,null,null,null,null,null,{"$f":"IF(I28=\"\",\"\",DATEDIF(I28,$J$1,\"Y\"))","v":""}]
[null,null,null,null,null,null,null,null,null,{"$f":"IF(I29=\"\",\"\",DATEDIF(I29,$J$1,\"Y\"))","v":""}]
[null,null,null,null,null,null,null,null,null,{"$f":"IF(I30=\"\",\"\",DATEDIF(I30,$J$1,\"Y\"))","v":""}]
[null,null,null,null,null,null,null,null,null,{"$f":"IF(I31=\"\",\"\",DATEDIF(I31,$J$1,\"Y\"))","v":""}]
[null,null,null,null,null,null,null,null,null,{"$f":"IF(I32=\"\",\"\",DATEDIF(I32,$J$1,\"Y\"))","v":""}]
[null,null,null,null,null,null,null,null,null,{"$f":"IF(I33=\"\",\"\",DATEDIF(I33,$J$1,\"Y\"))","v":""}]
[null,null,null,null,null,null,null,null,null,{"$f":"IF(I34=\"\",\"\",DATEDIF(I34,$J$1,\"Y\"))","v":""}]
[null,null,null,null,null,null,null,null,null,{"$f":"IF(I35=\"\",\"\",DATEDIF(I35,$J$1,\"Y\"))","v":""}]
[null,null,null,null,null,null,null,null,null,{"$f":"IF(I36=\"\",\"\",DATEDIF(I36,$J$1,\"Y\"))","v":""}]
[null,null,null,null,null,null,null,null,null,{"$f":"IF(I37=\"\",\"\",DATEDIF(I37,$J$1,\"Y\"))","v":""}]
[null,null,null,null,null,null,null,null,null,{"$f":"IF(I38=\"\",\"\",DATEDIF(I38,$J$1,\"Y\"))","v":""}]
[null,null,null,null,null,null,null,null,null,{"$f":"IF(I39=\"\",\"\",DATEDIF(I39,$J$1,\"Y\"))","v":""}]
[null,null,null,null,null,null,null,null,null,{"$f":"IF(I40=\"\",\"\",DATEDIF(I40,$J$1,\"Y\"))","v":""}]
[null,null,null,null,null,null,null,null,null,{"$f":"IF(I41=\"\",\"\",DATEDIF(I41,$J$1,\"Y\"))","v":""}]
[null,null,null,null,null,null,null,null,null,{"$f":"IF(I42=\"\",\"\",DATEDIF(I42,$J$1,\"Y\"))","v":""}]
[null,null,null,null,null,null,null,null,null,{"$f":"IF(I43=\"\",\"\",DATEDIF(I43,$J$1,\"Y\"))","v":""}]
[null,null,null,null,null,null,null,null,null,{"$f":"IF(I44=\"\",\"\",DATEDIF(I44,$J$1,\"Y\"))","v":""}]
[null,null,null,null,null,null,null,null,null,{"$f":"IF(I45=\"\",\"\",DATEDIF(I45,$J$1,\"Y\"))","v":""}]
[null,null,null,null,null,null,null,null,null,{"$f":"IF(I46=\"\",\"\",DATEDIF(I46,$J$1,\"Y\"))","v":""}]
[null,null,null,null,null,null,null,null,null,{"$f":"IF(I47=\"\",\"\",DATEDIF(I47,$J$1,\"Y\"))","v":""}]
[null,null,null,null,null,null,null,null,null,{"$f":"IF(I48=\"\",\"\",DATEDIF(I48,$J$1,\"Y\"))","v":""}]
[null,null,null,null,null,null,null,null,null,{"$f":"IF(I49=\"\",\"\",DATEDIF(I49,$J$1,\"Y\"))","v":""}]
[null,null,null,null,null,null,null,null,null,{"$f":"IF(I50=\"\",\"\",DATEDIF(I50,$J$1,\"Y\"))","v":""}]
[null,null,null,null,null,null,null,null,null,{"$f":"IF(I51=\"\",\"\",DATEDIF(I51,$J$1,\"Y\"))","v":""}]
[null,null,null,null,null,null,null,null,null,{"$f":"IF(I52=\"\",\"\",DATEDIF(I52,$J$1,\"Y\"))","v":""}]
[null,null,null,null,null,null,null,null,null,{"$f":"IF(I53=\"\",\"\",DATEDIF(I53,$J$1,\"Y\"))","v":""}]
[null,null,null,null,null,null,null,null,null,{"$f":"IF(I54=\"\",\"\",DATEDIF(I54,$J$1,\"Y\"))","v":""}]
[null,null,null,null,null,null,null,null,null,{"$f":"IF(I55=\"\",\"\",DATEDIF(I55,$J$1,\"Y\"))","v":""}]
[null,null,null,null,null,null,null,null,null,{"$f":"IF(I56=\"\",\"\",DATEDIF(I56,$J$1,\"Y\"))","v":""}]
[null,null,null,null,null,null,null,null,null,{"$f":"IF(I57=\"\",\"\",DATEDIF(I57,$J$1,\"Y\"))","v":""}]
[null,null,null,null,null,null,null,null,null,{"$f":"IF(I58=\"\",\"\",DATEDIF(I58,$J$1,\"Y\"))","v":""}]
[null,null,null,null,null,null,null,null,null,{"$f":"IF(I59=\"\",\"\",DATEDIF(I59,$J$1,\"Y\"))","v":""}]
[null,null,null,null,null,null,null,null,null,{"$f":"IF(I60=\"\",\"\",DATEDIF(I60,$J$1,\"Y\"))","v":""}]
[null,null,null,null,null,null,null,null,null,{"$f":"IF(I61=\"\",\"\",DATEDIF(I61,$J$1,\"Y\"))","v":""}]
[null,null,null,null,null,null,null,null,null,{"$f":"IF(I62=\"\",\"\",DATEDIF(I62,$J$1,\"Y\"))","v":""}]
[null,null,null,null,null,null,null,null,null,{"$f":"IF(I63=\"\",\"\",DATEDIF(I63,$J$1,\"Y\"))","v":""}]
[null,null,null,null,null,null,null,null,null,{"$f":"IF(I64=\"\",\"\",DATEDIF(I64,$J$1,\"Y\"))","v":""}]
[null,null,null,null,null,null,null,null,null,{"$f":"IF(I65=\"\",\"\",DATEDIF(I65,$J$1,\"Y\"))","v":""}]
[null,null,null,null,null,null,null,null,null,{"$f":"IF(I66=\"\",\"\",DATEDIF(I66,$J$1,\"Y\"))","v":""}]
[null,null,null,null,null,null,null,null,null,{"$f":"IF(I67=\"\",\"\",DATEDIF(I67,$J$1,\"Y\"))","v":""}]
[null,null,null,null,null,null,null,null,null,{"$f":"IF(I68=\"\",\"\",DATEDIF(I68,$J$1,\"Y\"))","v":""}]
[null,null,null,null,null,null,null,null,null,{"$f":"IF(I69=\"\",\"\",DATEDIF(I69,$J$1,\"Y\"))","v":""}]
[null,null,null,null,null,null,null,null,null,{"$f":"IF(I70=\"\",\"\",DATEDIF(I70,$J$1,\"Y\"))","v":""}]
[null,null,null,null,null,null,null,null,null,{"$f":"IF(I71=\"\",\"\",DATEDIF(I71,$J$1,\"Y\"))","v":""}]
[null,null,null,null,null,null,null,null,null,{"$f":"IF(I72=\"\",\"\",DATEDIF(I72,$J$1,\"Y\"))","v":""}]
[null,null,null,null,null,null,null,null,null,{"$f":"IF(I73=\"\",\"\",DATEDIF(I73,$J$1,\"Y\"))","v":""}]
[null,null,null,null,null,null,null,null,null,{"$f":"IF(I74=\"\",\"\",DATEDIF(I74,$J$1,\"Y\"))","v":""}]
[null,null,null,null,null,null,null,null,null,{"$f":"IF(I75=\"\",\"\",DATEDIF(I75,$J$1,\"Y\"))","v":""}]
[null,null,null,null,null,null,null,null,null,{"$f":"IF(I76=\"\",\"\",DATEDIF(I76,$J$1,\"Y\"))","v":""}]
[null,null,null,null,null,null,null,null,null,{"$f":"IF(I77=\"\",\"\",DATEDIF(I77,$J$1,\"Y\"))","v":""}]
[null,null,null,null,null,null,null,null,null,{"$f":"IF(I78=\"\",\"\",DATEDIF(I78,$J$1,\"Y\"))","v":""}]
[null,null,null,null,null,null,null,null,null,{"$f":"IF(I79=\"\",\"\",DATEDIF(I79,$J$1,\"Y\"))","v":""}]
[null,null,null,null,null,null,null,null,null,{"$f":"IF(I80=\"\",\"\",DATEDIF(I80,$J$1,\"Y\"))","v":""}]
[null,null,null,null,null,null,null,null,null,{"$f":"IF(I81=\"\",\"\",DATEDIF(I81,$J$1,\"Y\"))","v":""}]
[null,null,null,null,null,null,null,null,null,{"$f":"IF(I82=\"\",\"\",DATEDIF(I82,$J$1,\"Y\"))","v":""}]
[null,null,null,null,null,null,null,null,null,{"$f":"IF(I83=\"\",\"\",DATEDIF(I83,$J$1,\"Y\"))","v":""}]
[null,null,null,null,null,null,null,null,null,{"$f":"IF(I84=\"\",\"\",DATEDIF(I84,$J$1,\"Y\"))","v":""}]
[null,null,null,null,null,null,null,null,null,{"$f":"IF(I85=\"\",\"\",DATEDIF(I85,$J$1,\"Y\"))","v":""}]
[null,null,null,null,null,null,null,null,null,{"$f":"IF(I86=\"\",\"\",DATEDIF(I86,$J$1,\"Y\"))","v":""}]
[null,null,null,null,null,null,null,null,null,{"$f":"IF(I87=\"\",\"\",DATEDIF(I87,$J$1,\"Y\"))","v":""}]
[null,null,null,null,null,null,null,null,null,{"$f":"IF(I88=\"\",\"\",DATEDIF(I88,$J$1,\"Y\"))","v":""}]
[null,null,null,null,null,null,null,null,null,{"$f":"IF(I89=\"\",\"\",DATEDIF(I89,$J$1,\"Y\"))","v":""}]
[null,null,null,null,null,null,null,null,null,{"$f":"IF(I90=\"\",\"\",DATEDIF(I90,$J$1,\"Y\"))","v":""}]
[null,null,null,null,null,null,null,null,null,{"$f":"IF(I91=\"\",\"\",DATEDIF(I91,$J$1,\"Y\"))","v":""}]
[null,null,null,null,null,null,null,null,null,{"$f":"IF(I92=\"\",\"\",DATEDIF(I92,$J$1,\"Y\"))","v":""}]
[null,null,null,null,null,null,null,null,null,{"$f":"IF(I93=\"\",\"\",DATEDIF(I93,$J$1,\"Y\"))","v":""}]
[null,null,null,null,null,null,null,null,null,{"$f":"IF(I94=\"\",\"\",DATEDIF(I94,$J$1,\"Y\"))","v":""}]
[null,null,null,null,null,null,null,null,null,{"$f":"IF(I95=\"\",\"\",DATEDIF(I95,$J$1,\"Y\"))","v":""}]
[null,null,null,null,null,null,null,null,null,{"$f":"IF(I96=\"\",\"\",DATEDIF(I96,$J$1,\"Y\"))","v":""}]
[null,null,null,null,null,null,null,null,null,{"$f":"IF(I97=\"\",\"\",DATEDIF(I97,$J$1,\"Y\"))","v":""}]
[null,null,null,null,null,null,null,null,null,{"$f":"IF(I98=\"\",\"\",DATEDIF(I98,$J$1,\"Y\"))","v":""}]
[null,null,null,null,null,null,null,null,null,{"$f":"IF(I99=\"\",\"\",DATEDIF(I99,$J$1,\"Y\"))","v":""}]
[null,null,null,null,null,null,null,null,null,{"$f":"IF(I100=\"\",\"\",DATEDIF(I100,$J$1,\"Y\"))","v":""}]
[null,null,null,null,null,null,null,null,null,{"$f":"IF(I101=\"\",\"\",DATEDIF(I101,$J$1,\"Y\"))","v":""}]
[null,null,null,null,null,null,null,null,null,{"$f":"IF(I102=\"\",\"\",DATEDIF(I102,$J$1,\"Y\"))","v":""}]
[null,null,null,null,null,null,null,null,null,{"$f":"IF(I103=\"\",\"\",DATEDIF(I103,$J$1,\"Y\"))","v":""}]
[null,null,null,null,null,null,null,null,null,{"$f":"IF(I104=\"\",\"\",DATEDIF(I104,$J$1,\"Y\"))","v":""}]
[null,null,null,null,null,null,null,null,null,{"$f":"IF(I105=\"\",\"\",DATEDIF(I105,$J$1,\"Y\"))","v":""}]
[null,null,null,null,null,null,null,null,null,{"$f":"IF(I106=\"\",\"\",DATEDIF(I106,$J$1,\"Y\"))","v":""}]
[null,null,null,null,null,null,null,null,null,{"$f":"IF(I107=\"\",\"\",DATEDIF(I107,$J$1,\"Y\"))","v":""}]
[null,null,null,null,null,null,null,null,null,{"$f":"IF(I108=\"\",\"\",DATEDIF(I108,$J$1,\"Y\"))","v":""}]
[null,null,null,null,null,null,null,null,null,{"$f":"IF(I109=\"\",\"\",DATEDIF(I109,$J$1,\"Y\"))","v":""}]
[null,null,null,null,null,null,null,null,null,{"$f":"IF(I110=\"\",\"\",DATEDIF(I110,$J$1,\"Y\"))","v":""}]
[null,null,null,null,null,null,null,null,null,{"$f":"IF(I111=\"\",\"\",DATEDIF(I111,$J$1,\"Y\"))","v":""}]
[null,null,null,null,null,null,null,null,null,{"$f":"IF(I112=\"\",\"\",DATEDIF(I112,$J$1,\"Y\"))","v":""}]
[null,null,null,null,null,null,null,null,null,{"$f":"IF(I113=\"\",\"\",DATEDIF(I113,$J$1,\"Y\"))","v":""}]
[null,null,null,null,null,null,null,null,null,{"$f":"IF(I114=\"\",\"\",DATEDIF(I114,$J$1,\"Y\"))","v":""}]
[null,null,null,null,null,null,null,null,null,{"$f":"IF(I115=\"\",\"\",DATEDIF(I115,$J$1,\"Y\"))","v":""}]
[null,null,null,null,null,null,null,null,null,{"$f":"IF(I116=\"\",\"\",DATEDIF(I116,$J$1,\"Y\"))","v":""}]
[null,null,null,null,null,null,null,null,null,{"$f":"IF(I117=\"\",\"\",DATEDIF(I117,$J$1,\"Y\"))","v":""}]
[null,null,null,null,null,null,null,null,null,{"$f":"IF(I118=\"\",\"\",DATEDIF(I118,$J$1,\"Y\"))","v":""}]
[null,null,null,null,null,null,null,null,null,{"$f":"IF(I119=\"\",\"\",DATEDIF(I119,$J$1,\"Y\"))","v":""}]
[null,null,null,null,null,null,null,null,null,{"$f":"IF(I120=\"\",\"\",DATEDIF(I120,$J$1,\"Y\"))","v":""}]
[null,null,null,null,null,null,null,null,null,{"$f":"IF(I121=\"\",\"\",DATEDIF(I121,$J$1,\"Y\"))","v":""}]
[null,null,null,null,null,null,null,null,null,{"$f":"IF(I122=\"\",\"\",DATEDIF(I122,$J$1,\"Y\"))","v":""}]
[null,null,null,null,null,null,null,null,null,{"$f":"IF(I123=\"\",\"\",DATEDIF(I123,$J$1,\"Y\"))","v":""}]
[null,null,null,null,null,null,null,null,null,{"$f":"IF(I124=\"\",\"\",DATEDIF(I124,$J$1,\"Y\"))","v":""}]
[null,null,null,null,null,null,null,null,null,{"$f":"IF(I125=\"\",\"\",DATEDIF(I125,$J$1,\"Y\"))","v":""}]
[null,null,null,null,null,null,null,null,null,{"$f":"IF(I126=\"\",\"\",DATEDIF(I126,$J$1,\"Y\"))","v":""}]
[null,null,null,null,null,null,null,null,null,{"$f":"IF(I127=\"\",\"\",DATEDIF(I127,$J$1,\"Y\"))","v":""}]
[null,null,null,null,null,null,null,null,null,{"$f":"IF(I128=\"\",\"\",DATEDIF(I128,$J$1,\"Y\"))","v":""}]
[null,null,null,null,null,null,null,null,null,{"$f":"IF(I129=\"\",\"\",DATEDIF(I129,$J$1,\"Y\"))","v":""}]
[null,null,null,null,null,null,null,null,null,{"$f":"IF(I130=\"\",\"\",DATEDIF(I130,$J$1,\"Y\"))","v":""}]
[null,null,null,null,null,null,null,null,null,{"$f":"IF(I131=\"\",\"\",DATEDIF(I131,$J$1,\"Y\"))","v":""}]
[null,null,null,null,null,null,null,null,null,{"$f":"IF(I132=\"\",\"\",DATEDIF(I132,$J$1,\"Y\"))","v":""}]
[null,null,null,null,null,null,null,null,null,{"$f":"IF(I133=\"\",\"\",DATEDIF(I133,$J$1,\"Y\"))","v":""},null,null,null,null,null,{"$f":"IF((COUNTA(K133,L133,M133,N133,O133)=5),1,\"\")","v":""}]
[null,null,null,null,null,null,null,null,null,{"$f":"IF(I134=\"\",\"\",DATEDIF(I134,$J$1,\"Y\"))","v":""},null,null,null,null,null,{"$f":"IF((COUNTA(K134,L134,M134,N134,O134)=5),1,\"\")","v":""}]
[null,null,null,null,null,null,null,null,null,{"$f":"IF(I135=\"\",\"\",DATEDIF(I135,$J$1,\"Y\"))","v":""},null,null,null,null,null,{"$f":"IF((COUNTA(K135,L135,M135,N135,O135)=5),1,\"\")","v":""}]
[null,null,null,null,null,null,null,null,null,{"$f":"IF(I136=\"\",\"\",DATEDIF(I136,$J$1,\"Y\"))","v":""},null,null,null,null,null,{"$f":"IF((COUNTA(K136,L136,M136,N136,O136)=5),1,\"\")","v":""}]
[null,null,null,null,null,null,null,null,null,{"$f":"IF(I137=\"\",\"\",DATEDIF(I137,$J$1,\"Y\"))","v":""},null,null,null,null,null,{"$f":"IF((COUNTA(K137,L137,M137,N137,O137)=5),1,\"\")","v":""}]
[null,null,null,null,null,null,null,null,null,{"$f":"IF(I138=\"\",\"\",DATEDIF(I138,$J$1,\"Y\"))","v":""},null,null,null,null,null,{"$f":"IF((COUNTA(K138,L138,M138,N138,O138)=5),1,\"\")","v":""}]
[null,null,null,null,null,null,null,null,null,{"$f":"IF(I139=\"\",\"\",DATEDIF(I139,$J$1,\"Y\"))","v":""},null,null,null,null,null,{"$f":"IF((COUNTA(K139,L139,M139,N139,O139)=5),1,\"\")","v":""}]
[null,null,null,null,null,null,null,null,null,{"$f":"IF(I140=\"\",\"\",DATEDIF(I140,$J$1,\"Y\"))","v":""},null,null,null,null,null,{"$f":"IF((COUNTA(K140,L140,M140,N140,O140)=5),1,\"\")","v":""}]
[null,null,null,null,null,null,null,null,null,{"$f":"IF(I141=\"\",\"\",DATEDIF(I141,$J$1,\"Y\"))","v":""},null,null,null,null,null,{"$f":"IF((COUNTA(K141,L141,M141,N141,O141)=5),1,\"\")","v":""}]
[null,null,null,null,null,null,null,null,null,{"$f":"IF(I142=\"\",\"\",DATEDIF(I142,$J$1,\"Y\"))","v":""},null,null,null,null,null,{"$f":"IF((COUNTA(K142,L142,M142,N142,O142)=5),1,\"\")","v":""}]
[null,null,null,null,null,null,null,null,null,{"$f":"IF(I143=\"\",\"\",DATEDIF(I143,$J$1,\"Y\"))","v":""},null,null,null,null,null,{"$f":"IF((COUNTA(K143,L143,M143,N143,O143)=5),1,\"\")","v":""}]
[null,null,null,null,null,null,null,null,null,{"$f":"IF(I144=\"\",\"\",DATEDIF(I144,$J$1,\"Y\"))","v":""},null,null,null,null,null,{"$f":"IF((COUNTA(K144,L144,M144,N144,O144)=5),1,\"\")","v":""}]
[null,null,null,null,null,null,null,null,null,{"$f":"IF(I145=\"\",\"\",DATEDIF(I145,$J$1,\"Y\"))","v":""},null,null,null,null,null,{"$f":"IF((COUNTA(K145,L145,M145,N145,O145)=5),1,\"\")","v":""}]
[null,null,null,null,null,null,null,null,null,{"$f":"IF(I146=\"\",\"\",DATEDIF(I146,$J$1,\"Y\"))","v":""},null,null,null,null,null,{"$f":"IF((COUNTA(K146,L146,M146,N146,O146)=5),1,\"\")","v":""}]
[null,null,null,null,null,null,null,null,null,{"$f":"IF(I147=\"\",\"\",DATEDIF(I147,$J$1,\"Y\"))","v":""},null,null,null,null,null,{"$f":"IF((COUNTA(K147,L147,M147,N147,O147)=5),1,\"\")","v":""}]
[null,null,null,null,null,null,null,null,null,{"$f":"IF(I148=\"\",\"\",DATEDIF(I148,$J$1,\"Y\"))","v":""},null,null,null,null,null,{"$f":"IF((COUNTA(K148,L148,M148,N148,O148)=5),1,\"\")","v":""}]
[null,null,null,null,null,null,null,null,null,{"$f":"IF(I149=\"\",\"\",DATEDIF(I149,$J$1,\"Y\"))","v":""},null,null,null,null,null,{"$f":"IF((COUNTA(K149,L149,M149,N149,O149)=5),1,\"\")","v":""}]
[null,null,null,null,null,null,null,null,null,{"$f":"IF(I150=\"\",\"\",DATEDIF(I150,$J$1,\"Y\"))","v":""},null,null,null,null,null,{"$f":"IF((COUNTA(K150,L150,M150,N150,O150)=5),1,\"\")","v":""}]
[null,null,null,null,null,null,null,null,null,{"$f":"IF(I151=\"\",\"\",DATEDIF(I151,$J$1,\"Y\"))","v":""},null,null,null,null,null,{"$f":"IF((COUNTA(K151,L151,M151,N151,O151)=5),1,\"\")","v":""}]
[null,null,null,null,null,null,null,null,null,{"$f":"IF(I152=\"\",\"\",DATEDIF(I152,$J$1,\"Y\"))","v":""},null,null,null,null,null,{"$f":"IF((COUNTA(K152,L152,M152,N152,O152)=5),1,\"\")","v":""}]
[null,null,null,null,null,null,null,null,null,{"$f":"IF(I153=\"\",\"\",DATEDIF(I153,$J$1,\"Y\"))","v":""},null,null,null,null,null,{"$f":"IF((COUNTA(K153,L153,M153,N153,O153)=5),1,\"\")","v":""}]
[null,null,null,null,null,null,null,null,null,{"$f":"IF(I154=\"\",\"\",DATEDIF(I154,$J$1,\"Y\"))","v":""},null,null,null,null,null,{"$f":"IF((COUNTA(K154,L154,M154,N154,O154)=5),1,\"\")","v":""}]
[null,null,null,null,null,null,null,null,null,{"$f":"IF(I155=\"\",\"\",DATEDIF(I155,$J$1,\"Y\"))","v":""},null,null,null,null,null,{"$f":"IF((COUNTA(K155,L155,M155,N155,O155)=5),1,\"\")","v":""}]
[null,null,null,null,null,null,null,null,null,{"$f":"IF(I156=\"\",\"\",DATEDIF(I156,$J$1,\"Y\"))","v":""},null,null,null,null,null,{"$f":"IF((COUNTA(K156,L156,M156,N156,O156)=5),1,\"\")","v":""}]
[null,null,null,null,null,null,null,null,null,{"$f":"IF(I157=\"\",\"\",DATEDIF(I157,$J$1,\"Y\"))","v":""},null,null,null,null,null,{"$f":"IF((COUNTA(K157,L157,M157,N157,O157)=5),1,\"\")","v":""}]
[null,null,null,null,null,null,null,null,null,{"$f":"IF(I158=\"\",\"\",DATEDIF(I158,$J$1,\"Y\"))","v":""},null,null,null,null,null,{"$f":"IF((COUNTA(K158,L158,M158,N158,O158)=5),1,\"\")","v":""}]
[null,null,null,null,null,null,null,null,null,{"$f":"IF(I159=\"\",\"\",DATEDIF(I159,$J$1,\"Y\"))","v":""},null,null,null,null,null,{"$f":"IF((COUNTA(K159,L159,M159,N159,O159)=5),1,\"\")","v":""}]
[null,null,null,null,null,null,null,null,null,{"$f":"IF(I160=\"\",\"\",DATEDIF(I160,$J$1,\"Y\"))","v":""},null,null,null,null,null,{"$f":"IF((COUNTA(K160,L160,M160,N160,O160)=5),1,\"\")","v":""}]
[null,null,null,null,null,null,null,null,null,{"$f":"IF(I161=\"\",\"\",DATEDIF(I161,$J$1,\"Y\"))","v":""},null,null,null,null,null,{"$f":"IF((COUNTA(K161,L161,M161,N161,O161)=5),1,\"\")","v":""}]
[null,null,null,null,null,null,null,null,null,{"$f":"IF(I162=\"\",\"\",DATEDIF(I162,$J$1,\"Y\"))","v":""},null,null,null,null,null,{"$f":"IF((COUNTA(K162,L162,M162,N162,O162)=5),1,\"\")","v":""}]
[null,null,null,null,null,null,null,null,null,{"$f":"IF(I163=\"\",\"\",DATEDIF(I163,$J$1,\"Y\"))","v":""},null,null,null,null,null,{"$f":"IF((COUNTA(K163,L163,M163,N163,O163)=5),1,\"\")","v":""}]
[null,null,null,null,null,null,null,null,null,{"$f":"IF(I164=\"\",\"\",DATEDIF(I164,$J$1,\"Y\"))","v":""},null,null,null,null,null,{"$f":"IF((COUNTA(K164,L164,M164,N164,O164)=5),1,\"\")","v":""}]
[null,null,null,null,null,null,null,null,null,{"$f":"IF(I165=\"\",\"\",DATEDIF(I165,$J$1,\"Y\"))","v":""},null,null,null,null,null,{"$f":"IF((COUNTA(K165,L165,M165,N165,O165)=5),1,\"\")","v":""}]
[null,null,null,null,null,null,null,null,null,{"$f":"IF(I166=\"\",\"\",DATEDIF(I166,$J$1,\"Y\"))","v":""},null,null,null,null,null,{"$f":"IF((COUNTA(K166,L166,M166,N166,O166)=5),1,\"\")","v":""}]
[null,null,null,null,null,null,null,null,null,{"$f":"IF(I167=\"\",\"\",DATEDIF(I167,$J$1,\"Y\"))","v":""},null,null,null,null,null,{"$f":"IF((COUNTA(K167,L167,M167,N167,O167)=5),1,\"\")","v":""}]
[null,null,null,null,null,null,null,null,null,{"$f":"IF(I168=\"\",\"\",DATEDIF(I168,$J$1,\"Y\"))","v":""},null,null,null,null,null,{"$f":"IF((COUNTA(K168,L168,M168,N168,O168)=5),1,\"\")","v":""}]
[null,null,null,null,null,null,null,null,null,{"$f":"IF(I169=\"\",\"\",DATEDIF(I169,$J$1,\"Y\"))","v":""},null,null,null,null,null,{"$f":"IF((COUNTA(K169,L169,M169,N169,O169)=5),1,\"\")","v":""}]
[null,null,null,null,null,null,null,null,null,{"$f":"IF(I170=\"\",\"\",DATEDIF(I170,$J$1,\"Y\"))","v":""},null,null,null,null,null,{"$f":"IF((COUNTA(K170,L170,M170,N170,O170)=5),1,\"\")","v":""}]
[null,null,null,null,null,null,null,null,null,{"$f":"IF(I171=\"\",\"\",DATEDIF(I171,$J$1,\"Y\"))","v":""},null,null,null,null,null,{"$f":"IF((COUNTA(K171,L171,M171,N171,O171)=5),1,\"\")","v":""}]
[null,null,null,null,null,null,null,null,null,{"$f":"IF(I172=\"\",\"\",DATEDIF(I172,$J$1,\"Y\"))","v":""},null,null,null,null,null,{"$f":"IF((COUNTA(K172,L172,M172,N172,O172)=5),1,\"\")","v":""}]
[null,null,null,null,null,null,null,null,null,{"$f":"IF(I173=\"\",\"\",DATEDIF(I173,$J$1,\"Y\"))","v":""},null,null,null,null,null,{"$f":"IF((COUNTA(K173,L173,M173,N173,O173)=5),1,\"\")","v":""}]
[null,null,null,null,null,null,null,null,null,{"$f":"IF(I174=\"\",\"\",DATEDIF(I174,$J$1,\"Y\"))","v":""},null,null,null,null,null,{"$f":"IF((COUNTA(K174,L174,M174,N174,O174)=5),1,\"\")","v":""}]
[null,null,null,null,null,null,null,null,null,{"$f":"IF(I175=\"\",\"\",DATEDIF(I175,$J$1,\"Y\"))","v":""},null,null,null,null,null,{"$f":"IF((COUNTA(K175,L175,M175,N175,O175)=5),1,\"\")","v":""}]
[null,null,null,null,null,null,null,null,null,{"$f":"IF(I176=\"\",\"\",DATEDIF(I176,$J$1,\"Y\"))","v":""},null,null,null,null,null,{"$f":"IF((COUNTA(K176,L176,M176,N176,O176)=5),1,\"\")","v":""}]
[null,null,null,null,null,null,null,null,null,{"$f":"IF(I177=\"\",\"\",DATEDIF(I177,$J$1,\"Y\"))","v":""},null,null,null,null,null,{"$f":"IF((COUNTA(K177,L177,M177,N177,O177)=5),1,\"\")","v":""}]
[null,null,null,null,null,null,null,null,null,{"$f":"IF(I178=\"\",\"\",DATEDIF(I178,$J$1,\"Y\"))","v":""},null,null,null,null,null,{"$f":"IF((COUNTA(K178,L178,M178,N178,O178)=5),1,\"\")","v":""}]
[null,null,null,null,null,null,null,null,null,{"$f":"IF(I179=\"\",\"\",DATEDIF(I179,$J$1,\"Y\"))","v":""},null,null,null,null,null,{"$f":"IF((COUNTA(K179,L179,M179,N179,O179)=5),1,\"\")","v":""}]
[null,null,null,null,null,null,null,null,null,{"$f":"IF(I180=\"\",\"\",DATEDIF(I180,$J$1,\"Y\"))","v":""},null,null,null,null,null,{"$f":"IF((COUNTA(K180,L180,M180,N180,O180)=5),1,\"\")","v":""}]
[null,null,null,null,null,null,null,null,null,{"$f":"IF(I181=\"\",\"\",DATEDIF(I181,$J$1,\"Y\"))","v":""},null,null,null,null,null,{"$f":"IF((COUNTA(K181,L181,M181,N181,O181)=5),1,\"\")","v":""}]
[null,null,null,null,null,null,null,null,null,{"$f":"IF(I182=\"\",\"\",DATEDIF(I182,$J$1,\"Y\"))","v":""},null,null,null,null,null,{"$f":"IF((COUNTA(K182,L182,M182,N182,O182)=5),1,\"\")","v":""}]
[null,null,null,null,null,null,null,null,null,{"$f":"IF(I183=\"\",\"\",DATEDIF(I183,$J$1,\"Y\"))","v":""},null,null,null,null,null,{"$f":"IF((COUNTA(K183,L183,M183,N183,O183)=5),1,\"\")","v":""}]
[null,null,null,null,null,null,null,null,null,{"$f":"IF(I184=\"\",\"\",DATEDIF(I184,$J$1,\"Y\"))","v":""},null,null,null,null,null,{"$f":"IF((COUNTA(K184,L184,M184,N184,O184)=5),1,\"\")","v":""}]
[null,null,null,null,null,null,null,null,null,{"$f":"IF(I185=\"\",\"\",DATEDIF(I185,$J$1,\"Y\"))","v":""},null,null,null,null,null,{"$f":"IF((COUNTA(K185,L185,M185,N185,O185)=5),1,\"\")","v":""}]
[null,null,null,null,null,null,null,null,null,{"$f":"IF(I186=\"\",\"\",DATEDIF(I186,$J$1,\"Y\"))","v":""},null,null,null,null,null,{"$f":"IF((COUNTA(K186,L186,M186,N186,O186)=5),1,\"\")","v":""}]
[null,null,null,null,null,null,null,null,null,{"$f":"IF(I187=\"\",\"\",DATEDIF(I187,$J$1,\"Y\"))","v":""},null,null,null,null,null,{"$f":"IF((COUNTA(K187,L187,M187,N187,O187)=5),1,\"\")","v":""}]
[null,null,null,null,null,null,null,null,null,{"$f":"IF(I188=\"\",\"\",DATEDIF(I188,$J$1,\"Y\"))","v":""},null,null,null,null,null,{"$f":"IF((COUNTA(K188,L188,M188,N188,O188)=5),1,\"\")","v":""}]
[null,null,null,null,null,null,null,null,null,{"$f":"IF(I189=\"\",\"\",DATEDIF(I189,$J$1,\"Y\"))","v":""},null,null,null,null,null,{"$f":"IF((COUNTA(K189,L189,M189,N189,O189)=5),1,\"\")","v":""}]
[null,null,null,null,null,null,null,null,null,{"$f":"IF(I190=\"\",\"\",DATEDIF(I190,$J$1,\"Y\"))","v":""},null,null,null,null,null,{"$f":"IF((COUNTA(K190,L190,M190,N190,O190)=5),1,\"\")","v":""}]
[null,null,null,null,null,null,null,null,null,{"$f":"IF(I191=\"\",\"\",DATEDIF(I191,$J$1,\"Y\"))","v":""},null,null,null,null,null,{"$f":"IF((COUNTA(K191,L191,M191,N191,O191)=5),1,\"\")","v":""}]
[null,null,null,null,null,null,null,null,null,{"$f":"IF(I192=\"\",\"\",DATEDIF(I192,$J$1,\"Y\"))","v":""},null,null,null,null,null,{"$f":"IF((COUNTA(K192,L192,M192,N192,O192)=5),1,\"\")","v":""}]
[null,null,null,null,null,null,null,null,null,{"$f":"IF(I193=\"\",\"\",DATEDIF(I193,$J$1,\"Y\"))","v":""},null,null,null,null,null,{"$f":"IF((COUNTA(K193,L193,M193,N193,O193)=5),1,\"\")","v":""}]
[null,null,null,null,null,null,null,null,null,{"$f":"IF(I194=\"\",\"\",DATEDIF(I194,$J$1,\"Y\"))","v":""},null,null,null,null,null,{"$f":"IF((COUNTA(K194,L194,M194,N194,O194)=5),1,\"\")","v":""}]
[null,null,null,null,null,null,null,null,null,{"$f":"IF(I195=\"\",\"\",DATEDIF(I195,$J$1,\"Y\"))","v":""},null,null,null,null,null,{"$f":"IF((COUNTA(K195,L195,M195,N195,O195)=5),1,\"\")","v":""}]
[null,null,null,null,null,null,null,null,null,{"$f":"IF(I196=\"\",\"\",DATEDIF(I196,$J$1,\"Y\"))","v":""},null,null,null,null,null,{"$f":"IF((COUNTA(K196,L196,M196,N196,O196)=5),1,\"\")","v":""}]
[null,null,null,null,null,null,null,null,null,{"$f":"IF(I197=\"\",\"\",DATEDIF(I197,$J$1,\"Y\"))","v":""},null,null,null,null,null,{"$f":"IF((COUNTA(K197,L197,M197,N197,O197)=5),1,\"\")","v":""}]
[null,null,null,null,null,null,null,null,null,{"$f":"IF(I198=\"\",\"\",DATEDIF(I198,$J$1,\"Y\"))","v":""},null,null,null,null,null,{"$f":"IF((COUNTA(K198,L198,M198,N198,O198)=5),1,\"\")","v":""}]
[null,null,null,null,null,null,null,null,null,{"$f":"IF(I199=\"\",\"\",DATEDIF(I199,$J$1,\"Y\"))","v":""},null,null,null,null,null,{"$f":"IF((COUNTA(K199,L199,M199,N199,O199)=5),1,\"\")","v":""}]
[null,null,null,null,null,null,null,null,null,{"$f":"IF(I200=\"\",\"\",DATEDIF(I200,$J$1,\"Y\"))","v":""},null,null,null,null,null,{"$f":"IF((COUNTA(K200,L200,M200,N200,O200)=5),1,\"\")","v":""}]
[null,null,null,null,null,null,null,null,null,{"$f":"IF(I201=\"\",\"\",DATEDIF(I201,$J$1,\"Y\"))","v":""},null,null,null,null,null,{"$f":"IF((COUNTA(K201,L201,M201,N201,O201)=5),1,\"\")","v":""}]
[null,null,null,null,null,null,null,null,null,{"$f":"IF(I202=\"\",\"\",DATEDIF(I202,$J$1,\"Y\"))","v":""},null,null,null,null,null,{"$f":"IF((COUNTA(K202,L202,M202,N202,O202)=5),1,\"\")","v":""}]
[null,null,null,null,null,null,null,null,null,{"$f":"IF(I203=\"\",\"\",DATEDIF(I203,$J$1,\"Y\"))","v":""},null,null,null,null,null,{"$f":"IF((COUNTA(K203,L203,M203,N203,O203)=5),1,\"\")","v":""}]
[null,null,null,null,null,null,null,null,null,{"$f":"IF(I204=\"\",\"\",DATEDIF(I204,$J$1,\"Y\"))","v":""},null,null,null,null,null,{"$f":"IF((COUNTA(K204,L204,M204,N204,O204)=5),1,\"\")","v":""}]
[null,null,null,null,null,null,null,null,null,{"$f":"IF(I205=\"\",\"\",DATEDIF(I205,$J$1,\"Y\"))","v":""},null,null,null,null,null,{"$f":"IF((COUNTA(K205,L205,M205,N205,O205)=5),1,\"\")","v":""}]
[null,null,null,null,null,null,null,null,null,{"$f":"IF(I206=\"\",\"\",DATEDIF(I206,$J$1,\"Y\"))","v":""},null,null,null,null,null,{"$f":"IF((COUNTA(K206,L206,M206,N206,O206)=5),1,\"\")","v":""}]
[null,null,null,null,null,null,null,null,null,{"$f":"IF(I207=\"\",\"\",DATEDIF(I207,$J$1,\"Y\"))","v":""},null,null,null,null,null,{"$f":"IF((COUNTA(K207,L207,M207,N207,O207)=5),1,\"\")","v":""}]
[null,null,null,null,null,null,null,null,null,{"$f":"IF(I208=\"\",\"\",DATEDIF(I208,$J$1,\"Y\"))","v":""},null,null,null,null,null,{"$f":"IF((COUNTA(K208,L208,M208,N208,O208)=5),1,\"\")","v":""}]
[null,null,null,null,null,null,null,null,null,{"$f":"IF(I209=\"\",\"\",DATEDIF(I209,$J$1,\"Y\"))","v":""},null,null,null,null,null,{"$f":"IF((COUNTA(K209,L209,M209,N209,O209)=5),1,\"\")","v":""}]
[null,null,null,null,null,null,null,null,null,{"$f":"IF(I210=\"\",\"\",DATEDIF(I210,$J$1,\"Y\"))","v":""},null,null,null,null,null,{"$f":"IF((COUNTA(K210,L210,M210,N210,O210)=5),1,\"\")","v":""}]
[null,null,null,null,null,null,null,null,null,{"$f":"IF(I211=\"\",\"\",DATEDIF(I211,$J$1,\"Y\"))","v":""},null,null,null,null,null,{"$f":"IF((COUNTA(K211,L211,M211,N211,O211)=5),1,\"\")","v":""}]
[null,null,null,null,null,null,null,null,null,{"$f":"IF(I212=\"\",\"\",DATEDIF(I212,$J$1,\"Y\"))","v":""},null,null,null,null,null,{"$f":"IF((COUNTA(K212,L212,M212,N212,O212)=5),1,\"\")","v":""}]
[null,null,null,null,null,null,null,null,null,{"$f":"IF(I213=\"\",\"\",DATEDIF(I213,$J$1,\"Y\"))","v":""},null,null,null,null,null,{"$f":"IF((COUNTA(K213,L213,M213,N213,O213)=5),1,\"\")","v":""}]
[null,null,null,null,null,null,null,null,null,{"$f":"IF(I214=\"\",\"\",DATEDIF(I214,$J$1,\"Y\"))","v":""},null,null,null,null,null,{"$f":"IF((COUNTA(K214,L214,M214,N214,O214)=5),1,\"\")","v":""}]
[null,null,null,null,null,null,null,null,null,{"$f":"IF(I215=\"\",\"\",DATEDIF(I215,$J$1,\"Y\"))","v":""},null,null,null,null,null,{"$f":"IF((COUNTA(K215,L215,M215,N215,O215)=5),1,\"\")","v":""}]
[null,null,null,null,null,null,null,null,null,{"$f":"IF(I216=\"\",\"\",DATEDIF(I216,$J$1,\"Y\"))","v":""}]
[null,null,null,null,null,null,null,null,null,{"$f":"IF(I217=\"\",\"\",DATEDIF(I217,$J$1,\"Y\"))","v":""}]
[null,null,null,null,null,null,null,null,null,{"$f":"IF(I218=\"\",\"\",DATEDIF(I218,$J$1,\"Y\"))","v":""}]
[null,null,null,null,null,null,null,null,null,{"$f":"IF(I219=\"\",\"\",DATEDIF(I219,$J$1,\"Y\"))","v":""}]
[null,null,null,null,null,null,null,null,null,{"$f":"IF(I220=\"\",\"\",DATEDIF(I220,$J$1,\"Y\"))","v":""}]
[null,null,null,null,null,null,null,null,null,{"$f":"IF(I221=\"\",\"\",DATEDIF(I221,$J$1,\"Y\"))","v":""}]
[null,null,null,null,null,null,null,null,null,{"$f":"IF(I222=\"\",\"\",DATEDIF(I222,$J$1,\"Y\"))","v":""}]
[null,null,null,null,null,null,null,null,null,{"$f":"IF(I223=\"\",\"\",DATEDIF(I223,$J$1,\"Y\"))","v":""}]
[null,null,null,null,null,null,null,null,null,{"$f":"IF(I224=\"\",\"\",DATEDIF(I224,$J$1,\"Y\"))","v":""}]
[null,null,null,null,null,null,null,null,null,{"$f":"IF(I225=\"\",\"\",DATEDIF(I225,$J$1,\"Y\"))","v":""}]
[null,null,null,null,null,null,null,null,null,{"$f":"IF(I226=\"\",\"\",DATEDIF(I226,$J$1,\"Y\"))","v":""}]
[null,null,null,null,null,null,null,null,null,{"$f":"IF(I227=\"\",\"\",DATEDIF(I227,$J$1,\"Y\"))","v":""}]
[null,null,null,null,null,null,null,null,null,{"$f":"IF(I228=\"\",\"\",DATEDIF(I228,$J$1,\"Y\"))","v":""}]
[null,null,null,null,null,null,null,null,null,{"$f":"IF(I229=\"\",\"\",DATEDIF(I229,$J$1,\"Y\"))","v":""}]
[null,null,null,null,null,null,null,null,null,{"$f":"IF(I230=\"\",\"\",DATEDIF(I230,$J$1,\"Y\"))","v":""}]
[null,null,null,null,null,null,null,null,null,{"$f":"IF(I231=\"\",\"\",DATEDIF(I231,$J$1,\"Y\"))","v":""}]
[null,null,null,null,null,null,null,null,null,{"$f":"IF(I232=\"\",\"\",DATEDIF(I232,$J$1,\"Y\"))","v":""}]
[null,null,null,null,null,null,null,null,null,{"$f":"IF(I233=\"\",\"\",DATEDIF(I233,$J$1,\"Y\"))","v":""}]
[null,null,null,null,null,null,null,null,null,{"$f":"IF(I234=\"\",\"\",DATEDIF(I234,$J$1,\"Y\"))","v":""}]
[null,null,null,null,null,null,null,null,null,{"$f":"IF(I235=\"\",\"\",DATEDIF(I235,$J$1,\"Y\"))","v":""}]
[null,null,null,null,null,null,null,null,null,{"$f":"IF(I236=\"\",\"\",DATEDIF(I236,$J$1,\"Y\"))","v":""}]
[null,null,null,null,null,null,null,null,null,{"$f":"IF(I237=\"\",\"\",DATEDIF(I237,$J$1,\"Y\"))","v":""}]
[null,null,null,null,null,null,null,null,null,{"$f":"IF(I238=\"\",\"\",DATEDIF(I238,$J$1,\"Y\"))","v":""}]
[null,null,null,null,null,null,null,null,null,{"$f":"IF(I239=\"\",\"\",DATEDIF(I239,$J$1,\"Y\"))","v":""}]
[null,null,null,null,null,null,null,null,null,{"$f":"IF(I240=\"\",\"\",DATEDIF(I240,$J$1,\"Y\"))","v":""}]
[null,null,null,null,null,null,null,null,null,{"$f":"IF(I241=\"\",\"\",DATEDIF(I241,$J$1,\"Y\"))","v":""}]
[null,null,null,null,null,null,null,null,null,{"$f":"IF(I242=\"\",\"\",DATEDIF(I242,$J$1,\"Y\"))","v":""}]
[null,null,null,null,null,null,null,null,null,{"$f":"IF(I243=\"\",\"\",DATEDIF(I243,$J$1,\"Y\"))","v":""}]
[null,null,null,null,null,null,null,null,null,{"$f":"IF(I244=\"\",\"\",DATEDIF(I244,$J$1,\"Y\"))","v":""}]
[null,null,null,null,null,null,null,null,null,{"$f":"IF(I245=\"\",\"\",DATEDIF(I245,$J$1,\"Y\"))","v":""}]
[null,null,null,null,null,null,null,null,null,{"$f":"IF(I246=\"\",\"\",DATEDIF(I246,$J$1,\"Y\"))","v":""}]
[null,null,null,null,null,null,null,null,null,{"$f":"IF(I247=\"\",\"\",DATEDIF(I247,$J$1,\"Y\"))","v":""}]
[null,null,null,null,null,null,null,null,null,{"$f":"IF(I248=\"\",\"\",DATEDIF(I248,$J$1,\"Y\"))","v":""}]
[null,null,null,null,null,null,null,null,null,{"$f":"IF(I249=\"\",\"\",DATEDIF(I249,$J$1,\"Y\"))","v":""}]
[null,null,null,null,null,null,null,null,null,{"$f":"IF(I250=\"\",\"\",DATEDIF(I250,$J$1,\"Y\"))","v":""}]
[null,null,null,null,null,null,null,null,null,{"$f":"IF(I251=\"\",\"\",DATEDIF(I251,$J$1,\"Y\"))","v":""}]
[null,null,null,null,null,null,null,null,null,{"$f":"IF(I252=\"\",\"\",DATEDIF(I252,$J$1,\"Y\"))","v":""}]
[null,null,null,null,null,null,null,null,null,{"$f":"IF(I253=\"\",\"\",DATEDIF(I253,$J$1,\"Y\"))","v":""}]
[null,null,null,null,null,null,null,null,null,{"$f":"IF(I254=\"\",\"\",DATEDIF(I254,$J$1,\"Y\"))","v":""}]
[null,null,null,null,null,null,null,null,null,{"$f":"IF(I255=\"\",\"\",DATEDIF(I255,$J$1,\"Y\"))","v":""}]
[null,null,null,null,null,null,null,null,null,{"$f":"IF(I256=\"\",\"\",DATEDIF(I256,$J$1,\"Y\"))","v":""}]
[null,null,null,null,null,null,null,null,null,{"$f":"IF(I257=\"\",\"\",DATEDIF(I257,$J$1,\"Y\"))","v":""}]
[null,null,null,null,null,null,null,null,null,{"$f":"IF(I258=\"\",\"\",DATEDIF(I258,$J$1,\"Y\"))","v":""}]
[null,null,null,null,null,null,null,null,null,{"$f":"IF(I259=\"\",\"\",DATEDIF(I259,$J$1,\"Y\"))","v":""}]
[null,null,null,null,null,null,null,null,null,{"$f":"IF(I260=\"\",\"\",DATEDIF(I260,$J$1,\"Y\"))","v":""}]
[null,null,null,null,null,null,null,null,null,{"$f":"IF(I261=\"\",\"\",DATEDIF(I261,$J$1,\"Y\"))","v":""}]
[null,null,null,null,null,null,null,null,null,{"$f":"IF(I262=\"\",\"\",DATEDIF(I262,$J$1,\"Y\"))","v":""}]
[null,null,null,null,null,null,null,null,null,{"$f":"IF(I263=\"\",\"\",DATEDIF(I263,$J$1,\"Y\"))","v":""}]
[null,null,null,null,null,null,null,null,null,{"$f":"IF(I264=\"\",\"\",DATEDIF(I264,$J$1,\"Y\"))","v":""}]
[null,null,null,null,null,null,null,null,null,{"$f":"IF(I265=\"\",\"\",DATEDIF(I265,$J$1,\"Y\"))","v":""}]
[null,null,null,null,null,null,null,null,null,{"$f":"IF(I266=\"\",\"\",DATEDIF(I266,$J$1,\"Y\"))","v":""}]
[null,null,null,null,null,null,null,null,null,{"$f":"IF(I267=\"\",\"\",DATEDIF(I267,$J$1,\"Y\"))","v":""}]
[null,null,null,null,null,null,null,null,null,{"$f":"IF(I268=\"\",\"\",DATEDIF(I268,$J$1,\"Y\"))","v":""}]
[null,null,null,null,null,null,null,null,null,{"$f":"IF(I269=\"\",\"\",DATEDIF(I269,$J$1,\"Y\"))","v":""}]
[null,null,null,null,null,null,null,null,null,{"$f":"IF(I270=\"\",\"\",DATEDIF(I270,$J$1,\"Y\"))","v":""}]
[null,null,null,null,null,null,null,null,null,{"$f":"IF(I271=\"\",\"\",DATEDIF(I271,$J$1,\"Y\"))","v":""}]
[null,null,null,null,null,null,null,null,null,{"$f":"IF(I272=\"\",\"\",DATEDIF(I272,$J$1,\"Y\"))","v":""}]
[null,null,null,null,null,null,null,null,null,{"$f":"IF(I273=\"\",\"\",DATEDIF(I273,$J$1,\"Y\"))","v":""}]
[null,null,null,null,null,null,null,null,null,{"$f":"IF(I274=\"\",\"\",DATEDIF(I274,$J$1,\"Y\"))","v":""}]
[null,null,null,null,null,null,null,null,null,{"$f":"IF(I275=\"\",\"\",DATEDIF(I275,$J$1,\"Y\"))","v":""}]
[null,null,null,null,null,null,null,null,null,{"$f":"IF(I276=\"\",\"\",DATEDIF(I276,$J$1,\"Y\"))","v":""}]
[null,null,null,null,null,null,null,null,null,{"$f":"IF(I277=\"\",\"\",DATEDIF(I277,$J$1,\"Y\"))","v":""}]
[null,null,null,null,null,null,null,null,null,{"$f":"IF(I278=\"\",\"\",DATEDIF(I278,$J$1,\"Y\"))","v":""}]
[null,null,null,null,null,null,null,null,null,{"$f":"IF(I279=\"\",\"\",DATEDIF(I279,$J$1,\"Y\"))","v":""}]
[null,null,null,null,null,null,null,null,null,{"$f":"IF(I280=\"\",\"\",DATEDIF(I280,$J$1,\"Y\"))","v":""}]
[null,null,null,null,null,null,null,null,null,{"$f":"IF(I281=\"\",\"\",DATEDIF(I281,$J$1,\"Y\"))","v":""}]
[null,null,null,null,null,null,null,null,null,{"$f":"IF(I282=\"\",\"\",DATEDIF(I282,$J$1,\"Y\"))","v":""}]
[null,null,null,null,null,null,null,null,null,{"$f":"IF(I283=\"\",\"\",DATEDIF(I283,$J$1,\"Y\"))","v":""}]
[null,null,null,null,null,null,null,null,null,{"$f":"IF(I284=\"\",\"\",DATEDIF(I284,$J$1,\"Y\"))","v":""}]
[null,null,null,null,null,null,null,null,null,{"$f":"IF(I285=\"\",\"\",DATEDIF(I285,$J$1,\"Y\"))","v":""}]
[null,null,null,null,null,null,null,null,null,{"$f":"IF(I286=\"\",\"\",DATEDIF(I286,$J$1,\"Y\"))","v":""}]
[null,null,null,null,null,null,null,null,null,{"$f":"IF(I287=\"\",\"\",DATEDIF(I287,$J$1,\"Y\"))","v":""}]
[null,null,null,null,null,null,null,null,null,{"$f":"IF(I288=\"\",\"\",DATEDIF(I288,$J$1,\"Y\"))","v":""}]
[null,null,null,null,null,null,null,null,null,{"$f":"IF(I289=\"\",\"\",DATEDIF(I289,$J$1,\"Y\"))","v":""}]
[null,null,null,null,null,null,null,null,null,{"$f":"IF(I290=\"\",\"\",DATEDIF(I290,$J$1,\"Y\"))","v":""}]
[null,null,null,null,null,null,null,null,null,{"$f":"IF(I291=\"\",\"\",DATEDIF(I291,$J$1,\"Y\"))","v":""}]
[null,null,null,null,null,null,null,null,null,{"$f":"IF(I292=\"\",\"\",DATEDIF(I292,$J$1,\"Y\"))","v":""}]
[null,null,null,null,null,null,null,null,null,{"$f":"IF(I293=\"\",\"\",DATEDIF(I293,$J$1,\"Y\"))","v":""}]
[null,null,null,null,null,null,null,null,null,{"$f":"IF(I294=\"\",\"\",DATEDIF(I294,$J$1,\"Y\"))","v":""}]
[null,null,null,null,null,null,null,null,null,{"$f":"IF(I295=\"\",\"\",DATEDIF(I295,$J$1,\"Y\"))","v":""}]
[null,null,null,null,null,null,null,null,null,{"$f":"IF(I296=\"\",\"\",DATEDIF(I296,$J$1,\"Y\"))","v":""}]
[null,null,null,null,null,null,null,null,null,{"$f":"IF(I297=\"\",\"\",DATEDIF(I297,$J$1,\"Y\"))","v":""}]
[null,null,null,null,null,null,null,null,null,{"$f":"IF(I298=\"\",\"\",DATEDIF(I298,$J$1,\"Y\"))","v":""}]
[null,null,null,null,null,null,null,null,null,{"$f":"IF(I299=\"\",\"\",DATEDIF(I299,$J$1,\"Y\"))","v":""}]
[null,null,null,null,null,null,null,null,null,{"$f":"IF(I300=\"\",\"\",DATEDIF(I300,$J$1,\"Y\"))","v":""}]
[null,null,null,null,null,null,null,null,null,{"$f":"IF(I301=\"\",\"\",DATEDIF(I301,$J$1,\"Y\"))","v":""}]
[null,null,null,null,null,null,null,null,null,{"$f":"IF(I302=\"\",\"\",DATEDIF(I302,$J$1,\"Y\"))","v":""}]
[null,null,null,null,null,null,null,null,null,{"$f":"IF(I303=\"\",\"\",DATEDIF(I303,$J$1,\"Y\"))","v":""}]
[null,null,null,null,null,null,null,null,null,{"$f":"IF(I304=\"\",\"\",DATEDIF(I304,$J$1,\"Y\"))","v":""}]
[null,null,null,null,null,null,null,null,null,{"$f":"IF(I305=\"\",\"\",DATEDIF(I305,$J$1,\"Y\"))","v":""}]
[null,null,null,null,null,null,null,null,null,{"$f":"IF(I306=\"\",\"\",DATEDIF(I306,$J$1,\"Y\"))","v":""}]
[null,null,null,null,null,null,null,null,null,{"$f":"IF(I307=\"\",\"\",DATEDIF(I307,$J$1,\"Y\"))","v":""}]
[null,null,null,null,null,null,null,null,null,{"$f":"IF(I308=\"\",\"\",DATEDIF(I308,$J$1,\"Y\"))","v":""}]
[null,null,null,null,null,null,null,null,null,{"$f":"IF(I309=\"\",\"\",DATEDIF(I309,$J$1,\"Y\"))","v":""}]
[null,null,null,null,null,null,null,null,null,{"$f":"IF(I310=\"\",\"\",DATEDIF(I310,$J$1,\"Y\"))","v":""}]
[null,null,null,null,null,null,null,null,null,{"$f":"IF(I311=\"\",\"\",DATEDIF(I311,$J$1,\"Y\"))","v":""}]
[null,null,null,null,null,null,null,null,null,{"$f":"IF(I312=\"\",\"\",DATEDIF(I312,$J$1,\"Y\"))","v":""}]
[null,null,null,null,null,null,null,null,null,{"$f":"IF(I313=\"\",\"\",DATEDIF(I313,$J$1,\"Y\"))","v":""}]
[null,null,null,null,null,null,null,null,null,{"$f":"IF(I314=\"\",\"\",DATEDIF(I314,$J$1,\"Y\"))","v":""}]
[null,null,null,null,null,null,null,null,null,{"$f":"IF(I315=\"\",\"\",DATEDIF(I315,$J$1,\"Y\"))","v":""}]
[null,null,null,null,null,null,null,null,null,{"$f":"IF(I316=\"\",\"\",DATEDIF(I316,$J$1,\"Y\"))","v":""}]
[null,null,null,null,null,null,null,null,null,{"$f":"IF(I317=\"\",\"\",DATEDIF(I317,$J$1,\"Y\"))","v":""}]
[null,null,null,null,null,null,null,null,null,{"$f":"IF(I318=\"\",\"\",DATEDIF(I318,$J$1,\"Y\"))","v":""}]
[null,null,null,null,null,null,null,null,null,{"$f":"IF(I319=\"\",\"\",DATEDIF(I319,$J$1,\"Y\"))","v":""}]
[null,null,null,null,null,null,null,null,null,{"$f":"IF(I320=\"\",\"\",DATEDIF(I320,$J$1,\"Y\"))","v":""}]
[null,null,null,null,null,null,null,null,null,{"$f":"IF(I321=\"\",\"\",DATEDIF(I321,$J$1,\"Y\"))","v":""}]
[null,null,null,null,null,null,null,null,null,{"$f":"IF(I322=\"\",\"\",DATEDIF(I322,$J$1,\"Y\"))","v":""}]
[null,null,null,null,null,null,null,null,null,{"$f":"IF(I323=\"\",\"\",DATEDIF(I323,$J$1,\"Y\"))","v":""}]
[null,null,null,null,null,null,null,null,null,{"$f":"IF(I324=\"\",\"\",DATEDIF(I324,$J$1,\"Y\"))","v":""}]
[null,null,null,null,null,null,null,null,null,{"$f":"IF(I325=\"\",\"\",DATEDIF(I325,$J$1,\"Y\"))","v":""}]
[null,null,null,null,null,null,null,null,null,{"$f":"IF(I326=\"\",\"\",DATEDIF(I326,$J$1,\"Y\"))","v":""}]
[null,null,null,null,null,null,null,null,null,{"$f":"IF(I327=\"\",\"\",DATEDIF(I327,$J$1,\"Y\"))","v":""}]
[null,null,null,null,null,null,null,null,null,{"$f":"IF(I328=\"\",\"\",DATEDIF(I328,$J$1,\"Y\"))","v":""}]
[null,null,null,null,null,null,null,null,null,{"$f":"IF(I329=\"\",\"\",DATEDIF(I329,$J$1,\"Y\"))","v":""}]
[null,null,null,null,null,null,null,null,null,{"$f":"IF(I330=\"\",\"\",DATEDIF(I330,$J$1,\"Y\"))","v":""}]
[null,null,null,null,null,null,null,null,null,{"$f":"IF(I331=\"\",\"\",DATEDIF(I331,$J$1,\"Y\"))","v":""}]
[null,null,null,null,null,null,null,null,null,{"$f":"IF(I332=\"\",\"\",DATEDIF(I332,$J$1,\"Y\"))","v":""}]
[null,null,null,null,null,null,null,null,null,{"$f":"IF(I333=\"\",\"\",DATEDIF(I333,$J$1,\"Y\"))","v":""}]
[null,null,null,null,null,null,null,null,null,{"$f":"IF(I334=\"\",\"\",DATEDIF(I334,$J$1,\"Y\"))","v":""}]
[null,null,null,null,null,null,null,null,null,{"$f":"IF(I335=\"\",\"\",DATEDIF(I335,$J$1,\"Y\"))","v":""}]
[null,null,null,null,null,null,null,null,null,{"$f":"IF(I336=\"\",\"\",DATEDIF(I336,$J$1,\"Y\"))","v":""}]
[null,null,null,null,null,null,null,null,null,{"$f":"IF(I337=\"\",\"\",DATEDIF(I337,$J$1,\"Y\"))","v":""}]
[null,null,null,null,null,null,null,null,null,{"$f":"IF(I338=\"\",\"\",DATEDIF(I338,$J$1,\"Y\"))","v":""}]
[null,null,null,null,null,null,null,null,null,{"$f":"IF(I339=\"\",\"\",DATEDIF(I339,$J$1,\"Y\"))","v":""}]
[null,null,null,null,null,null,null,null,null,{"$f":"IF(I340=\"\",\"\",DATEDIF(I340,$J$1,\"Y\"))","v":""}]
[null,null,null,null,null,null,null,null,null,{"$f":"IF(I341=\"\",\"\",DATEDIF(I341,$J$1,\"Y\"))","v":""}]
[null,null,null,null,null,null,null,null,null,{"$f":"IF(I342=\"\",\"\",DATEDIF(I342,$J$1,\"Y\"))","v":""}]
[null,null,null,null,null,null,null,null,null,{"$f":"IF(I343=\"\",\"\",DATEDIF(I343,$J$1,\"Y\"))","v":""}]
[null,null,null,null,null,null,null,null,null,{"$f":"IF(I344=\"\",\"\",DATEDIF(I344,$J$1,\"Y\"))","v":""}]
[null,null,null,null,null,null,null,null,null,{"$f":"IF(I345=\"\",\"\",DATEDIF(I345,$J$1,\"Y\"))","v":""}]
[null,null,null,null,null,null,null,null,null,{"$f":"IF(I346=\"\",\"\",DATEDIF(I346,$J$1,\"Y\"))","v":""}]
[null,null,null,null,null,null,null,null,null,{"$f":"IF(I347=\"\",\"\",DATEDIF(I347,$J$1,\"Y\"))","v":""}]
[null,null,null,null,null,null,null,null,null,{"$f":"IF(I348=\"\",\"\",DATEDIF(I348,$J$1,\"Y\"))","v":""}]
[null,null,null,null,null,null,null,null,null,{"$f":"IF(I349=\"\",\"\",DATEDIF(I349,$J$1,\"Y\"))","v":""}]
[null,null,null,null,null,null,null,null,null,{"$f":"IF(I350=\"\",\"\",DATEDIF(I350,$J$1,\"Y\"))","v":""}]
[null,null,null,null,null,null,null,null,null,{"$f":"IF(I351=\"\",\"\",DATEDIF(I351,$J$1,\"Y\"))","v":""}]
[null,null,null,null,null,null,null,null,null,{"$f":"IF(I352=\"\",\"\",DATEDIF(I352,$J$1,\"Y\"))","v":""}]
[null,null,null,null,null,null,null,null,null,{"$f":"IF(I353=\"\",\"\",DATEDIF(I353,$J$1,\"Y\"))","v":""}]
[null,null,null,null,null,null,null,null,null,{"$f":"IF(I354=\"\",\"\",DATEDIF(I354,$J$1,\"Y\"))","v":""}]
[null,null,null,null,null,null,null,null,null,{"$f":"IF(I355=\"\",\"\",DATEDIF(I355,$J$1,\"Y\"))","v":""}]
[null,null,null,null,null,null,null,null,null,{"$f":"IF(I356=\"\",\"\",DATEDIF(I356,$J$1,\"Y\"))","v":""}]
[null,null,null,null,null,null,null,null,null,{"$f":"IF(I357=\"\",\"\",DATEDIF(I357,$J$1,\"Y\"))","v":""}]
[null,null,null,null,null,null,null,null,null,{"$f":"IF(I358=\"\",\"\",DATEDIF(I358,$J$1,\"Y\"))","v":""}]
[null,null,null,null,null,null,null,null,null,{"$f":"IF(I359=\"\",\"\",DATEDIF(I359,$J$1,\"Y\"))","v":""}]
[null,null,null,null,null,null,null,null,null,{"$f":"IF(I360=\"\",\"\",DATEDIF(I360,$J$1,\"Y\"))","v":""}]
[null,null,null,null,null,null,null,null,null,{"$f":"IF(I361=\"\",\"\",DATEDIF(I361,$J$1,\"Y\"))","v":""}]
[null,null,null,null,null,null,null,null,null,{"$f":"IF(I362=\"\",\"\",DATEDIF(I362,$J$1,\"Y\"))","v":""}]
[null,null,null,null,null,null,null,null,null,{"$f":"IF(I363=\"\",\"\",DATEDIF(I363,$J$1,\"Y\"))","v":""}]
[null,null,null,null,null,null,null,null,null,{"$f":"IF(I364=\"\",\"\",DATEDIF(I364,$J$1,\"Y\"))","v":""}]
[null,null,null,null,null,null,null,null,null,{"$f":"IF(I365=\"\",\"\",DATEDIF(I365,$J$1,\"Y\"))","v":""}]
[null,null,null,null,null,null,null,null,null,{"$f":"IF(I366=\"\",\"\",DATEDIF(I366,$J$1,\"Y\"))","v":""}]
[null,null,null,null,null,null,null,null,null,{"$f":"IF(I367=\"\",\"\",DATEDIF(I367,$J$1,\"Y\"))","v":""}]
[null,null,null,null,null,null,null,null,null,{"$f":"IF(I368=\"\",\"\",DATEDIF(I368,$J$1,\"Y\"))","v":""}]
[null,null,null,null,null,null,null,null,null,{"$f":"IF(I369=\"\",\"\",DATEDIF(I369,$J$1,\"Y\"))","v":""}]
[null,null,null,null,null,null,null,null,null,{"$f":"IF(I370=\"\",\"\",DATEDIF(I370,$J$1,\"Y\"))","v":""}]
[null,null,null,null,null,null,null,null,null,{"$f":"IF(I371=\"\",\"\",DATEDIF(I371,$J$1,\"Y\"))","v":""}]
[null,null,null,null,null,null,null,null,null,{"$f":"IF(I372=\"\",\"\",DATEDIF(I372,$J$1,\"Y\"))","v":""}]
[null,null,null,null,null,null,null,null,null,{"$f":"IF(I373=\"\",\"\",DATEDIF(I373,$J$1,\"Y\"))","v":""}]
[null,null,null,null,null,null,null,null,null,{"$f":"IF(I374=\"\",\"\",DATEDIF(I374,$J$1,\"Y\"))","v":""}]
[null,null,null,null,null,null,null,null,null,{"$f":"IF(I375=\"\",\"\",DATEDIF(I375,$J$1,\"Y\"))","v":""}]
[null,null,null,null,null,null,null,null,null,{"$f":"IF(I376=\"\",\"\",DATEDIF(I376,$J$1,\"Y\"))","v":""}]
[null,null,null,null,null,null,null,null,null,{"$f":"IF(I377=\"\",\"\",DATEDIF(I377,$J$1,\"Y\"))","v":""}]
[null,null,null,null,null,null,null,null,null,{"$f":"IF(I378=\"\",\"\",DATEDIF(I378,$J$1,\"Y\"))","v":""}]
[null,null,null,null,null,null,null,null,null,{"$f":"IF(I379=\"\",\"\",DATEDIF(I379,$J$1,\"Y\"))","v":""}]
[null,null,null,null,null,null,null,null,null,{"$f":"IF(I380=\"\",\"\",DATEDIF(I380,$J$1,\"Y\"))","v":""}]
[null,null,null,null,null,null,null,null,null,{"$f":"IF(I381=\"\",\"\",DATEDIF(I381,$J$1,\"Y\"))","v":""}]
[null,null,null,null,null,null,null,null,null,{"$f":"IF(I382=\"\",\"\",DATEDIF(I382,$J$1,\"Y\"))","v":""}]
[null,null,null,null,null,null,null,null,null,{"$f":"IF(I383=\"\",\"\",DATEDIF(I383,$J$1,\"Y\"))","v":""}]
[null,null,null,null,null,null,null,null,null,{"$f":"IF(I384=\"\",\"\",DATEDIF(I384,$J$1,\"Y\"))","v":""}]
[null,null,null,null,null,null,null,null,null,{"$f":"IF(I385=\"\",\"\",DATEDIF(I385,$J$1,\"Y\"))","v":""}]
[null,null,null,null,null,null,null,null,null,{"$f":"IF(I386=\"\",\"\",DATEDIF(I386,$J$1,\"Y\"))","v":""}]
[null,null,null,null,null,null,null,null,null,{"$f":"IF(I387=\"\",\"\",DATEDIF(I387,$J$1,\"Y\"))","v":""}]
[null,null,null,null,null,null,null,null,null,{"$f":"IF(I388=\"\",\"\",DATEDIF(I388,$J$1,\"Y\"))","v":""}]
[null,null,null,null,null,null,null,null,null,{"$f":"IF(I389=\"\",\"\",DATEDIF(I389,$J$1,\"Y\"))","v":""}]
[null,null,null,null,null,null,null,null,null,{"$f":"IF(I390=\"\",\"\",DATEDIF(I390,$J$1,\"Y\"))","v":""}]
[null,null,null,null,null,null,null,null,null,{"$f":"IF(I391=\"\",\"\",DATEDIF(I391,$J$1,\"Y\"))","v":""}]
[null,null,null,null,null,null,null,null,null,{"$f":"IF(I392=\"\",\"\",DATEDIF(I392,$J$1,\"Y\"))","v":""}]
[null,null,null,null,null,null,null,null,null,{"$f":"IF(I393=\"\",\"\",DATEDIF(I393,$J$1,\"Y\"))","v":""}]
[null,null,null,null,null,null,null,null,null,{"$f":"IF(I394=\"\",\"\",DATEDIF(I394,$J$1,\"Y\"))","v":""}]
[null,null,null,null,null,null,null,null,null,{"$f":"IF(I395=\"\",\"\",DATEDIF(I395,$J$1,\"Y\"))","v":""}]
[null,null,null,null,null,null,null,null,null,{"$f":"IF(I396=\"\",\"\",DATEDIF(I396,$J$1,\"Y\"))","v":""}]
[null,null,null,null,null,null,null,null,null,{"$f":"IF(I397=\"\",\"\",DATEDIF(I397,$J$1,\"Y\"))","v":""}]
[null,null,null,null,null,null,null,null,null,{"$f":"IF(I398=\"\",\"\",DATEDIF(I398,$J$1,\"Y\"))","v":""}]
[null,null,null,null,null,null,null,null,null,{"$f":"IF(I399=\"\",\"\",DATEDIF(I399,$J$1,\"Y\"))","v":""}]
[null,null,null,null,null,null,null,null,null,{"$f":"IF(I400=\"\",\"\",DATEDIF(I400,$J$1,\"Y\"))","v":""}]
[null,null,null,null,null,null,null,null,null,{"$f":"IF(I401=\"\",\"\",DATEDIF(I401,$J$1,\"Y\"))","v":""}]
[null,null,null,null,null,null,null,null,null,{"$f":"IF(I402=\"\",\"\",DATEDIF(I402,$J$1,\"Y\"))","v":""}]
[null,null,null,null,null,null,null,null,null,{"$f":"IF(I403=\"\",\"\",DATEDIF(I403,$J$1,\"Y\"))","v":""}]
[null,null,null,null,null,null,null,null,null,{"$f":"IF(I404=\"\",\"\",DATEDIF(I404,$J$1,\"Y\"))","v":""}]
[null,null,null,null,null,null,null,null,null,{"$f":"IF(I405=\"\",\"\",DATEDIF(I405,$J$1,\"Y\"))","v":""}]
[null,null,null,null,null,null,null,null,null,{"$f":"IF(I406=\"\",\"\",DATEDIF(I406,$J$1,\"Y\"))","v":""}]
[null,null,null,null,null,null,null,null,null,{"$f":"IF(I407=\"\",\"\",DATEDIF(I407,$J$1,\"Y\"))","v":""}]
[null,null,null,null,null,null,null,null,null,{"$f":"IF(I408=\"\",\"\",DATEDIF(I408,$J$1,\"Y\"))","v":""}]
[null,null,null,null,null,null,null,null,null,{"$f":"IF(I409=\"\",\"\",DATEDIF(I409,$J$1,\"Y\"))","v":""}]
[null,null,null,null,null,null,null,null,null,{"$f":"IF(I410=\"\",\"\",DATEDIF(I410,$J$1,\"Y\"))","v":""}]
[null,null,null,null,null,null,null,null,null,{"$f":"IF(I411=\"\",\"\",DATEDIF(I411,$J$1,\"Y\"))","v":""}]
[null,null,null,null,null,null,null,null,null,{"$f":"IF(I412=\"\",\"\",DATEDIF(I412,$J$1,\"Y\"))","v":""}]
[null,null,null,null,null,null,null,null,null,{"$f":"IF(I413=\"\",\"\",DATEDIF(I413,$J$1,\"Y\"))","v":""}]
[null,null,null,null,null,null,null,null,null,{"$f":"IF(I414=\"\",\"\",DATEDIF(I414,$J$1,\"Y\"))","v":""}]
[null,null,null,null,null,null,null,null,null,{"$f":"IF(I415=\"\",\"\",DATEDIF(I415,$J$1,\"Y\"))","v":""}]
[null,null,null,null,null,null,null,null,null,{"$f":"IF(I416=\"\",\"\",DATEDIF(I416,$J$1,\"Y\"))","v":""}]
[null,null,null,null,null,null,null,null,null,{"$f":"IF(I417=\"\",\"\",DATEDIF(I417,$J$1,\"Y\"))","v":""}]
[null,null,null,null,null,null,null,null,null,{"$f":"IF(I418=\"\",\"\",DATEDIF(I418,$J$1,\"Y\"))","v":""}]
[null,null,null,null,null,null,null,null,null,{"$f":"IF(I419=\"\",\"\",DATEDIF(I419,$J$1,\"Y\"))","v":""}]
[null,null,null,null,null,null,null,null,null,{"$f":"IF(I420=\"\",\"\",DATEDIF(I420,$J$1,\"Y\"))","v":""}]
[null,null,null,null,null,null,null,null,null,{"$f":"IF(I421=\"\",\"\",DATEDIF(I421,$J$1,\"Y\"))","v":""}]
[null,null,null,null,null,null,null,null,null,{"$f":"IF(I422=\"\",\"\",DATEDIF(I422,$J$1,\"Y\"))","v":""}]
[null,null,null,null,null,null,null,null,null,{"$f":"IF(I423=\"\",\"\",DATEDIF(I423,$J$1,\"Y\"))","v":""}]
[null,null,null,null,null,null,null,null,null,{"$f":"IF(I424=\"\",\"\",DATEDIF(I424,$J$1,\"Y\"))","v":""}]
[null,null,null,null,null,null,null,null,null,{"$f":"IF(I425=\"\",\"\",DATEDIF(I425,$J$1,\"Y\"))","v":""}]
[null,null,null,null,null,null,null,null,null,{"$f":"IF(I426=\"\",\"\",DATEDIF(I426,$J$1,\"Y\"))","v":""}]
[null,null,null,null,null,null,null,null,null,{"$f":"IF(I427=\"\",\"\",DATEDIF(I427,$J$1,\"Y\"))","v":""}]
[null,null,null,null,null,null,null,null,null,{"$f":"IF(I428=\"\",\"\",DATEDIF(I428,$J$1,\"Y\"))","v":""}]
[null,null,null,null,null,null,null,null,null,{"$f":"IF(I429=\"\",\"\",DATEDIF(I429,$J$1,\"Y\"))","v":""}]
[null,null,null,null,null,null,null,null,null,{"$f":"IF(I430=\"\",\"\",DATEDIF(I430,$J$1,\"Y\"))","v":""}]
[null,null,null,null,null,null,null,null,null,{"$f":"IF(I431=\"\",\"\",DATEDIF(I431,$J$1,\"Y\"))","v":""}]
[null,null,null,null,null,null,null,null,null,{"$f":"IF(I432=\"\",\"\",DATEDIF(I432,$J$1,\"Y\"))","v":""}]
[null,null,null,null,null,null,null,null,null,{"$f":"IF(I433=\"\",\"\",DATEDIF(I433,$J$1,\"Y\"))","v":""}]
[null,null,null,null,null,null,null,null,null,{"$f":"IF(I434=\"\",\"\",DATEDIF(I434,$J$1,\"Y\"))","v":""}]
[null,null,null,null,null,null,null,null,null,{"$f":"IF(I435=\"\",\"\",DATEDIF(I435,$J$1,\"Y\"))","v":""}]
[null,null,null,null,null,null,null,null,null,{"$f":"IF(I436=\"\",\"\",DATEDIF(I436,$J$1,\"Y\"))","v":""}]
[null,null,null,null,null,null,null,null,null,{"$f":"IF(I437=\"\",\"\",DATEDIF(I437,$J$1,\"Y\"))","v":""}]
[null,null,null,null,null,null,null,null,null,{"$f":"IF(I438=\"\",\"\",DATEDIF(I438,$J$1,\"Y\"))","v":""}]
[null,null,null,null,null,null,null,null,null,{"$f":"IF(I439=\"\",\"\",DATEDIF(I439,$J$1,\"Y\"))","v":""}]
[null,null,null,null,null,null,null,null,null,{"$f":"IF(I440=\"\",\"\",DATEDIF(I440,$J$1,\"Y\"))","v":""}]
[null,null,null,null,null,null,null,null,null,{"$f":"IF(I441=\"\",\"\",DATEDIF(I441,$J$1,\"Y\"))","v":""}]
[null,null,null,null,null,null,null,null,null,{"$f":"IF(I442=\"\",\"\",DATEDIF(I442,$J$1,\"Y\"))","v":""}]
[null,null,null,null,null,null,null,null,null,{"$f":"IF(I443=\"\",\"\",DATEDIF(I443,$J$1,\"Y\"))","v":""}]
[null,null,null,null,null,null,null,null,null,{"$f":"IF(I444=\"\",\"\",DATEDIF(I444,$J$1,\"Y\"))","v":""}]
[null,null,null,null,null,null,null,null,null,{"$f":"IF(I445=\"\",\"\",DATEDIF(I445,$J$1,\"Y\"))","v":""}]
[null,null,null,null,null,null,null,null,null,{"$f":"IF(I446=\"\",\"\",DATEDIF(I446,$J$1,\"Y\"))","v":""}]
[null,null,null,null,null,null,null,null,null,{"$f":"IF(I447=\"\",\"\",DATEDIF(I447,$J$1,\"Y\"))","v":""}]
[null,null,null,null,null,null,null,null,null,{"$f":"IF(I448=\"\",\"\",DATEDIF(I448,$J$1,\"Y\"))","v":""}]
[null,null,null,null,null,null,null,null,null,{"$f":"IF(I449=\"\",\"\",DATEDIF(I449,$J$1,\"Y\"))","v":""}]
[null,null,null,null,null,null,null,null,null,{"$f":"IF(I450=\"\",\"\",DATEDIF(I450,$J$1,\"Y\"))","v":""}]
[null,null,null,null,null,null,null,null,null,{"$f":"IF(I451=\"\",\"\",DATEDIF(I451,$J$1,\"Y\"))","v":""}]
[null,null,null,null,null,null,null,null,null,{"$f":"IF(I452=\"\",\"\",DATEDIF(I452,$J$1,\"Y\"))","v":""}]
[null,null,null,null,null,null,null,null,null,{"$f":"IF(I453=\"\",\"\",DATEDIF(I453,$J$1,\"Y\"))","v":""}]
[null,null,null,null,null,null,null,null,null,{"$f":"IF(I454=\"\",\"\",DATEDIF(I454,$J$1,\"Y\"))","v":""}]
[null,null,null,null,null,null,null,null,null,{"$f":"IF(I455=\"\",\"\",DATEDIF(I455,$J$1,\"Y\"))","v":""}]
[null,null,null,null,null,null,null,null,null,{"$f":"IF(I456=\"\",\"\",DATEDIF(I456,$J$1,\"Y\"))","v":""}]
[null,null,null,null,null,null,null,null,null,{"$f":"IF(I457=\"\",\"\",DATEDIF(I457,$J$1,\"Y\"))","v":""}]
[null,null,null,null,null,null,null,null,null,{"$f":"IF(I458=\"\",\"\",DATEDIF(I458,$J$1,\"Y\"))","v":""}]
[null,null,null,null,null,null,null,null,null,{"$f":"IF(I459=\"\",\"\",DATEDIF(I459,$J$1,\"Y\"))","v":""}]
[null,null,null,null,null,null,null,null,null,{"$f":"IF(I460=\"\",\"\",DATEDIF(I460,$J$1,\"Y\"))","v":""}]
[null,null,null,null,null,null,null,null,null,{"$f":"IF(I461=\"\",\"\",DATEDIF(I461,$J$1,\"Y\"))","v":""}]
[null,null,null,null,null,null,null,null,null,{"$f":"IF(I462=\"\",\"\",DATEDIF(I462,$J$1,\"Y\"))","v":""}]
[null,null,null,null,null,null,null,null,null,{"$f":"IF(I463=\"\",\"\",DATEDIF(I463,$J$1,\"Y\"))","v":""}]
[null,null,null,null,null,null,null,null,null,{"$f":"IF(I464=\"\",\"\",DATEDIF(I464,$J$1,\"Y\"))","v":""}]
[null,null,null,null,null,null,null,null,null,{"$f":"IF(I465=\"\",\"\",DATEDIF(I465,$J$1,\"Y\"))","v":""}]
[null,null,null,null,null,null,null,null,null,{"$f":"IF(I466=\"\",\"\",DATEDIF(I466,$J$1,\"Y\"))","v":""}]
[null,null,null,null,null,null,null,null,null,{"$f":"IF(I467=\"\",\"\",DATEDIF(I467,$J$1,\"Y\"))","v":""}]
[null,null,null,null,null,null,null,null,null,{"$f":"IF(I468=\"\",\"\",DATEDIF(I468,$J$1,\"Y\"))","v":""}]
[null,null,null,null,null,null,null,null,null,{"$f":"IF(I469=\"\",\"\",DATEDIF(I469,$J$1,\"Y\"))","v":""}]
[null,null,null,null,null,null,null,null,null,{"$f":"IF(I470=\"\",\"\",DATEDIF(I470,$J$1,\"Y\"))","v":""}]
[null,null,null,null,null,null,null,null,null,{"$f":"IF(I471=\"\",\"\",DATEDIF(I471,$J$1,\"Y\"))","v":""}]
[null,null,null,null,null,null,null,null,null,{"$f":"IF(I472=\"\",\"\",DATEDIF(I472,$J$1,\"Y\"))","v":""}]
[null,null,null,null,null,null,null,null,null,{"$f":"IF(I473=\"\",\"\",DATEDIF(I473,$J$1,\"Y\"))","v":""}]
[null,null,null,null,null,null,null,null,null,{"$f":"IF(I474=\"\",\"\",DATEDIF(I474,$J$1,\"Y\"))","v":""}]
[null,null,null,null,null,null,null,null,null,{"$f":"IF(I475=\"\",\"\",DATEDIF(I475,$J$1,\"Y\"))","v":""}]
[null,null,null,null,null,null,null,null,null,{"$f":"IF(I476=\"\",\"\",DATEDIF(I476,$J$1,\"Y\"))","v":""}]
[null,null,null,null,null,null,null,null,null,{"$f":"IF(I477=\"\",\"\",DATEDIF(I477,$J$1,\"Y\"))","v":""}]
[null,null,null,null,null,null,null,null,null,{"$f":"IF(I478=\"\",\"\",DATEDIF(I478,$J$1,\"Y\"))","v":""}]
[null,null,null,null,null,null,null,null,null,{"$f":"IF(I479=\"\",\"\",DATEDIF(I479,$J$1,\"Y\"))","v":""}]
[null,null,null,null,null,null,null,null,null,{"$f":"IF(I480=\"\",\"\",DATEDIF(I480,$J$1,\"Y\"))","v":""}]
[null,null,null,null,null,null,null,null,null,{"$f":"IF(I481=\"\",\"\",DATEDIF(I481,$J$1,\"Y\"))","v":""}]
[null,null,null,null,null,null,null,null,null,{"$f":"IF(I482=\"\",\"\",DATEDIF(I482,$J$1,\"Y\"))","v":""}]
[null,null,null,null,null,null,null,null,null,{"$f":"IF(I483=\"\",\"\",DATEDIF(I483,$J$1,\"Y\"))","v":""}]
[null,null,null,null,null,null,null,null,null,{"$f":"IF(I484=\"\",\"\",DATEDIF(I484,$J$1,\"Y\"))","v":""}]
[null,null,null,null,null,null,null,null,null,{"$f":"IF(I485=\"\",\"\",DATEDIF(I485,$J$1,\"Y\"))","v":""}]
[null,null,null,null,null,null,null,null,null,{"$f":"IF(I486=\"\",\"\",DATEDIF(I486,$J$1,\"Y\"))","v":""}]
[null,null,null,null,null,null,null,null,null,{"$f":"IF(I487=\"\",\"\",DATEDIF(I487,$J$1,\"Y\"))","v":""}]
[null,null,null,null,null,null,null,null,null,{"$f":"IF(I488=\"\",\"\",DATEDIF(I488,$J$1,\"Y\"))","v":""}]
[null,null,null,null,null,null,null,null,null,{"$f":"IF(I489=\"\",\"\",DATEDIF(I489,$J$1,\"Y\"))","v":""}]
[null,null,null,null,null,null,null,null,null,{"$f":"IF(I490=\"\",\"\",DATEDIF(I490,$J$1,\"Y\"))","v":""}]
[null,null,null,null,null,null,null,null,null,{"$f":"IF(I491=\"\",\"\",DATEDIF(I491,$J$1,\"Y\"))","v":""}]
[null,null,null,null,null,null,null,null,null,{"$f":"IF(I492=\"\",\"\",DATEDIF(I492,$J$1,\"Y\"))","v":""}]
[null,null,null,null,null,null,null,null,null,{"$f":"IF(I493=\"\",\"\",DATEDIF(I493,$J$1,\"Y\"))","v":""}]
[null,null,null,null,null,null,null,null,null,{"$f":"IF(I494=\"\",\"\",DATEDIF(I494,$J$1,\"Y\"))","v":""}]
[null,null,null,null,null,null,null,null,null,{"$f":"IF(I495=\"\",\"\",DATEDIF(I495,$J$1,\"Y\"))","v":""}]
[null,null,null,null,null,null,null,null,null,{"$f":"IF(I496=\"\",\"\",DATEDIF(I496,$J$1,\"Y\"))","v":""}]
[null,null,null,null,null,null,null,null,null,{"$f":"IF(I497=\"\",\"\",DATEDIF(I497,$J$1,\"Y\"))","v":""}]
[null,null,null,null,null,null,null,null,null,{"$f":"IF(I498=\"\",\"\",DATEDIF(I498,$J$1,\"Y\"))","v":""}]
[null,null,null,null,null,null,null,null,null,{"$f":"IF(I499=\"\",\"\",DATEDIF(I499,$J$1,\"Y\"))","v":""}]
[null,null,null,null,null,null,null,null,null,{"$f":"IF(I500=\"\",\"\",DATEDIF(I500,$J$1,\"Y\"))","v":""}]
[null,null,null,null,null,null,null,null,null,{"$f":"IF(I501=\"\",\"\",DATEDIF(I501,$J$1,\"Y\"))","v":""}]
[null,null,null,null,null,null,null,null,null,{"$f":"IF(I502=\"\",\"\",DATEDIF(I502,$J$1,\"Y\"))","v":""}]
[null,null,null,null,null,null,null,null,null,{"$f":"IF(I503=\"\",\"\",DATEDIF(I503,$J$1,\"Y\"))","v":""}]
[null,null,null,null,null,null,null,null,null,{"$f":"IF(I504=\"\",\"\",DATEDIF(I504,$J$1,\"Y\"))","v":""}]
[null,null,null,null,null,null,null,null,null,{"$f":"IF(I505=\"\",\"\",DATEDIF(I505,$J$1,\"Y\"))","v":""}]
[null,null,null,null,null,null,null,null,null,{"$f":"IF(I506=\"\",\"\",DATEDIF(I506,$J$1,\"Y\"))","v":""}]
[null,null,null,null,null,null,null,null,null,{"$f":"IF(I507=\"\",\"\",DATEDIF(I507,$J$1,\"Y\"))","v":""}]
[null,null,null,null,null,null,null,null,null,{"$f":"IF(I508=\"\",\"\",DATEDIF(I508,$J$1,\"Y\"))","v":""}]
[null,null,null,null,null,null,null,null,null,{"$f":"IF(I509=\"\",\"\",DATEDIF(I509,$J$1,\"Y\"))","v":""}]
[null,null,null,null,null,null,null,null,null,{"$f":"IF(I510=\"\",\"\",DATEDIF(I510,$J$1,\"Y\"))","v":""}]
[null,null,null,null,null,null,null,null,null,{"$f":"IF(I511=\"\",\"\",DATEDIF(I511,$J$1,\"Y\"))","v":""}]
[null,null,null,null,null,null,null,null,null,{"$f":"IF(I512=\"\",\"\",DATEDIF(I512,$J$1,\"Y\"))","v":""}]
[null,null,null,null,null,null,null,null,null,{"$f":"IF(I513=\"\",\"\",DATEDIF(I513,$J$1,\"Y\"))","v":""}]
[null,null,null,null,null,null,null,null,null,{"$f":"IF(I514=\"\",\"\",DATEDIF(I514,$J$1,\"Y\"))","v":""}]
[null,null,null,null,null,null,null,null,null,{"$f":"IF(I515=\"\",\"\",DATEDIF(I515,$J$1,\"Y\"))","v":""}]
[null,null,null,null,null,null,null,null,null,{"$f":"IF(I516=\"\",\"\",DATEDIF(I516,$J$1,\"Y\"))","v":""}]
[null,null,null,null,null,null,null,null,null,{"$f":"IF(I517=\"\",\"\",DATEDIF(I517,$J$1,\"Y\"))","v":""}]
[null,null,null,null,null,null,null,null,null,{"$f":"IF(I518=\"\",\"\",DATEDIF(I518,$J$1,\"Y\"))","v":""}]
[null,null,null,null,null,null,null,null,null,{"$f":"IF(I519=\"\",\"\",DATEDIF(I519,$J$1,\"Y\"))","v":""}]
[null,null,null,null,null,null,null,null,null,{"$f":"IF(I520=\"\",\"\",DATEDIF(I520,$J$1,\"Y\"))","v":""}]
[null,null,null,null,null,null,null,null,null,{"$f":"IF(I521=\"\",\"\",DATEDIF(I521,$J$1,\"Y\"))","v":""}]
[null,null,null,null,null,null,null,null,null,{"$f":"IF(I522=\"\",\"\",DATEDIF(I522,$J$1,\"Y\"))","v":""}]
[null,null,null,null,null,null,null,null,null,{"$f":"IF(I523=\"\",\"\",DATEDIF(I523,$J$1,\"Y\"))","v":""}]
[null,null,null,null,null,null,null,null,null,{"$f":"IF(I524=\"\",\"\",DATEDIF(I524,$J$1,\"Y\"))","v":""}]
[null,null,null,null,null,null,null,null,null,{"$f":"IF(I525=\"\",\"\",DATEDIF(I525,$J$1,\"Y\"))","v":""}]
[null,null,null,null,null,null,null,null,null,{"$f":"IF(I526=\"\",\"\",DATEDIF(I526,$J$1,\"Y\"))","v":""}]
[null,null,null,null,null,null,null,null,null,{"$f":"IF(I527=\"\",\"\",DATEDIF(I527,$J$1,\"Y\"))","v":""}]
[null,null,null,null,null,null,null,null,null,{"$f":"IF(I528=\"\",\"\",DATEDIF(I528,$J$1,\"Y\"))","v":""}]
[null,null,null,null,null,null,null,null,null,{"$f":"IF(I529=\"\",\"\",DATEDIF(I529,$J$1,\"Y\"))","v":""}]
[null,null,null,null,null,null,null,null,null,{"$f":"IF(I530=\"\",\"\",DATEDIF(I530,$J$1,\"Y\"))","v":""}]
[null,null,null,null,null,null,null,null,null,{"$f":"IF(I531=\"\",\"\",DATEDIF(I531,$J$1,\"Y\"))","v":""}]
[null,null,null,null,null,null,null,null,null,{"$f":"IF(I532=\"\",\"\",DATEDIF(I532,$J$1,\"Y\"))","v":""}]
[null,null,null,null,null,null,null,null,null,{"$f":"IF(I533=\"\",\"\",DATEDIF(I533,$J$1,\"Y\"))","v":""}]
[null,null,null,null,null,null,null,null,null,{"$f":"IF(I534=\"\",\"\",DATEDIF(I534,$J$1,\"Y\"))","v":""}]
[null,null,null,null,null,null,null,null,null,{"$f":"IF(I535=\"\",\"\",DATEDIF(I535,$J$1,\"Y\"))","v":""}]
[null,null,null,null,null,null,null,null,null,{"$f":"IF(I536=\"\",\"\",DATEDIF(I536,$J$1,\"Y\"))","v":""}]
[null,null,null,null,null,null,null,null,null,{"$f":"IF(I537=\"\",\"\",DATEDIF(I537,$J$1,\"Y\"))","v":""}]
[null,null,null,null,null,null,null,null,null,{"$f":"IF(I538=\"\",\"\",DATEDIF(I538,$J$1,\"Y\"))","v":""}]
[null,null,null,null,null,null,null,null,null,{"$f":"IF(I539=\"\",\"\",DATEDIF(I539,$J$1,\"Y\"))","v":""}]
[null,null,null,null,null,null,null,null,null,{"$f":"IF(I540=\"\",\"\",DATEDIF(I540,$J$1,\"Y\"))","v":""}]
[null,null,null,null,null,null,null,null,null,{"$f":"IF(I541=\"\",\"\",DATEDIF(I541,$J$1,\"Y\"))","v":""}]
[null,null,null,null,null,null,null,null,null,{"$f":"IF(I542=\"\",\"\",DATEDIF(I542,$J$1,\"Y\"))","v":""}]
[null,null,null,null,null,null,null,null,null,{"$f":"IF(I543=\"\",\"\",DATEDIF(I543,$J$1,\"Y\"))","v":""}]
[null,null,null,null,null,null,null,null,null,{"$f":"IF(I544=\"\",\"\",DATEDIF(I544,$J$1,\"Y\"))","v":""}]
[null,null,null,null,null,null,null,null,null,{"$f":"IF(I545=\"\",\"\",DATEDIF(I545,$J$1,\"Y\"))","v":""}]
[null,null,null,null,null,null,null,null,null,{"$f":"IF(I546=\"\",\"\",DATEDIF(I546,$J$1,\"Y\"))","v":""}]
[null,null,null,null,null,null,null,null,null,{"$f":"IF(I547=\"\",\"\",DATEDIF(I547,$J$1,\"Y\"))","v":""}]
[null,null,null,null,null,null,null,null,null,{"$f":"IF(I548=\"\",\"\",DATEDIF(I548,$J$1,\"Y\"))","v":""}]
[null,null,null,null,null,null,null,null,null,{"$f":"IF(I549=\"\",\"\",DATEDIF(I549,$J$1,\"Y\"))","v":""}]
[null,null,null,null,null,null,null,null,null,{"$f":"IF(I550=\"\",\"\",DATEDIF(I550,$J$1,\"Y\"))","v":""}]
[null,null,null,null,null,null,null,null,null,{"$f":"IF(I551=\"\",\"\",DATEDIF(I551,$J$1,\"Y\"))","v":""}]
[null,null,null,null,null,null,null,null,null,{"$f":"IF(I552=\"\",\"\",DATEDIF(I552,$J$1,\"Y\"))","v":""}]
[null,null,null,null,null,null,null,null,null,{"$f":"IF(I553=\"\",\"\",DATEDIF(I553,$J$1,\"Y\"))","v":""}]
[null,null,null,null,null,null,null,null,null,{"$f":"IF(I554=\"\",\"\",DATEDIF(I554,$J$1,\"Y\"))","v":""}]
[null,null,null,null,null,null,null,null,null,{"$f":"IF(I555=\"\",\"\",DATEDIF(I555,$J$1,\"Y\"))","v":""}]
[null,null,null,null,null,null,null,null,null,{"$f":"IF(I556=\"\",\"\",DATEDIF(I556,$J$1,\"Y\"))","v":""}]
[null,null,null,null,null,null,null,null,null,{"$f":"IF(I557=\"\",\"\",DATEDIF(I557,$J$1,\"Y\"))","v":""}]
[null,null,null,null,null,null,null,null,null,{"$f":"IF(I558=\"\",\"\",DATEDIF(I558,$J$1,\"Y\"))","v":""}]
[null,null,null,null,null,null,null,null,null,{"$f":"IF(I559=\"\",\"\",DATEDIF(I559,$J$1,\"Y\"))","v":""}]
[null,null,null,null,null,null,null,null,null,{"$f":"IF(I560=\"\",\"\",DATEDIF(I560,$J$1,\"Y\"))","v":""}]
[null,null,null,null,null,null,null,null,null,{"$f":"IF(I561=\"\",\"\",DATEDIF(I561,$J$1,\"Y\"))","v":""}]
[null,null,null,null,null,null,null,null,null,{"$f":"IF(I562=\"\",\"\",DATEDIF(I562,$J$1,\"Y\"))","v":""}]
[null,null,null,null,null,null,null,null,null,{"$f":"IF(I563=\"\",\"\",DATEDIF(I563,$J$1,\"Y\"))","v":""}]
[null,null,null,null,null,null,null,null,null,{"$f":"IF(I564=\"\",\"\",DATEDIF(I564,$J$1,\"Y\"))","v":""}]
[null,null,null,null,null,null,null,null,null,{"$f":"IF(I565=\"\",\"\",DATEDIF(I565,$J$1,\"Y\"))","v":""}]
[null,null,null,null,null,null,null,null,null,{"$f":"IF(I566=\"\",\"\",DATEDIF(I566,$J$1,\"Y\"))","v":""}]
[null,null,null,null,null,null,null,null,null,{"$f":"IF(I567=\"\",\"\",DATEDIF(I567,$J$1,\"Y\"))","v":""}]
[null,null,null,null,null,null,null,null,null,{"$f":"IF(I568=\"\",\"\",DATEDIF(I568,$J$1,\"Y\"))","v":""}]
[null,null,null,null,null,null,null,null,null,{"$f":"IF(I569=\"\",\"\",DATEDIF(I569,$J$1,\"Y\"))","v":""}]
[null,null,null,null,null,null,null,null,null,{"$f":"IF(I570=\"\",\"\",DATEDIF(I570,$J$1,\"Y\"))","v":""}]
[null,null,null,null,null,null,null,null,null,{"$f":"IF(I571=\"\",\"\",DATEDIF(I571,$J$1,\"Y\"))","v":""}]
[null,null,null,null,null,null,null,null,null,{"$f":"IF(I572=\"\",\"\",DATEDIF(I572,$J$1,\"Y\"))","v":""}]
[null,null,null,null,null,null,null,null,null,{"$f":"IF(I573=\"\",\"\",DATEDIF(I573,$J$1,\"Y\"))","v":""}]
[null,null,null,null,null,null,null,null,null,{"$f":"IF(I574=\"\",\"\",DATEDIF(I574,$J$1,\"Y\"))","v":""}]
[null,null,null,null,null,null,null,null,null,{"$f":"IF(I575=\"\",\"\",DATEDIF(I575,$J$1,\"Y\"))","v":""}]
[null,null,null,null,null,null,null,null,null,{"$f":"IF(I576=\"\",\"\",DATEDIF(I576,$J$1,\"Y\"))","v":""}]
[null,null,null,null,null,null,null,null,null,{"$f":"IF(I577=\"\",\"\",DATEDIF(I577,$J$1,\"Y\"))","v":""}]
[null,null,null,null,null,null,null,null,null,{"$f":"IF(I578=\"\",\"\",DATEDIF(I578,$J$1,\"Y\"))","v":""}]
[null,null,null,null,null,null,null,null,null,{"$f":"IF(I579=\"\",\"\",DATEDIF(I579,$J$1,\"Y\"))","v":""}]
[null,null,null,null,null,null,null,null,null,{"$f":"IF(I580=\"\",\"\",DATEDIF(I580,$J$1,\"Y\"))","v":""}]
[null,null,null,null,null,null,null,null,null,{"$f":"IF(I581=\"\",\"\",DATEDIF(I581,$J$1,\"Y\"))","v":""}]
[null,null,null,null,null,null,null,null,null,{"$f":"IF(I582=\"\",\"\",DATEDIF(I582,$J$1,\"Y\"))","v":""}]
[null,null,null,null,null,null,null,null,null,{"$f":"IF(I583=\"\",\"\",DATEDIF(I583,$J$1,\"Y\"))","v":""}]
[null,null,null,null,null,null,null,null,null,{"$f":"IF(I584=\"\",\"\",DATEDIF(I584,$J$1,\"Y\"))","v":""}]
[null,null,null,null,null,null,null,null,null,{"$f":"IF(I585=\"\",\"\",DATEDIF(I585,$J$1,\"Y\"))","v":""}]
[null,null,null,null,null,null,null,null,null,{"$f":"IF(I586=\"\",\"\",DATEDIF(I586,$J$1,\"Y\"))","v":""}]
[null,null,null,null,null,null,null,null,null,{"$f":"IF(I587=\"\",\"\",DATEDIF(I587,$J$1,\"Y\"))","v":""}]
[null,null,null,null,null,null,null,null,null,{"$f":"IF(I588=\"\",\"\",DATEDIF(I588,$J$1,\"Y\"))","v":""}]
[null,null,null,null,null,null,null,null,null,{"$f":"IF(I589=\"\",\"\",DATEDIF(I589,$J$1,\"Y\"))","v":""}]
[null,null,null,null,null,null,null,null,null,{"$f":"IF(I590=\"\",\"\",DATEDIF(I590,$J$1,\"Y\"))","v":""}]
[null,null,null,null,null,null,null,null,null,{"$f":"IF(I591=\"\",\"\",DATEDIF(I591,$J$1,\"Y\"))","v":""}]
[null,null,null,null,null,null,null,null,null,{"$f":"IF(I592=\"\",\"\",DATEDIF(I592,$J$1,\"Y\"))","v":""}]
[null,null,null,null,null,null,null,null,null,{"$f":"IF(I593=\"\",\"\",DATEDIF(I593,$J$1,\"Y\"))","v":""}]
[null,null,null,null,null,null,null,null,null,{"$f":"IF(I594=\"\",\"\",DATEDIF(I594,$J$1,\"Y\"))","v":""}]
[null,null,null,null,null,null,null,null,null,{"$f":"IF(I595=\"\",\"\",DATEDIF(I595,$J$1,\"Y\"))","v":""}]
[null,null,null,null,null,null,null,null,null,{"$f":"IF(I596=\"\",\"\",DATEDIF(I596,$J$1,\"Y\"))","v":""}]
[null,null,null,null,null,null,null,null,null,{"$f":"IF(I597=\"\",\"\",DATEDIF(I597,$J$1,\"Y\"))","v":""}]
[null,null,null,null,null,null,null,null,null,{"$f":"IF(I598=\"\",\"\",DATEDIF(I598,$J$1,\"Y\"))","v":""}]
[null,null,null,null,null,null,null,null,null,{"$f":"IF(I599=\"\",\"\",DATEDIF(I599,$J$1,\"Y\"))","v":""}]
[null,null,null,null,null,null,null,null,null,{"$f":"IF(I600=\"\",\"\",DATEDIF(I600,$J$1,\"Y\"))","v":""}]
[null,null,null,null,null,null,null,null,null,{"$f":"IF(I601=\"\",\"\",DATEDIF(I601,$J$1,\"Y\"))","v":""}]
[null,null,null,null,null,null,null,null,null,{"$f":"IF(I602=\"\",\"\",DATEDIF(I602,$J$1,\"Y\"))","v":""}]
[null,null,null,null,null,null,null,null,null,{"$f":"IF(I603=\"\",\"\",DATEDIF(I603,$J$1,\"Y\"))","v":""}]
[null,null,null,null,null,null,null,null,null,{"$f":"IF(I604=\"\",\"\",DATEDIF(I604,$J$1,\"Y\"))","v":""}]
[null,null,null,null,null,null,null,null,null,{"$f":"IF(I605=\"\",\"\",DATEDIF(I605,$J$1,\"Y\"))","v":""}]
[null,null,null,null,null,null,null,null,null,{"$f":"IF(I606=\"\",\"\",DATEDIF(I606,$J$1,\"Y\"))","v":""}]
[null,null,null,null,null,null,null,null,null,{"$f":"IF(I607=\"\",\"\",DATEDIF(I607,$J$1,\"Y\"))","v":""}]
[null,null,null,null,null,null,null,null,null,{"$f":"IF(I608=\"\",\"\",DATEDIF(I608,$J$1,\"Y\"))","v":""}]
[null,null,null,null,null,null,null,null,null,{"$f":"IF(I609=\"\",\"\",DATEDIF(I609,$J$1,\"Y\"))","v":""}]
[null,null,null,null,null,null,null,null,null,{"$f":"IF(I610=\"\",\"\",DATEDIF(I610,$J$1,\"Y\"))","v":""}]
[null,null,null,null,null,null,null,null,null,{"$f":"IF(I611=\"\",\"\",DATEDIF(I611,$J$1,\"Y\"))","v":""}]
[null,null,null,null,null,null,null,null,null,{"$f":"IF(I612=\"\",\"\",DATEDIF(I612,$J$1,\"Y\"))","v":""}]
[null,null,null,null,null,null,null,null,null,{"$f":"IF(I613=\"\",\"\",DATEDIF(I613,$J$1,\"Y\"))","v":""}]
[null,null,null,null,null,null,null,null,null,{"$f":"IF(I614=\"\",\"\",DATEDIF(I614,$J$1,\"Y\"))","v":""}]
[null,null,null,null,null,null,null,null,null,{"$f":"IF(I615=\"\",\"\",DATEDIF(I615,$J$1,\"Y\"))","v":""}]
[null,null,null,null,null,null,null,null,null,{"$f":"IF(I616=\"\",\"\",DATEDIF(I616,$J$1,\"Y\"))","v":""}]
[null,null,null,null,null,null,null,null,null,{"$f":"IF(I617=\"\",\"\",DATEDIF(I617,$J$1,\"Y\"))","v":""}]
[null,null,null,null,null,null,null,null,null,{"$f":"IF(I618=\"\",\"\",DATEDIF(I618,$J$1,\"Y\"))","v":""}]
[null,null,null,null,null,null,null,null,null,{"$f":"IF(I619=\"\",\"\",DATEDIF(I619,$J$1,\"Y\"))","v":""}]
[null,null,null,null,null,null,null,null,null,{"$f":"IF(I620=\"\",\"\",DATEDIF(I620,$J$1,\"Y\"))","v":""}]
[null,null,null,null,null,null,null,null,null,{"$f":"IF(I621=\"\",\"\",DATEDIF(I621,$J$1,\"Y\"))","v":""}]
[null,null,null,null,null,null,null,null,null,{"$f":"IF(I622=\"\",\"\",DATEDIF(I622,$J$1,\"Y\"))","v":""}]
[null,null,null,null,null,null,null,null,null,{"$f":"IF(I623=\"\",\"\",DATEDIF(I623,$J$1,\"Y\"))","v":""}]
[null,null,null,null,null,null,null,null,null,{"$f":"IF(I624=\"\",\"\",DATEDIF(I624,$J$1,\"Y\"))","v":""}]
[null,null,null,null,null,null,null,null,null,{"$f":"IF(I625=\"\",\"\",DATEDIF(I625,$J$1,\"Y\"))","v":""}]
[null,null,null,null,null,null,null,null,null,{"$f":"IF(I626=\"\",\"\",DATEDIF(I626,$J$1,\"Y\"))","v":""}]
[null,null,null,null,null,null,null,null,null,{"$f":"IF(I627=\"\",\"\",DATEDIF(I627,$J$1,\"Y\"))","v":""}]
[null,null,null,null,null,null,null,null,null,{"$f":"IF(I628=\"\",\"\",DATEDIF(I628,$J$1,\"Y\"))","v":""}]
[null,null,null,null,null,null,null,null,null,{"$f":"IF(I629=\"\",\"\",DATEDIF(I629,$J$1,\"Y\"))","v":""}]
[null,null,null,null,null,null,null,null,null,{"$f":"IF(I630=\"\",\"\",DATEDIF(I630,$J$1,\"Y\"))","v":""}]
[null,null,null,null,null,null,null,null,null,{"$f":"IF(I631=\"\",\"\",DATEDIF(I631,$J$1,\"Y\"))","v":""}]
[null,null,null,null,null,null,null,null,null,{"$f":"IF(I632=\"\",\"\",DATEDIF(I632,$J$1,\"Y\"))","v":""}]
[null,null,null,null,null,null,null,null,null,{"$f":"IF(I633=\"\",\"\",DATEDIF(I633,$J$1,\"Y\"))","v":""}]
[null,null,null,null,null,null,null,null,null,{"$f":"IF(I634=\"\",\"\",DATEDIF(I634,$J$1,\"Y\"))","v":""}]
[null,null,null,null,null,null,null,null,null,{"$f":"IF(I635=\"\",\"\",DATEDIF(I635,$J$1,\"Y\"))","v":""}]
[null,null,null,null,null,null,null,null,null,{"$f":"IF(I636=\"\",\"\",DATEDIF(I636,$J$1,\"Y\"))","v":""}]
[null,null,null,null,null,null,null,null,null,{"$f":"IF(I637=\"\",\"\",DATEDIF(I637,$J$1,\"Y\"))","v":""}]
[null,null,null,null,null,null,null,null,null,{"$f":"IF(I638=\"\",\"\",DATEDIF(I638,$J$1,\"Y\"))","v":""}]
[null,null,null,null,null,null,null,null,null,{"$f":"IF(I639=\"\",\"\",DATEDIF(I639,$J$1,\"Y\"))","v":""}]
[null,null,null,null,null,null,null,null,null,{"$f":"IF(I640=\"\",\"\",DATEDIF(I640,$J$1,\"Y\"))","v":""}]
[null,null,null,null,null,null,null,null,null,{"$f":"IF(I641=\"\",\"\",DATEDIF(I641,$J$1,\"Y\"))","v":""}]
[null,null,null,null,null,null,null,null,null,{"$f":"IF(I642=\"\",\"\",DATEDIF(I642,$J$1,\"Y\"))","v":""}]
[null,null,null,null,null,null,null,null,null,{"$f":"IF(I643=\"\",\"\",DATEDIF(I643,$J$1,\"Y\"))","v":""}]
[null,null,null,null,null,null,null,null,null,{"$f":"IF(I644=\"\",\"\",DATEDIF(I644,$J$1,\"Y\"))","v":""}]
[null,null,null,null,null,null,null,null,null,{"$f":"IF(I645=\"\",\"\",DATEDIF(I645,$J$1,\"Y\"))","v":""}]
[null,null,null,null,null,null,null,null,null,{"$f":"IF(I646=\"\",\"\",DATEDIF(I646,$J$1,\"Y\"))","v":""}]
[null,null,null,null,null,null,null,null,null,{"$f":"IF(I647=\"\",\"\",DATEDIF(I647,$J$1,\"Y\"))","v":""}]
[null,null,null,null,null,null,null,null,null,{"$f":"IF(I648=\"\",\"\",DATEDIF(I648,$J$1,\"Y\"))","v":""}]
[null,null,null,null,null,null,null,null,null,{"$f":"IF(I649=\"\",\"\",DATEDIF(I649,$J$1,\"Y\"))","v":""}]
[null,null,null,null,null,null,null,null,null,{"$f":"IF(I650=\"\",\"\",DATEDIF(I650,$J$1,\"Y\"))","v":""}]
[null,null,null,null,null,null,null,null,null,{"$f":"IF(I651=\"\",\"\",DATEDIF(I651,$J$1,\"Y\"))","v":""}]
[null,null,null,null,null,null,null,null,null,{"$f":"IF(I652=\"\",\"\",DATEDIF(I652,$J$1,\"Y\"))","v":""}]
[null,null,null,null,null,null,null,null,null,{"$f":"IF(I653=\"\",\"\",DATEDIF(I653,$J$1,\"Y\"))","v":""}]
[null,null,null,null,null,null,null,null,null,{"$f":"IF(I654=\"\",\"\",DATEDIF(I654,$J$1,\"Y\"))","v":""}]
[null,null,null,null,null,null,null,null,null,{"$f":"IF(I655=\"\",\"\",DATEDIF(I655,$J$1,\"Y\"))","v":""}]
[null,null,null,null,null,null,null,null,null,{"$f":"IF(I656=\"\",\"\",DATEDIF(I656,$J$1,\"Y\"))","v":""}]
[null,null,null,null,null,null,null,null,null,{"$f":"IF(I657=\"\",\"\",DATEDIF(I657,$J$1,\"Y\"))","v":""}]
[null,null,null,null,null,null,null,null,null,{"$f":"IF(I658=\"\",\"\",DATEDIF(I658,$J$1,\"Y\"))","v":""}]
[null,null,null,null,null,null,null,null,null,{"$f":"IF(I659=\"\",\"\",DATEDIF(I659,$J$1,\"Y\"))","v":""}]
[null,null,null,null,null,null,null,null,null,{"$f":"IF(I660=\"\",\"\",DATEDIF(I660,$J$1,\"Y\"))","v":""}]
[null,null,null,null,null,null,null,null,null,{"$f":"IF(I661=\"\",\"\",DATEDIF(I661,$J$1,\"Y\"))","v":""}]
[null,null,null,null,null,null,null,null,null,{"$f":"IF(I662=\"\",\"\",DATEDIF(I662,$J$1,\"Y\"))","v":""}]
[null,null,null,null,null,null,null,null,null,{"$f":"IF(I663=\"\",\"\",DATEDIF(I663,$J$1,\"Y\"))","v":""}]
[null,null,null,null,null,null,null,null,null,{"$f":"IF(I664=\"\",\"\",DATEDIF(I664,$J$1,\"Y\"))","v":""}]
[null,null,null,null,null,null,null,null,null,{"$f":"IF(I665=\"\",\"\",DATEDIF(I665,$J$1,\"Y\"))","v":""}]
[null,null,null,null,null,null,null,null,null,{"$f":"IF(I666=\"\",\"\",DATEDIF(I666,$J$1,\"Y\"))","v":""}]
[null,null,null,null,null,null,null,null,null,{"$f":"IF(I667=\"\",\"\",DATEDIF(I667,$J$1,\"Y\"))","v":""}]
[null,null,null,null,null,null,null,null,null,{"$f":"IF(I668=\"\",\"\",DATEDIF(I668,$J$1,\"Y\"))","v":""}]
[null,null,null,null,null,null,null,null,null,{"$f":"IF(I669=\"\",\"\",DATEDIF(I669,$J$1,\"Y\"))","v":""}]
[null,null,null,null,null,null,null,null,null,{"$f":"IF(I670=\"\",\"\",DATEDIF(I670,$J$1,\"Y\"))","v":""}]
[null,null,null,null,null,null,null,null,null,{"$f":"IF(I671=\"\",\"\",DATEDIF(I671,$J$1,\"Y\"))","v":""}]
[null,null,null,null,null,null,null,null,null,{"$f":"IF(I672=\"\",\"\",DATEDIF(I672,$J$1,\"Y\"))","v":""}]
[null,null,null,null,null,null,null,null,null,{"$f":"IF(I673=\"\",\"\",DATEDIF(I673,$J$1,\"Y\"))","v":""}]
[null,null,null,null,null,null,null,null,null,{"$f":"IF(I674=\"\",\"\",DATEDIF(I674,$J$1,\"Y\"))","v":""}]
[null,null,null,null,null,null,null,null,null,{"$f":"IF(I675=\"\",\"\",DATEDIF(I675,$J$1,\"Y\"))","v":""}]
[null,null,null,null,null,null,null,null,null,{"$f":"IF(I676=\"\",\"\",DATEDIF(I676,$J$1,\"Y\"))","v":""}]
[null,null,null,null,null,null,null,null,null,{"$f":"IF(I677=\"\",\"\",DATEDIF(I677,$J$1,\"Y\"))","v":""}]
[null,null,null,null,null,null,null,null,null,{"$f":"IF(I678=\"\",\"\",DATEDIF(I678,$J$1,\"Y\"))","v":""}]
[null,null,null,null,null,null,null,null,null,{"$f":"IF(I679=\"\",\"\",DATEDIF(I679,$J$1,\"Y\"))","v":""}]
[null,null,null,null,null,null,null,null,null,{"$f":"IF(I680=\"\",\"\",DATEDIF(I680,$J$1,\"Y\"))","v":""}]
[null,null,null,null,null,null,null,null,null,{"$f":"IF(I681=\"\",\"\",DATEDIF(I681,$J$1,\"Y\"))","v":""}]
[null,null,null,null,null,null,null,null,null,{"$f":"IF(I682=\"\",\"\",DATEDIF(I682,$J$1,\"Y\"))","v":""}]
[null,null,null,null,null,null,null,null,null,{"$f":"IF(I683=\"\",\"\",DATEDIF(I683,$J$1,\"Y\"))","v":""}]
[null,null,null,null,null,null,null,null,null,{"$f":"IF(I684=\"\",\"\",DATEDIF(I684,$J$1,\"Y\"))","v":""}]
[null,null,null,null,null,null,null,null,null,{"$f":"IF(I685=\"\",\"\",DATEDIF(I685,$J$1,\"Y\"))","v":""}]
[null,null,null,null,null,null,null,null,null,{"$f":"IF(I686=\"\",\"\",DATEDIF(I686,$J$1,\"Y\"))","v":""}]
[null,null,null,null,null,null,null,null,null,{"$f":"IF(I687=\"\",\"\",DATEDIF(I687,$J$1,\"Y\"))","v":""}]
[null,null,null,null,null,null,null,null,null,{"$f":"IF(I688=\"\",\"\",DATEDIF(I688,$J$1,\"Y\"))","v":""}]
[null,null,null,null,null,null,null,null,null,{"$f":"IF(I689=\"\",\"\",DATEDIF(I689,$J$1,\"Y\"))","v":""}]
[null,null,null,null,null,null,null,null,null,{"$f":"IF(I690=\"\",\"\",DATEDIF(I690,$J$1,\"Y\"))","v":""}]
[null,null,null,null,null,null,null,null,null,{"$f":"IF(I691=\"\",\"\",DATEDIF(I691,$J$1,\"Y\"))","v":""}]
[null,null,null,null,null,null,null,null,null,{"$f":"IF(I692=\"\",\"\",DATEDIF(I692,$J$1,\"Y\"))","v":""}]
[null,null,null,null,null,null,null,null,null,{"$f":"IF(I693=\"\",\"\",DATEDIF(I693,$J$1,\"Y\"))","v":""}]
[null,null,null,null,null,null,null,null,null,{"$f":"IF(I694=\"\",\"\",DATEDIF(I694,$J$1,\"Y\"))","v":""}]
[null,null,null,null,null,null,null,null,null,{"$f":"IF(I695=\"\",\"\",DATEDIF(I695,$J$1,\"Y\"))","v":""}]
[null,null,null,null,null,null,null,null,null,{"$f":"IF(I696=\"\",\"\",DATEDIF(I696,$J$1,\"Y\"))","v":""}]
[null,null,null,null,null,null,null,null,null,{"$f":"IF(I697=\"\",\"\",DATEDIF(I697,$J$1,\"Y\"))","v":""}]
[null,null,null,null,null,null,null,null,null,{"$f":"IF(I698=\"\",\"\",DATEDIF(I698,$J$1,\"Y\"))","v":""}]
[null,null,null,null,null,null,null,null,null,{"$f":"IF(I699=\"\",\"\",DATEDIF(I699,$J$1,\"Y\"))","v":""}]
[null,null,null,null,null,null,null,null,null,{"$f":"IF(I700=\"\",\"\",DATEDIF(I700,$J$1,\"Y\"))","v":""}]
[null,null,null,null,null,null,null,null,null,{"$f":"IF(I701=\"\",\"\",DATEDIF(I701,$J$1,\"Y\"))","v":""}]
[null,null,null,null,null,null,null,null,null,{"$f":"IF(I702=\"\",\"\",DATEDIF(I702,$J$1,\"Y\"))","v":""}]
[null,null,null,null,null,null,null,null,null,{"$f":"IF(I703=\"\",\"\",DATEDIF(I703,$J$1,\"Y\"))","v":""}]
[null,null,null,null,null,null,null,null,null,{"$f":"IF(I704=\"\",\"\",DATEDIF(I704,$J$1,\"Y\"))","v":""}]
[null,null,null,null,null,null,null,null,null,{"$f":"IF(I705=\"\",\"\",DATEDIF(I705,$J$1,\"Y\"))","v":""}]
[null,null,null,null,null,null,null,null,null,{"$f":"IF(I706=\"\",\"\",DATEDIF(I706,$J$1,\"Y\"))","v":""}]
[null,null,null,null,null,null,null,null,null,{"$f":"IF(I707=\"\",\"\",DATEDIF(I707,$J$1,\"Y\"))","v":""}]
[null,null,null,null,null,null,null,null,null,{"$f":"IF(I708=\"\",\"\",DATEDIF(I708,$J$1,\"Y\"))","v":""}]
[null,null,null,null,null,null,null,null,null,{"$f":"IF(I709=\"\",\"\",DATEDIF(I709,$J$1,\"Y\"))","v":""}]
[null,null,null,null,null,null,null,null,null,{"$f":"IF(I710=\"\",\"\",DATEDIF(I710,$J$1,\"Y\"))","v":""}]
[null,null,null,null,null,null,null,null,null,{"$f":"IF(I711=\"\",\"\",DATEDIF(I711,$J$1,\"Y\"))","v":""}]
[null,null,null,null,null,null,null,null,null,{"$f":"IF(I712=\"\",\"\",DATEDIF(I712,$J$1,\"Y\"))","v":""}]
[null,null,null,null,null,null,null,null,null,{"$f":"IF(I713=\"\",\"\",DATEDIF(I713,$J$1,\"Y\"))","v":""}]
[null,null,null,null,null,null,null,null,null,{"$f":"IF(I714=\"\",\"\",DATEDIF(I714,$J$1,\"Y\"))","v":""}]
[null,null,null,null,null,null,null,null,null,{"$f":"IF(I715=\"\",\"\",DATEDIF(I715,$J$1,\"Y\"))","v":""}]
[null,null,null,null,null,null,null,null,null,{"$f":"IF(I716=\"\",\"\",DATEDIF(I716,$J$1,\"Y\"))","v":""}]
[null,null,null,null,null,null,null,null,null,{"$f":"IF(I717=\"\",\"\",DATEDIF(I717,$J$1,\"Y\"))","v":""}]
[null,null,null,null,null,null,null,null,null,{"$f":"IF(I718=\"\",\"\",DATEDIF(I718,$J$1,\"Y\"))","v":""}]
[null,null,null,null,null,null,null,null,null,{"$f":"IF(I719=\"\",\"\",DATEDIF(I719,$J$1,\"Y\"))","v":""}]
[null,null,null,null,null,null,null,null,null,{"$f":"IF(I720=\"\",\"\",DATEDIF(I720,$J$1,\"Y\"))","v":""}]
[null,null,null,null,null,null,null,null,null,{"$f":"IF(I721=\"\",\"\",DATEDIF(I721,$J$1,\"Y\"))","v":""}]
[null,null,null,null,null,null,null,null,null,{"$f":"IF(I722=\"\",\"\",DATEDIF(I722,$J$1,\"Y\"))","v":""}]
[null,null,null,null,null,null,null,null,null,{"$f":"IF(I723=\"\",\"\",DATEDIF(I723,$J$1,\"Y\"))","v":""}]
[null,null,null,null,null,null,null,null,null,{"$f":"IF(I724=\"\",\"\",DATEDIF(I724,$J$1,\"Y\"))","v":""}]
[null,null,null,null,null,null,null,null,null,{"$f":"IF(I725=\"\",\"\",DATEDIF(I725,$J$1,\"Y\"))","v":""}]
[null,null,null,null,null,null,null,null,null,{"$f":"IF(I726=\"\",\"\",DATEDIF(I726,$J$1,\"Y\"))","v":""}]
[null,null,null,null,null,null,null,null,null,{"$f":"IF(I727=\"\",\"\",DATEDIF(I727,$J$1,\"Y\"))","v":""}]
[null,null,null,null,null,null,null,null,null,{"$f":"IF(I728=\"\",\"\",DATEDIF(I728,$J$1,\"Y\"))","v":""}]
[null,null,null,null,null,null,null,null,null,{"$f":"IF(I729=\"\",\"\",DATEDIF(I729,$J$1,\"Y\"))","v":""}]
[null,null,null,null,null,null,null,null,null,{"$f":"IF(I730=\"\",\"\",DATEDIF(I730,$J$1,\"Y\"))","v":""}]
[null,null,null,null,null,null,null,null,null,{"$f":"IF(I731=\"\",\"\",DATEDIF(I731,$J$1,\"Y\"))","v":""}]
[null,null,null,null,null,null,null,null,null,{"$f":"IF(I732=\"\",\"\",DATEDIF(I732,$J$1,\"Y\"))","v":""}]
[null,null,null,null,null,null,null,null,null,{"$f":"IF(I733=\"\",\"\",DATEDIF(I733,$J$1,\"Y\"))","v":""}]
[null,null,null,null,null,null,null,null,null,{"$f":"IF(I734=\"\",\"\",DATEDIF(I734,$J$1,\"Y\"))","v":""}]
[null,null,null,null,null,null,null,null,null,{"$f":"IF(I735=\"\",\"\",DATEDIF(I735,$J$1,\"Y\"))","v":""}]
[null,null,null,null,null,null,null,null,null,{"$f":"IF(I736=\"\",\"\",DATEDIF(I736,$J$1,\"Y\"))","v":""}]
[null,null,null,null,null,null,null,null,null,{"$f":"IF(I737=\"\",\"\",DATEDIF(I737,$J$1,\"Y\"))","v":""}]
[null,null,null,null,null,null,null,null,null,{"$f":"IF(I738=\"\",\"\",DATEDIF(I738,$J$1,\"Y\"))","v":""}]
[null,null,null,null,null,null,null,null,null,{"$f":"IF(I739=\"\",\"\",DATEDIF(I739,$J$1,\"Y\"))","v":""}]
[null,null,null,null,null,null,null,null,null,{"$f":"IF(I740=\"\",\"\",DATEDIF(I740,$J$1,\"Y\"))","v":""}]
[null,null,null,null,null,null,null,null,null,{"$f":"IF(I741=\"\",\"\",DATEDIF(I741,$J$1,\"Y\"))","v":""}]
[null,null,null,null,null,null,null,null,null,{"$f":"IF(I742=\"\",\"\",DATEDIF(I742,$J$1,\"Y\"))","v":""}]
[null,null,null,null,null,null,null,null,null,{"$f":"IF(I743=\"\",\"\",DATEDIF(I743,$J$1,\"Y\"))","v":""}]
[null,null,null,null,null,null,null,null,null,{"$f":"IF(I744=\"\",\"\",DATEDIF(I744,$J$1,\"Y\"))","v":""}]
[null,null,null,null,null,null,null,null,null,{"$f":"IF(I745=\"\",\"\",DATEDIF(I745,$J$1,\"Y\"))","v":""}]
[null,null,null,null,null,null,null,null,null,{"$f":"IF(I746=\"\",\"\",DATEDIF(I746,$J$1,\"Y\"))","v":""}]
[null,null,null,null,null,null,null,null,null,{"$f":"IF(I747=\"\",\"\",DATEDIF(I747,$J$1,\"Y\"))","v":""}]
[null,null,null,null,null,null,null,null,null,{"$f":"IF(I748=\"\",\"\",DATEDIF(I748,$J$1,\"Y\"))","v":""}]
[null,null,null,null,null,null,null,null,null,{"$f":"IF(I749=\"\",\"\",DATEDIF(I749,$J$1,\"Y\"))","v":""}]
[null,null,null,null,null,null,null,null,null,{"$f":"IF(I750=\"\",\"\",DATEDIF(I750,$J$1,\"Y\"))","v":""}]
[null,null,null,null,null,null,null,null,null,{"$f":"IF(I751=\"\",\"\",DATEDIF(I751,$J$1,\"Y\"))","v":""}]
[null,null,null,null,null,null,null,null,null,{"$f":"IF(I752=\"\",\"\",DATEDIF(I752,$J$1,\"Y\"))","v":""}]
[null,null,null,null,null,null,null,null,null,{"$f":"IF(I753=\"\",\"\",DATEDIF(I753,$J$1,\"Y\"))","v":""}]
[null,null,null,null,null,null,null,null,null,{"$f":"IF(I754=\"\",\"\",DATEDIF(I754,$J$1,\"Y\"))","v":""}]
[null,null,null,null,null,null,null,null,null,{"$f":"IF(I755=\"\",\"\",DATEDIF(I755,$J$1,\"Y\"))","v":""}]
[null,null,null,null,null,null,null,null,null,{"$f":"IF(I756=\"\",\"\",DATEDIF(I756,$J$1,\"Y\"))","v":""}]
[null,null,null,null,null,null,null,null,null,{"$f":"IF(I757=\"\",\"\",DATEDIF(I757,$J$1,\"Y\"))","v":""}]
[null,null,null,null,null,null,null,null,null,{"$f":"IF(I758=\"\",\"\",DATEDIF(I758,$J$1,\"Y\"))","v":""}]
[null,null,null,null,null,null,null,null,null,{"$f":"IF(I759=\"\",\"\",DATEDIF(I759,$J$1,\"Y\"))","v":""}]
[null,null,null,null,null,null,null,null,null,{"$f":"IF(I760=\"\",\"\",DATEDIF(I760,$J$1,\"Y\"))","v":""}]
[null,null,null,null,null,null,null,null,null,{"$f":"IF(I761=\"\",\"\",DATEDIF(I761,$J$1,\"Y\"))","v":""}]
[null,null,null,null,null,null,null,null,null,{"$f":"IF(I762=\"\",\"\",DATEDIF(I762,$J$1,\"Y\"))","v":""}]
[null,null,null,null,null,null,null,null,null,{"$f":"IF(I763=\"\",\"\",DATEDIF(I763,$J$1,\"Y\"))","v":""}]
[null,null,null,null,null,null,null,null,null,{"$f":"IF(I764=\"\",\"\",DATEDIF(I764,$J$1,\"Y\"))","v":""}]
[null,null,null,null,null,null,null,null,null,{"$f":"IF(I765=\"\",\"\",DATEDIF(I765,$J$1,\"Y\"))","v":""}]
[null,null,null,null,null,null,null,null,null,{"$f":"IF(I766=\"\",\"\",DATEDIF(I766,$J$1,\"Y\"))","v":""}]
[null,null,null,null,null,null,null,null,null,{"$f":"IF(I767=\"\",\"\",DATEDIF(I767,$J$1,\"Y\"))","v":""}]
[null,null,null,null,null,null,null,null,null,{"$f":"IF(I768=\"\",\"\",DATEDIF(I768,$J$1,\"Y\"))","v":""}]
[null,null,null,null,null,null,null,null,null,{"$f":"IF(I769=\"\",\"\",DATEDIF(I769,$J$1,\"Y\"))","v":""}]
[null,null,null,null,null,null,null,null,null,{"$f":"IF(I770=\"\",\"\",DATEDIF(I770,$J$1,\"Y\"))","v":""}]
[null,null,null,null,null,null,null,null,null,{"$f":"IF(I771=\"\",\"\",DATEDIF(I771,$J$1,\"Y\"))","v":""}]
[null,null,null,null,null,null,null,null,null,{"$f":"IF(I772=\"\",\"\",DATEDIF(I772,$J$1,\"Y\"))","v":""}]
[null,null,null,null,null,null,null,null,null,{"$f":"IF(I773=\"\",\"\",DATEDIF(I773,$J$1,\"Y\"))","v":""}]
[null,null,null,null,null,null,null,null,null,{"$f":"IF(I774=\"\",\"\",DATEDIF(I774,$J$1,\"Y\"))","v":""}]
[null,null,null,null,null,null,null,null,null,{"$f":"IF(I775=\"\",\"\",DATEDIF(I775,$J$1,\"Y\"))","v":""}]
[null,null,null,null,null,null,null,null,null,{"$f":"IF(I776=\"\",\"\",DATEDIF(I776,$J$1,\"Y\"))","v":""}]
[null,null,null,null,null,null,null,null,null,{"$f":"IF(I777=\"\",\"\",DATEDIF(I777,$J$1,\"Y\"))","v":""}]
[null,null,null,null,null,null,null,null,null,{"$f":"IF(I778=\"\",\"\",DATEDIF(I778,$J$1,\"Y\"))","v":""}]
[null,null,null,null,null,null,null,null,null,{"$f":"IF(I779=\"\",\"\",DATEDIF(I779,$J$1,\"Y\"))","v":""}]
[null,null,null,null,null,null,null,null,null,{"$f":"IF(I780=\"\",\"\",DATEDIF(I780,$J$1,\"Y\"))","v":""}]
[null,null,null,null,null,null,null,null,null,{"$f":"IF(I781=\"\",\"\",DATEDIF(I781,$J$1,\"Y\"))","v":""}]
[null,null,null,null,null,null,null,null,null,{"$f":"IF(I782=\"\",\"\",DATEDIF(I782,$J$1,\"Y\"))","v":""}]
[null,null,null,null,null,null,null,null,null,{"$f":"IF(I783=\"\",\"\",DATEDIF(I783,$J$1,\"Y\"))","v":""}]
[null,null,null,null,null,null,null,null,null,{"$f":"IF(I784=\"\",\"\",DATEDIF(I784,$J$1,\"Y\"))","v":""}]
[null,null,null,null,null,null,null,null,null,{"$f":"IF(I785=\"\",\"\",DATEDIF(I785,$J$1,\"Y\"))","v":""}]
[null,null,null,null,null,null,null,null,null,{"$f":"IF(I786=\"\",\"\",DATEDIF(I786,$J$1,\"Y\"))","v":""}]
[null,null,null,null,null,null,null,null,null,{"$f":"IF(I787=\"\",\"\",DATEDIF(I787,$J$1,\"Y\"))","v":""}]
[null,null,null,null,null,null,null,null,null,{"$f":"IF(I788=\"\",\"\",DATEDIF(I788,$J$1,\"Y\"))","v":""}]
[null,null,null,null,null,null,null,null,null,{"$f":"IF(I789=\"\",\"\",DATEDIF(I789,$J$1,\"Y\"))","v":""}]
[null,null,null,null,null,null,null,null,null,{"$f":"IF(I790=\"\",\"\",DATEDIF(I790,$J$1,\"Y\"))","v":""}]
[null,null,null,null,null,null,null,null,null,{"$f":"IF(I791=\"\",\"\",DATEDIF(I791,$J$1,\"Y\"))","v":""}]
[null,null,null,null,null,null,null,null,null,{"$f":"IF(I792=\"\",\"\",DATEDIF(I792,$J$1,\"Y\"))","v":""}]
[null,null,null,null,null,null,null,null,null,{"$f":"IF(I793=\"\",\"\",DATEDIF(I793,$J$1,\"Y\"))","v":""}]
[null,null,null,null,null,null,null,null,null,{"$f":"IF(I794=\"\",\"\",DATEDIF(I794,$J$1,\"Y\"))","v":""}]
[null,null,null,null,null,null,null,null,null,{"$f":"IF(I795=\"\",\"\",DATEDIF(I795,$J$1,\"Y\"))","v":""}]
[null,null,null,null,null,null,null,null,null,{"$f":"IF(I796=\"\",\"\",DATEDIF(I796,$J$1,\"Y\"))","v":""}]
[null,null,null,null,null,null,null,null,null,{"$f":"IF(I797=\"\",\"\",DATEDIF(I797,$J$1,\"Y\"))","v":""}]
[null,null,null,null,null,null,null,null,null,{"$f":"IF(I798=\"\",\"\",DATEDIF(I798,$J$1,\"Y\"))","v":""}]
[null,null,null,null,null,null,null,null,null,{"$f":"IF(I799=\"\",\"\",DATEDIF(I799,$J$1,\"Y\"))","v":""}]
[null,null,null,null,null,null,null,null,null,{"$f":"IF(I800=\"\",\"\",DATEDIF(I800,$J$1,\"Y\"))","v":""}]
[null,null,null,null,null,null,null,null,null,{"$f":"IF(I801=\"\",\"\",DATEDIF(I801,$J$1,\"Y\"))","v":""}]
[null,null,null,null,null,null,null,null,null,{"$f":"IF(I802=\"\",\"\",DATEDIF(I802,$J$1,\"Y\"))","v":""}]
[null,null,null,null,null,null,null,null,null,{"$f":"IF(I803=\"\",\"\",DATEDIF(I803,$J$1,\"Y\"))","v":""}]
[null,null,null,null,null,null,null,null,null,{"$f":"IF(I804=\"\",\"\",DATEDIF(I804,$J$1,\"Y\"))","v":""}]
[null,null,null,null,null,null,null,null,null,{"$f":"IF(I805=\"\",\"\",DATEDIF(I805,$J$1,\"Y\"))","v":""}]
[null,null,null,null,null,null,null,null,null,{"$f":"IF(I806=\"\",\"\",DATEDIF(I806,$J$1,\"Y\"))","v":""}]
[null,null,null,null,null,null,null,null,null,{"$f":"IF(I807=\"\",\"\",DATEDIF(I807,$J$1,\"Y\"))","v":""}]
[null,null,null,null,null,null,null,null,null,{"$f":"IF(I808=\"\",\"\",DATEDIF(I808,$J$1,\"Y\"))","v":""}]
[null,null,null,null,null,null,null,null,null,{"$f":"IF(I809=\"\",\"\",DATEDIF(I809,$J$1,\"Y\"))","v":""}]
[null,null,null,null,null,null,null,null,null,{"$f":"IF(I810=\"\",\"\",DATEDIF(I810,$J$1,\"Y\"))","v":""}]
[null,null,null,null,null,null,null,null,null,{"$f":"IF(I811=\"\",\"\",DATEDIF(I811,$J$1,\"Y\"))","v":""}]
[null,null,null,null,null,null,null,null,null,{"$f":"IF(I812=\"\",\"\",DATEDIF(I812,$J$1,\"Y\"))","v":""}]
[null,null,null,null,null,null,null,null,null,{"$f":"IF(I813=\"\",\"\",DATEDIF(I813,$J$1,\"Y\"))","v":""}]
[null,null,null,null,null,null,null,null,null,{"$f":"IF(I814=\"\",\"\",DATEDIF(I814,$J$1,\"Y\"))","v":""}]
[null,null,null,null,null,null,null,null,null,{"$f":"IF(I815=\"\",\"\",DATEDIF(I815,$J$1,\"Y\"))","v":""}]
[null,null,null,null,null,null,null,null,null,{"$f":"IF(I816=\"\",\"\",DATEDIF(I816,$J$1,\"Y\"))","v":""}]
[null,null,null,null,null,null,null,null,null,{"$f":"IF(I817=\"\",\"\",DATEDIF(I817,$J$1,\"Y\"))","v":""}]
[null,null,null,null,null,null,null,null,null,{"$f":"IF(I818=\"\",\"\",DATEDIF(I818,$J$1,\"Y\"))","v":""}]
[null,null,null,null,null,null,null,null,null,{"$f":"IF(I819=\"\",\"\",DATEDIF(I819,$J$1,\"Y\"))","v":""}]
[null,null,null,null,null,null,null,null,null,{"$f":"IF(I820=\"\",\"\",DATEDIF(I820,$J$1,\"Y\"))","v":""}]
[null,null,null,null,null,null,null,null,null,{"$f":"IF(I821=\"\",\"\",DATEDIF(I821,$J$1,\"Y\"))","v":""}]
[null,null,null,null,null,null,null,null,null,{"$f":"IF(I822=\"\",\"\",DATEDIF(I822,$J$1,\"Y\"))","v":""}]
[null,null,null,null,null,null,null,null,null,{"$f":"IF(I823=\"\",\"\",DATEDIF(I823,$J$1,\"Y\"))","v":""}]
[null,null,null,null,null,null,null,null,null,{"$f":"IF(I824=\"\",\"\",DATEDIF(I824,$J$1,\"Y\"))","v":""}]
[null,null,null,null,null,null,null,null,null,{"$f":"IF(I825=\"\",\"\",DATEDIF(I825,$J$1,\"Y\"))","v":""}]
[null,null,null,null,null,null,null,null,null,{"$f":"IF(I826=\"\",\"\",DATEDIF(I826,$J$1,\"Y\"))","v":""}]
[null,null,null,null,null,null,null,null,null,{"$f":"IF(I827=\"\",\"\",DATEDIF(I827,$J$1,\"Y\"))","v":""}]
[null,null,null,null,null,null,null,null,null,{"$f":"IF(I828=\"\",\"\",DATEDIF(I828,$J$1,\"Y\"))","v":""}]
[null,null,null,null,null,null,null,null,null,{"$f":"IF(I829=\"\",\"\",DATEDIF(I829,$J$1,\"Y\"))","v":""}]
[null,null,null,null,null,null,null,null,null,{"$f":"IF(I830=\"\",\"\",DATEDIF(I830,$J$1,\"Y\"))","v":""}]
[null,null,null,null,null,null,null,null,null,{"$f":"IF(I831=\"\",\"\",DATEDIF(I831,$J$1,\"Y\"))","v":""}]
[null,null,null,null,null,null,null,null,null,{"$f":"IF(I832=\"\",\"\",DATEDIF(I832,$J$1,\"Y\"))","v":""}]
[null,null,null,null,null,null,null,null,null,{"$f":"IF(I833=\"\",\"\",DATEDIF(I833,$J$1,\"Y\"))","v":""}]
[null,null,null,null,null,null,null,null,null,{"$f":"IF(I834=\"\",\"\",DATEDIF(I834,$J$1,\"Y\"))","v":""}]
[null,null,null,null,null,null,null,null,null,{"$f":"IF(I835=\"\",\"\",DATEDIF(I835,$J$1,\"Y\"))","v":""}]
[null,null,null,null,null,null,null,null,null,{"$f":"IF(I836=\"\",\"\",DATEDIF(I836,$J$1,\"Y\"))","v":""}]
[null,null,null,null,null,null,null,null,null,{"$f":"IF(I837=\"\",\"\",DATEDIF(I837,$J$1,\"Y\"))","v":""}]
[null,null,null,null,null,null,null,null,null,{"$f":"IF(I838=\"\",\"\",DATEDIF(I838,$J$1,\"Y\"))","v":""}]
[null,null,null,null,null,null,null,null,null,{"$f":"IF(I839=\"\",\"\",DATEDIF(I839,$J$1,\"Y\"))","v":""}]
[null,null,null,null,null,null,null,null,null,{"$f":"IF(I840=\"\",\"\",DATEDIF(I840,$J$1,\"Y\"))","v":""}]
[null,null,null,null,null,null,null,null,null,{"$f":"IF(I841=\"\",\"\",DATEDIF(I841,$J$1,\"Y\"))","v":""}]
[null,null,null,null,null,null,null,null,null,{"$f":"IF(I842=\"\",\"\",DATEDIF(I842,$J$1,\"Y\"))","v":""}]
[null,null,null,null,null,null,null,null,null,{"$f":"IF(I843=\"\",\"\",DATEDIF(I843,$J$1,\"Y\"))","v":""}]
[null,null,null,null,null,null,null,null,null,{"$f":"IF(I844=\"\",\"\",DATEDIF(I844,$J$1,\"Y\"))","v":""}]
[null,null,null,null,null,null,null,null,null,{"$f":"IF(I845=\"\",\"\",DATEDIF(I845,$J$1,\"Y\"))","v":""}]
[null,null,null,null,null,null,null,null,null,{"$f":"IF(I846=\"\",\"\",DATEDIF(I846,$J$1,\"Y\"))","v":""}]
[null,null,null,null,null,null,null,null,null,{"$f":"IF(I847=\"\",\"\",DATEDIF(I847,$J$1,\"Y\"))","v":""}]
[null,null,null,null,null,null,null,null,null,{"$f":"IF(I848=\"\",\"\",DATEDIF(I848,$J$1,\"Y\"))","v":""}]
[null,null,null,null,null,null,null,null,null,{"$f":"IF(I849=\"\",\"\",DATEDIF(I849,$J$1,\"Y\"))","v":""}]
[null,null,null,null,null,null,null,null,null,{"$f":"IF(I850=\"\",\"\",DATEDIF(I850,$J$1,\"Y\"))","v":""}]
[null,null,null,null,null,null,null,null,null,{"$f":"IF(I851=\"\",\"\",DATEDIF(I851,$J$1,\"Y\"))","v":""}]
[null,null,null,null,null,null,null,null,null,{"$f":"IF(I852=\"\",\"\",DATEDIF(I852,$J$1,\"Y\"))","v":""}]
[null,null,null,null,null,null,null,null,null,{"$f":"IF(I853=\"\",\"\",DATEDIF(I853,$J$1,\"Y\"))","v":""}]
[null,null,null,null,null,null,null,null,null,{"$f":"IF(I854=\"\",\"\",DATEDIF(I854,$J$1,\"Y\"))","v":""}]
[null,null,null,null,null,null,null,null,null,{"$f":"IF(I855=\"\",\"\",DATEDIF(I855,$J$1,\"Y\"))","v":""}]
[null,null,null,null,null,null,null,null,null,{"$f":"IF(I856=\"\",\"\",DATEDIF(I856,$J$1,\"Y\"))","v":""}]
[null,null,null,null,null,null,null,null,null,{"$f":"IF(I857=\"\",\"\",DATEDIF(I857,$J$1,\"Y\"))","v":""}]
[null,null,null,null,null,null,null,null,null,{"$f":"IF(I858=\"\",\"\",DATEDIF(I858,$J$1,\"Y\"))","v":""}]
[null,null,null,null,null,null,null,null,null,{"$f":"IF(I859=\"\",\"\",DATEDIF(I859,$J$1,\"Y\"))","v":""}]
[null,null,null,null,null,null,null,null,null,{"$f":"IF(I860=\"\",\"\",DATEDIF(I860,$J$1,\"Y\"))","v":""}]
[null,null,null,null,null,null,null,null,null,{"$f":"IF(I861=\"\",\"\",DATEDIF(I861,$J$1,\"Y\"))","v":""}]
[null,null,null,null,null,null,null,null,null,{"$f":"IF(I862=\"\",\"\",DATEDIF(I862,$J$1,\"Y\"))","v":""}]
[null,null,null,null,null,null,null,null,null,{"$f":"IF(I863=\"\",\"\",DATEDIF(I863,$J$1,\"Y\"))","v":""}]
[null,null,null,null,null,null,null,null,null,{"$f":"IF(I864=\"\",\"\",DATEDIF(I864,$J$1,\"Y\"))","v":""}]
[null,null,null,null,null,null,null,null,null,{"$f":"IF(I865=\"\",\"\",DATEDIF(I865,$J$1,\"Y\"))","v":""}]
[null,null,null,null,null,null,null,null,null,{"$f":"IF(I866=\"\",\"\",DATEDIF(I866,$J$1,\"Y\"))","v":""}]
[null,null,null,null,null,null,null,null,null,{"$f":"IF(I867=\"\",\"\",DATEDIF(I867,$J$1,\"Y\"))","v":""}]
[null,null,null,null,null,null,null,null,null,{"$f":"IF(I868=\"\",\"\",DATEDIF(I868,$J$1,\"Y\"))","v":""}]
[null,null,null,null,null,null,null,null,null,{"$f":"IF(I869=\"\",\"\",DATEDIF(I869,$J$1,\"Y\"))","v":""}]
[null,null,null,null,null,null,null,null,null,{"$f":"IF(I870=\"\",\"\",DATEDIF(I870,$J$1,\"Y\"))","v":""}]
[null,null,null,null,null,null,null,null,null,{"$f":"IF(I871=\"\",\"\",DATEDIF(I871,$J$1,\"Y\"))","v":""}]
[null,null,null,null,null,null,null,null,null,{"$f":"IF(I872=\"\",\"\",DATEDIF(I872,$J$1,\"Y\"))","v":""}]
[null,null,null,null,null,null,null,null,null,{"$f":"IF(I873=\"\",\"\",DATEDIF(I873,$J$1,\"Y\"))","v":""}]
[null,null,null,null,null,null,null,null,null,{"$f":"IF(I874=\"\",\"\",DATEDIF(I874,$J$1,\"Y\"))","v":""}]
[null,null,null,null,null,null,null,null,null,{"$f":"IF(I875=\"\",\"\",DATEDIF(I875,$J$1,\"Y\"))","v":""}]
[null,null,null,null,null,null,null,null,null,{"$f":"IF(I876=\"\",\"\",DATEDIF(I876,$J$1,\"Y\"))","v":""}]
[null,null,null,null,null,null,null,null,null,{"$f":"IF(I877=\"\",\"\",DATEDIF(I877,$J$1,\"Y\"))","v":""}]
[null,null,null,null,null,null,null,null,null,{"$f":"IF(I878=\"\",\"\",DATEDIF(I878,$J$1,\"Y\"))","v":""}]
[null,null,null,null,null,null,null,null,null,{"$f":"IF(I879=\"\",\"\",DATEDIF(I879,$J$1,\"Y\"))","v":""}]
[null,null,null,null,null,null,null,null,null,{"$f":"IF(I880=\"\",\"\",DATEDIF(I880,$J$1,\"Y\"))","v":""}]
[null,null,null,null,null,null,null,null,null,{"$f":"IF(I881=\"\",\"\",DATEDIF(I881,$J$1,\"Y\"))","v":""}]
[null,null,null,null,null,null,null,null,null,{"$f":"IF(I882=\"\",\"\",DATEDIF(I882,$J$1,\"Y\"))","v":""}]
[null,null,null,null,null,null,null,null,null,{"$f":"IF(I883=\"\",\"\",DATEDIF(I883,$J$1,\"Y\"))","v":""}]
[null,null,null,null,null,null,null,null,null,{"$f":"IF(I884=\"\",\"\",DATEDIF(I884,$J$1,\"Y\"))","v":""}]
[null,null,null,null,null,null,null,null,null,{"$f":"IF(I885=\"\",\"\",DATEDIF(I885,$J$1,\"Y\"))","v":""}]
[null,null,null,null,null,null,null,null,null,{"$f":"IF(I886=\"\",\"\",DATEDIF(I886,$J$1,\"Y\"))","v":""}]
[null,null,null,null,null,null,null,null,null,{"$f":"IF(I887=\"\",\"\",DATEDIF(I887,$J$1,\"Y\"))","v":""}]
[null,null,null,null,null,null,null,null,null,{"$f":"IF(I888=\"\",\"\",DATEDIF(I888,$J$1,\"Y\"))","v":""}]
[null,null,null,null,null,null,null,null,null,{"$f":"IF(I889=\"\",\"\",DATEDIF(I889,$J$1,\"Y\"))","v":""}]
[null,null,null,null,null,null,null,null,null,{"$f":"IF(I890=\"\",\"\",DATEDIF(I890,$J$1,\"Y\"))","v":""}]
[null,null,null,null,null,null,null,null,null,{"$f":"IF(I891=\"\",\"\",DATEDIF(I891,$J$1,\"Y\"))","v":""}]
[null,null,null,null,null,null,null,null,null,{"$f":"IF(I892=\"\",\"\",DATEDIF(I892,$J$1,\"Y\"))","v":""}]
[null,null,null,null,null,null,null,null,null,{"$f":"IF(I893=\"\",\"\",DATEDIF(I893,$J$1,\"Y\"))","v":""}]
[null,null,null,null,null,null,null,null,null,{"$f":"IF(I894=\"\",\"\",DATEDIF(I894,$J$1,\"Y\"))","v":""}]
[null,null,null,null,null,null,null,null,null,{"$f":"IF(I895=\"\",\"\",DATEDIF(I895,$J$1,\"Y\"))","v":""}]
[null,null,null,null,null,null,null,null,null,{"$f":"IF(I896=\"\",\"\",DATEDIF(I896,$J$1,\"Y\"))","v":""}]
[null,null,null,null,null,null,null,null,null,{"$f":"IF(I897=\"\",\"\",DATEDIF(I897,$J$1,\"Y\"))","v":""}]
[null,null,null,null,null,null,null,null,null,{"$f":"IF(I898=\"\",\"\",DATEDIF(I898,$J$1,\"Y\"))","v":""}]
[null,null,null,null,null,null,null,null,null,{"$f":"IF(I899=\"\",\"\",DATEDIF(I899,$J$1,\"Y\"))","v":""}]
[null,null,null,null,null,null,null,null,null,{"$f":"IF(I900=\"\",\"\",DATEDIF(I900,$J$1,\"Y\"))","v":""}]
[null,null,null,null,null,null,null,null,null,{"$f":"IF(I901=\"\",\"\",DATEDIF(I901,$J$1,\"Y\"))","v":""}]
[null,null,null,null,null,null,null,null,null,{"$f":"IF(I902=\"\",\"\",DATEDIF(I902,$J$1,\"Y\"))","v":""}]
[null,null,null,null,null,null,null,null,null,{"$f":"IF(I903=\"\",\"\",DATEDIF(I903,$J$1,\"Y\"))","v":""}]
[null,null,null,null,null,null,null,null,null,{"$f":"IF(I904=\"\",\"\",DATEDIF(I904,$J$1,\"Y\"))","v":""}]
[null,null,null,null,null,null,null,null,null,{"$f":"IF(I905=\"\",\"\",DATEDIF(I905,$J$1,\"Y\"))","v":""}]
[null,null,null,null,null,null,null,null,null,{"$f":"IF(I906=\"\",\"\",DATEDIF(I906,$J$1,\"Y\"))","v":""}]
[null,null,null,null,null,null,null,null,null,{"$f":"IF(I907=\"\",\"\",DATEDIF(I907,$J$1,\"Y\"))","v":""}]
[null,null,null,null,null,null,null,null,null,{"$f":"IF(I908=\"\",\"\",DATEDIF(I908,$J$1,\"Y\"))","v":""}]
[null,null,null,null,null,null,null,null,null,{"$f":"IF(I909=\"\",\"\",DATEDIF(I909,$J$1,\"Y\"))","v":""}]
[null,null,null,null,null,null,null,null,null,{"$f":"IF(I910=\"\",\"\",DATEDIF(I910,$J$1,\"Y\"))","v":""}]
[null,null,null,null,null,null,null,null,null,{"$f":"IF(I911=\"\",\"\",DATEDIF(I911,$J$1,\"Y\"))","v":""}]
[null,null,null,null,null,null,null,null,null,{"$f":"IF(I912=\"\",\"\",DATEDIF(I912,$J$1,\"Y\"))","v":""}]
[null,null,null,null,null,null,null,null,null,{"$f":"IF(I913=\"\",\"\",DATEDIF(I913,$J$1,\"Y\"))","v":""}]
[null,null,null,null,null,null,null,null,null,{"$f":"IF(I914=\"\",\"\",DATEDIF(I914,$J$1,\"Y\"))","v":""}]
[null,null,null,null,null,null,null,null,null,{"$f":"IF(I915=\"\",\"\",DATEDIF(I915,$J$1,\"Y\"))","v":""}]
[null,null,null,null,null,null,null,null,null,{"$f":"IF(I916=\"\",\"\",DATEDIF(I916,$J$1,\"Y\"))","v":""}]
[null,null,null,null,null,null,null,null,null,{"$f":"IF(I917=\"\",\"\",DATEDIF(I917,$J$1,\"Y\"))","v":""}]
[null,null,null,null,null,null,null,null,null,{"$f":"IF(I918=\"\",\"\",DATEDIF(I918,$J$1,\"Y\"))","v":""}]
[null,null,null,null,null,null,null,null,null,{"$f":"IF(I919=\"\",\"\",DATEDIF(I919,$J$1,\"Y\"))","v":""}]
[null,null,null,null,null,null,null,null,null,{"$f":"IF(I920=\"\",\"\",DATEDIF(I920,$J$1,\"Y\"))","v":""}]
[null,null,null,null,null,null,null,null,null,{"$f":"IF(I921=\"\",\"\",DATEDIF(I921,$J$1,\"Y\"))","v":""}]
[null,null,null,null,null,null,null,null,null,{"$f":"IF(I922=\"\",\"\",DATEDIF(I922,$J$1,\"Y\"))","v":""}]
[null,null,null,null,null,null,null,null,null,{"$f":"IF(I923=\"\",\"\",DATEDIF(I923,$J$1,\"Y\"))","v":""}]
[null,null,null,null,null,null,null,null,null,{"$f":"IF(I924=\"\",\"\",DATEDIF(I924,$J$1,\"Y\"))","v":""}]
[null,null,null,null,null,null,null,null,null,{"$f":"IF(I925=\"\",\"\",DATEDIF(I925,$J$1,\"Y\"))","v":""}]
[null,null,null,null,null,null,null,null,null,{"$f":"IF(I926=\"\",\"\",DATEDIF(I926,$J$1,\"Y\"))","v":""}]
[null,null,null,null,null,null,null,null,null,{"$f":"IF(I927=\"\",\"\",DATEDIF(I927,$J$1,\"Y\"))","v":""}]
[null,null,null,null,null,null,null,null,null,{"$f":"IF(I928=\"\",\"\",DATEDIF(I928,$J$1,\"Y\"))","v":""}]
[null,null,null,null,null,null,null,null,null,{"$f":"IF(I929=\"\",\"\",DATEDIF(I929,$J$1,\"Y\"))","v":""}]
[null,null,null,null,null,null,null,null,null,{"$f":"IF(I930=\"\",\"\",DATEDIF(I930,$J$1,\"Y\"))","v":""}]
[null,null,null,null,null,null,null,null,null,{"$f":"IF(I931=\"\",\"\",DATEDIF(I931,$J$1,\"Y\"))","v":""}]
[null,null,null,null,null,null,null,null,null,{"$f":"IF(I932=\"\",\"\",DATEDIF(I932,$J$1,\"Y\"))","v":""}]
[null,null,null,null,null,null,null,null,null,{"$f":"IF(I933=\"\",\"\",DATEDIF(I933,$J$1,\"Y\"))","v":""}]
[null,null,null,null,null,null,null,null,null,{"$f":"IF(I934=\"\",\"\",DATEDIF(I934,$J$1,\"Y\"))","v":""}]
[null,null,null,null,null,null,null,null,null,{"$f":"IF(I935=\"\",\"\",DATEDIF(I935,$J$1,\"Y\"))","v":""}]
[null,null,null,null,null,null,null,null,null,{"$f":"IF(I936=\"\",\"\",DATEDIF(I936,$J$1,\"Y\"))","v":""}]
[null,null,null,null,null,null,null,null,null,{"$f":"IF(I937=\"\",\"\",DATEDIF(I937,$J$1,\"Y\"))","v":""}]
[null,null,null,null,null,null,null,null,null,{"$f":"IF(I938=\"\",\"\",DATEDIF(I938,$J$1,\"Y\"))","v":""}]
[null,null,null,null,null,null,null,null,null,{"$f":"IF(I939=\"\",\"\",DATEDIF(I939,$J$1,\"Y\"))","v":""}]
[null,null,null,null,null,null,null,null,null,{"$f":"IF(I940=\"\",\"\",DATEDIF(I940,$J$1,\"Y\"))","v":""}]
[null,null,null,null,null,null,null,null,null,{"$f":"IF(I941=\"\",\"\",DATEDIF(I941,$J$1,\"Y\"))","v":""}]
[null,null,null,null,null,null,null,null,null,{"$f":"IF(I942=\"\",\"\",DATEDIF(I942,$J$1,\"Y\"))","v":""}]
[null,null,null,null,null,null,null,null,null,{"$f":"IF(I943=\"\",\"\",DATEDIF(I943,$J$1,\"Y\"))","v":""}]
[null,null,null,null,null,null,null,null,null,{"$f":"IF(I944=\"\",\"\",DATEDIF(I944,$J$1,\"Y\"))","v":""}]
[null,null,null,null,null,null,null,null,null,{"$f":"IF(I945=\"\",\"\",DATEDIF(I945,$J$1,\"Y\"))","v":""}]
[null,null,null,null,null,null,null,null,null,{"$f":"IF(I946=\"\",\"\",DATEDIF(I946,$J$1,\"Y\"))","v":""}]
[null,null,null,null,null,null,null,null,null,{"$f":"IF(I947=\"\",\"\",DATEDIF(I947,$J$1,\"Y\"))","v":""}]
[null,null,null,null,null,null,null,null,null,{"$f":"IF(I948=\"\",\"\",DATEDIF(I948,$J$1,\"Y\"))","v":""}]
[null,null,null,null,null,null,null,null,null,{"$f":"IF(I949=\"\",\"\",DATEDIF(I949,$J$1,\"Y\"))","v":""}]
[null,null,null,null,null,null,null,null,null,{"$f":"IF(I950=\"\",\"\",DATEDIF(I950,$J$1,\"Y\"))","v":""}]
[null,null,null,null,null,null,null,null,null,{"$f":"IF(I951=\"\",\"\",DATEDIF(I951,$J$1,\"Y\"))","v":""}]
[null,null,null,null,null,null,null,null,null,{"$f":"IF(I952=\"\",\"\",DATEDIF(I952,$J$1,\"Y\"))","v":""}]
[null,null,null,null,null,null,null,null,null,{"$f":"IF(I953=\"\",\"\",DATEDIF(I953,$J$1,\"Y\"))","v":""}]
[null,null,null,null,null,null,null,null,null,{"$f":"IF(I954=\"\",\"\",DATEDIF(I954,$J$1,\"Y\"))","v":""}]
[null,null,null,null,null,null,null,null,null,{"$f":"IF(I955=\"\",\"\",DATEDIF(I955,$J$1,\"Y\"))","v":""}]
[null,null,null,null,null,null,null,null,null,{"$f":"IF(I956=\"\",\"\",DATEDIF(I956,$J$1,\"Y\"))","v":""}]
[null,null,null,null,null,null,null,null,null,{"$f":"IF(I957=\"\",\"\",DATEDIF(I957,$J$1,\"Y\"))","v":""}]
[null,null,null,null,null,null,null,null,null,{"$f":"IF(I958=\"\",\"\",DATEDIF(I958,$J$1,\"Y\"))","v":""}]
[null,null,null,null,null,null,null,null,null,{"$f":"IF(I959=\"\",\"\",DATEDIF(I959,$J$1,\"Y\"))","v":""}]
[null,null,null,null,null,null,null,null,null,{"$f":"IF(I960=\"\",\"\",DATEDIF(I960,$J$1,\"Y\"))","v":""}]
[null,null,null,null,null,null,null,null,null,{"$f":"IF(I961=\"\",\"\",DATEDIF(I961,$J$1,\"Y\"))","v":""}]
[null,null,null,null,null,null,null,null,null,{"$f":"IF(I962=\"\",\"\",DATEDIF(I962,$J$1,\"Y\"))","v":""}]
[null,null,null,null,null,null,null,null,null,{"$f":"IF(I963=\"\",\"\",DATEDIF(I963,$J$1,\"Y\"))","v":""}]
[null,null,null,null,null,null,null,null,null,{"$f":"IF(I964=\"\",\"\",DATEDIF(I964,$J$1,\"Y\"))","v":""}]
[null,null,null,null,null,null,null,null,null,{"$f":"IF(I965=\"\",\"\",DATEDIF(I965,$J$1,\"Y\"))","v":""}]
[null,null,null,null,null,null,null,null,null,{"$f":"IF(I966=\"\",\"\",DATEDIF(I966,$J$1,\"Y\"))","v":""}]
[null,null,null,null,null,null,null,null,null,{"$f":"IF(I967=\"\",\"\",DATEDIF(I967,$J$1,\"Y\"))","v":""}]
[null,null,null,null,null,null,null,null,null,{"$f":"IF(I968=\"\",\"\",DATEDIF(I968,$J$1,\"Y\"))","v":""}]
[null,null,null,null,null,null,null,null,null,{"$f":"IF(I969=\"\",\"\",DATEDIF(I969,$J$1,\"Y\"))","v":""}]
[null,null,null,null,null,null,null,null,null,{"$f":"IF(I970=\"\",\"\",DATEDIF(I970,$J$1,\"Y\"))","v":""}]
[null,null,null,null,null,null,null,null,null,{"$f":"IF(I971=\"\",\"\",DATEDIF(I971,$J$1,\"Y\"))","v":""}]
[null,null,null,null,null,null,null,null,null,{"$f":"IF(I972=\"\",\"\",DATEDIF(I972,$J$1,\"Y\"))","v":""}]
[null,null,null,null,null,null,null,null,null,{"$f":"IF(I973=\"\",\"\",DATEDIF(I973,$J$1,\"Y\"))","v":""}]
[null,null,null,null,null,null,null,null,null,{"$f":"IF(I974=\"\",\"\",DATEDIF(I974,$J$1,\"Y\"))","v":""}]
[null,null,null,null,null,null,null,null,null,{"$f":"IF(I975=\"\",\"\",DATEDIF(I975,$J$1,\"Y\"))","v":""}]
[null,null,null,null,null,null,null,null,null,{"$f":"IF(I976=\"\",\"\",DATEDIF(I976,$J$1,\"Y\"))","v":""}]
[null,null,null,null,null,null,null,null,null,{"$f":"IF(I977=\"\",\"\",DATEDIF(I977,$J$1,\"Y\"))","v":""}]
[null,null,null,null,null,null,null,null,null,{"$f":"IF(I978=\"\",\"\",DATEDIF(I978,$J$1,\"Y\"))","v":""}]
[null,null,null,null,null,null,null,null,null,{"$f":"IF(I979=\"\",\"\",DATEDIF(I979,$J$1,\"Y\"))","v":""}]
[null,null,null,null,null,null,null,null,null,{"$f":"IF(I980=\"\",\"\",DATEDIF(I980,$J$1,\"Y\"))","v":""}]
[null,null,null,null,null,null,null,null,null,{"$f":"IF(I981=\"\",\"\",DATEDIF(I981,$J$1,\"Y\"))","v":""}]
[null,null,null,null,null,null,null,null,null,{"$f":"IF(I982=\"\",\"\",DATEDIF(I982,$J$1,\"Y\"))","v":""}]
[null,null,null,null,null,null,null,null,null,{"$f":"IF(I983=\"\",\"\",DATEDIF(I983,$J$1,\"Y\"))","v":""}]
[null,null,null,null,null,null,null,null,null,{"$f":"IF(I984=\"\",\"\",DATEDIF(I984,$J$1,\"Y\"))","v":""}]
[null,null,null,null,null,null,null,null,null,{"$f":"IF(I985=\"\",\"\",DATEDIF(I985,$J$1,\"Y\"))","v":""}]
[null,null,null,null,null,null,null,null,null,{"$f":"IF(I986=\"\",\"\",DATEDIF(I986,$J$1,\"Y\"))","v":""}]
[null,null,null,null,null,null,null,null,null,{"$f":"IF(I987=\"\",\"\",DATEDIF(I987,$J$1,\"Y\"))","v":""}]
[null,null,null,null,null,null,null,null,null,{"$f":"IF(I988=\"\",\"\",DATEDIF(I988,$J$1,\"Y\"))","v":""}]
[null,null,null,null,null,null,null,null,null,{"$f":"IF(I989=\"\",\"\",DATEDIF(I989,$J$1,\"Y\"))","v":""}]
[null,null,null,null,null,null,null,null,null,{"$f":"IF(I990=\"\",\"\",DATEDIF(I990,$J$1,\"Y\"))","v":""}]
[null,null,null,null,null,null,null,null,null,{"$f":"IF(I991=\"\",\"\",DATEDIF(I991,$J$1,\"Y\"))","v":""}]
[null,null,null,null,null,null,null,null,null,{"$f":"IF(I992=\"\",\"\",DATEDIF(I992,$J$1,\"Y\"))","v":""}]
[null,null,null,null,null,null,null,null,null,{"$f":"IF(I993=\"\",\"\",DATEDIF(I993,$J$1,\"Y\"))","v":""}]
[null,null,null,null,null,null,null,null,null,{"$f":"IF(I994=\"\",\"\",DATEDIF(I994,$J$1,\"Y\"))","v":""}]
[null,null,null,null,null,null,null,null,null,{"$f":"IF(I995=\"\",\"\",DATEDIF(I995,$J$1,\"Y\"))","v":""}]
[null,null,null,null,null,null,null,null,null,{"$f":"IF(I996=\"\",\"\",DATEDIF(I996,$J$1,\"Y\"))","v":""}]
[null,null,null,null,null,null,null,null,null,{"$f":"IF(I997=\"\",\"\",DATEDIF(I997,$J$1,\"Y\"))","v":""}]
[null,null,null,null,null,null,null,null,null,{"$f":"IF(I998=\"\",\"\",DATEDIF(I998,$J$1,\"Y\"))","v":""}]
[null,null,null,null,null,null,null,null,null,{"$f":"IF(I999=\"\",\"\",DATEDIF(I999,$J$1,\"Y\"))","v":""}]
[null,null,null,null,null,null,null,null,null,{"$f":"IF(I1000=\"\",\"\",DATEDIF(I1000,$J$1,\"Y\"))","v":""}]
[null,null,null,null,null,null,null,null,null,{"$f":"IF(I1001=\"\",\"\",DATEDIF(I1001,$J$1,\"Y\"))","v":""}]
[null,null,null,null,null,null,null,null,null,{"$f":"IF(I1002=\"\",\"\",DATEDIF(I1002,$J$1,\"Y\"))","v":""}]
[null,null,null,null,null,null,null,null,null,{"$f":"IF(I1003=\"\",\"\",DATEDIF(I1003,$J$1,\"Y\"))","v":""}]
[null,null,null,null,null,null,null,null,null,{"$f":"IF(I1004=\"\",\"\",DATEDIF(I1004,$J$1,\"Y\"))","v":""}]
[null,null,null,null,null,null,null,null,null,{"$f":"IF(I1005=\"\",\"\",DATEDIF(I1005,$J$1,\"Y\"))","v":""}]
[null,null,null,null,null,null,null,null,null,{"$f":"IF(I1006=\"\",\"\",DATEDIF(I1006,$J$1,\"Y\"))","v":""}]
[null,null,null,null,null,null,null,null,null,{"$f":"IF(I1007=\"\",\"\",DATEDIF(I1007,$J$1,\"Y\"))","v":""}]
[null,null,null,null,null,null,null,null,null,{"$f":"IF(I1008=\"\",\"\",DATEDIF(I1008,$J$1,\"Y\"))","v":""}]
[null,null,null,null,null,null,null,null,null,{"$f":"IF(I1009=\"\",\"\",DATEDIF(I1009,$J$1,\"Y\"))","v":""}]
[null,null,null,null,null,null,null,null,null,{"$f":"IF(I1010=\"\",\"\",DATEDIF(I1010,$J$1,\"Y\"))","v":""}]
[null,null,null,null,null,null,null,null,null,{"$f":"IF(I1011=\"\",\"\",DATEDIF(I1011,$J$1,\"Y\"))","v":""}]
[null,null,null,null,null,null,null,null,null,{"$f":"IF(I1012=\"\",\"\",DATEDIF(I1012,$J$1,\"Y\"))","v":""}]
[null,null,null,null,null,null,null,null,null,{"$f":"IF(I1013=\"\",\"\",DATEDIF(I1013,$J$1,\"Y\"))","v":""}]
[null,null,null,null,null,null,null,null,null,{"$f":"IF(I1014=\"\",\"\",DATEDIF(I1014,$J$1,\"Y\"))","v":""}]
[null,null,null,null,null,null,null,null,null,{"$f":"IF(I1015=\"\",\"\",DATEDIF(I1015,$J$1,\"Y\"))","v":""}]
[null,null,null,null,null,null,null,null,null,{"$f":"IF(I1016=\"\",\"\",DATEDIF(I1016,$J$1,\"Y\"))","v":""}]
[null,null,null,null,null,null,null,null,null,{"$f":"IF(I1017=\"\",\"\",DATEDIF(I1017,$J$1,\"Y\"))","v":""}]
[null,null,null,null,null,null,null,null,null,{"$f":"IF(I1018=\"\",\"\",DATEDIF(I1018,$J$1,\"Y\"))","v":""}]
[null,null,null,null,null,null,null,null,null,{"$f":"IF(I1019=\"\",\"\",DATEDIF(I1019,$J$1,\"Y\"))","v":""}]
[null,null,null,null,null,null,null,null,null,{"$f":"IF(I1020=\"\",\"\",DATEDIF(I1020,$J$1,\"Y\"))","v":""}]
[null,null,null,null,null,null,null,null,null,{"$f":"IF(I1021=\"\",\"\",DATEDIF(I1021,$J$1,\"Y\"))","v":""}]
[null,null,null,null,null,null,null,null,null,{"$f":"IF(I1022=\"\",\"\",DATEDIF(I1022,$J$1,\"Y\"))","v":""}]
[null,null,null,null,null,null,null,null,null,{"$f":"IF(I1023=\"\",\"\",DATEDIF(I1023,$J$1,\"Y\"))","v":""}]
[null,null,null,null,null,null,null,null,null,{"$f":"IF(I1024=\"\",\"\",DATEDIF(I1024,$J$1,\"Y\"))","v":""}]
[null,null,null,null,null,null,null,null,null,{"$f":"IF(I1025=\"\",\"\",DATEDIF(I1025,$J$1,\"Y\"))","v":""}]
[null,null,null,null,null,null,null,null,null,{"$f":"IF(I1026=\"\",\"\",DATEDIF(I1026,$J$1,\"Y\"))","v":""}]
[null,null,null,null,null,null,null,null,null,{"$f":"IF(I1027=\"\",\"\",DATEDIF(I1027,$J$1,\"Y\"))","v":""}]
[null,null,null,null,null,null,null,null,null,{"$f":"IF(I1028=\"\",\"\",DATEDIF(I1028,$J$1,\"Y\"))","v":""}]
[null,null,null,null,null,null,null,null,null,{"$f":"IF(I1029=\"\",\"\",DATEDIF(I1029,$J$1,\"Y\"))","v":""}]
[null,null,null,null,null,null,null,null,null,{"$f":"IF(I1030=\"\",\"\",DATEDIF(I1030,$J$1,\"Y\"))","v":""}]
[null,null,null,null,null,null,null,null,null,{"$f":"IF(I1031=\"\",\"\",DATEDIF(I1031,$J$1,\"Y\"))","v":""}]
[null,null,null,null,null,null,null,null,null,{"$f":"IF(I1032=\"\",\"\",DATEDIF(I1032,$J$1,\"Y\"))","v":""}]
[null,null,null,null,null,null,null,null,null,{"$f":"IF(I1033=\"\",\"\",DATEDIF(I1033,$J$1,\"Y\"))","v":""}]
[null,null,null,null,null,null,null,null,null,{"$f":"IF(I1034=\"\",\"\",DATEDIF(I1034,$J$1,\"Y\"))","v":""}]
[null,null,null,null,null,null,null,null,null,{"$f":"IF(I1035=\"\",\"\",DATEDIF(I1035,$J$1,\"Y\"))","v":""}]
[null,null,null,null,null,null,null,null,null,{"$f":"IF(I1036=\"\",\"\",DATEDIF(I1036,$J$1,\"Y\"))","v":""}]
[null,null,null,null,null,null,null,null,null,{"$f":"IF(I1037=\"\",\"\",DATEDIF(I1037,$J$1,\"Y\"))","v":""}]
[null,null,null,null,null,null,null,null,null,{"$f":"IF(I1038=\"\",\"\",DATEDIF(I1038,$J$1,\"Y\"))","v":""}]
[null,null,null,null,null,null,null,null,null,{"$f":"IF(I1039=\"\",\"\",DATEDIF(I1039,$J$1,\"Y\"))","v":""}]
[null,null,null,null,null,null,null,null,null,{"$f":"IF(I1040=\"\",\"\",DATEDIF(I1040,$J$1,\"Y\"))","v":""}]
[null,null,null,null,null,null,null,null,null,{"$f":"IF(I1041=\"\",\"\",DATEDIF(I1041,$J$1,\"Y\"))","v":""}]
[null,null,null,null,null,null,null,null,null,{"$f":"IF(I1042=\"\",\"\",DATEDIF(I1042,$J$1,\"Y\"))","v":""}]
[null,null,null,null,null,null,null,null,null,{"$f":"IF(I1043=\"\",\"\",DATEDIF(I1043,$J$1,\"Y\"))","v":""}]
[null,null,null,null,null,null,null,null,null,{"$f":"IF(I1044=\"\",\"\",DATEDIF(I1044,$J$1,\"Y\"))","v":""}]
[null,null,null,null,null,null,null,null,null,{"$f":"IF(I1045=\"\",\"\",DATEDIF(I1045,$J$1,\"Y\"))","v":""}]
[null,null,null,null,null,null,null,null,null,{"$f":"IF(I1046=\"\",\"\",DATEDIF(I1046,$J$1,\"Y\"))","v":""}]
[null,null,null,null,null,null,null,null,null,{"$f":"IF(I1047=\"\",\"\",DATEDIF(I1047,$J$1,\"Y\"))","v":""}]
[null,null,null,null,null,null,null,null,null,{"$f":"IF(I1048=\"\",\"\",DATEDIF(I1048,$J$1,\"Y\"))","v":""}]
[null,null,null,null,null,null,null,null,null,{"$f":"IF(I1049=\"\",\"\",DATEDIF(I1049,$J$1,\"Y\"))","v":""}]
[null,null,null,null,null,null,null,null,null,{"$f":"IF(I1050=\"\",\"\",DATEDIF(I1050,$J$1,\"Y\"))","v":""}]
[null,null,null,null,null,null,null,null,null,{"$f":"IF(I1051=\"\",\"\",DATEDIF(I1051,$J$1,\"Y\"))","v":""}]
[null,null,null,null,null,null,null,null,null,{"$f":"IF(I1052=\"\",\"\",DATEDIF(I1052,$J$1,\"Y\"))","v":""}]
[null,null,null,null,null,null,null,null,null,{"$f":"IF(I1053=\"\",\"\",DATEDIF(I1053,$J$1,\"Y\"))","v":""}]
[null,null,null,null,null,null,null,null,null,{"$f":"IF(I1054=\"\",\"\",DATEDIF(I1054,$J$1,\"Y\"))","v":""}]
[null,null,null,null,null,null,null,null,null,{"$f":"IF(I1055=\"\",\"\",DATEDIF(I1055,$J$1,\"Y\"))","v":""}]
[null,null,null,null,null,null,null,null,null,{"$f":"IF(I1056=\"\",\"\",DATEDIF(I1056,$J$1,\"Y\"))","v":""}]
[null,null,null,null,null,null,null,null,null,{"$f":"IF(I1057=\"\",\"\",DATEDIF(I1057,$J$1,\"Y\"))","v":""}]
[null,null,null,null,null,null,null,null,null,{"$f":"IF(I1058=\"\",\"\",DATEDIF(I1058,$J$1,\"Y\"))","v":""}]
[null,null,null,null,null,null,null,null,null,{"$f":"IF(I1059=\"\",\"\",DATEDIF(I1059,$J$1,\"Y\"))","v":""}]
[null,null,null,null,null,null,null,null,null,{"$f":"IF(I1060=\"\",\"\",DATEDIF(I1060,$J$1,\"Y\"))","v":""}]
[null,null,null,null,null,null,null,null,null,{"$f":"IF(I1061=\"\",\"\",DATEDIF(I1061,$J$1,\"Y\"))","v":""}]
[null,null,null,null,null,null,null,null,null,{"$f":"IF(I1062=\"\",\"\",DATEDIF(I1062,$J$1,\"Y\"))","v":""}]
[null,null,null,null,null,null,null,null,null,{"$f":"IF(I1063=\"\",\"\",DATEDIF(I1063,$J$1,\"Y\"))","v":""}]
[null,null,null,null,null,null,null,null,null,{"$f":"IF(I1064=\"\",\"\",DATEDIF(I1064,$J$1,\"Y\"))","v":""}]
[null,null,null,null,null,null,null,null,null,{"$f":"IF(I1065=\"\",\"\",DATEDIF(I1065,$J$1,\"Y\"))","v":""}]
[null,null,null,null,null,null,null,null,null,{"$f":"IF(I1066=\"\",\"\",DATEDIF(I1066,$J$1,\"Y\"))","v":""}]
[null,null,null,null,null,null,null,null,null,{"$f":"IF(I1067=\"\",\"\",DATEDIF(I1067,$J$1,\"Y\"))","v":""}]
[null,null,null,null,null,null,null,null,null,{"$f":"IF(I1068=\"\",\"\",DATEDIF(I1068,$J$1,\"Y\"))","v":""}]
[null,null,null,null,null,null,null,null,null,{"$f":"IF(I1069=\"\",\"\",DATEDIF(I1069,$J$1,\"Y\"))","v":""}]
[null,null,null,null,null,null,null,null,null,{"$f":"IF(I1070=\"\",\"\",DATEDIF(I1070,$J$1,\"Y\"))","v":""}]
[null,null,null,null,null,null,null,null,null,{"$f":"IF(I1071=\"\",\"\",DATEDIF(I1071,$J$1,\"Y\"))","v":""}]
[null,null,null,null,null,null,null,null,null,{"$f":"IF(I1072=\"\",\"\",DATEDIF(I1072,$J$1,\"Y\"))","v":""}]
[null,null,null,null,null,null,null,null,null,{"$f":"IF(I1073=\"\",\"\",DATEDIF(I1073,$J$1,\"Y\"))","v":""}]
[null,null,null,null,null,null,null,null,null,{"$f":"IF(I1074=\"\",\"\",DATEDIF(I1074,$J$1,\"Y\"))","v":""}]
[null,null,null,null,null,null,null,null,null,{"$f":"IF(I1075=\"\",\"\",DATEDIF(I1075,$J$1,\"Y\"))","v":""}]
[null,null,null,null,null,null,null,null,null,{"$f":"IF(I1076=\"\",\"\",DATEDIF(I1076,$J$1,\"Y\"))","v":""}]
[null,null,null,null,null,null,null,null,null,{"$f":"IF(I1077=\"\",\"\",DATEDIF(I1077,$J$1,\"Y\"))","v":""}]
[null,null,null,null,null,null,null,null,null,{"$f":"IF(I1078=\"\",\"\",DATEDIF(I1078,$J$1,\"Y\"))","v":""}]
[null,null,null,null,null,null,null,null,null,{"$f":"IF(I1079=\"\",\"\",DATEDIF(I1079,$J$1,\"Y\"))","v":""}]
[null,null,null,null,null,null,null,null,null,{"$f":"IF(I1080=\"\",\"\",DATEDIF(I1080,$J$1,\"Y\"))","v":""}]
[null,null,null,null,null,null,null,null,null,{"$f":"IF(I1081=\"\",\"\",DATEDIF(I1081,$J$1,\"Y\"))","v":""}]
[null,null,null,null,null,null,null,null,null,{"$f":"IF(I1082=\"\",\"\",DATEDIF(I1082,$J$1,\"Y\"))","v":""}]
[null,null,null,null,null,null,null,null,null,{"$f":"IF(I1083=\"\",\"\",DATEDIF(I1083,$J$1,\"Y\"))","v":""}]
[null,null,null,null,null,null,null,null,null,{"$f":"IF(I1084=\"\",\"\",DATEDIF(I1084,$J$1,\"Y\"))","v":""}]
[null,null,null,null,null,null,null,null,null,{"$f":"IF(I1085=\"\",\"\",DATEDIF(I1085,$J$1,\"Y\"))","v":""}]
[null,null,null,null,null,null,null,null,null,{"$f":"IF(I1086=\"\",\"\",DATEDIF(I1086,$J$1,\"Y\"))","v":""}]
[null,null,null,null,null,null,null,null,null,{"$f":"IF(I1087=\"\",\"\",DATEDIF(I1087,$J$1,\"Y\"))","v":""}]
[null,null,null,null,null,null,null,null,null,{"$f":"IF(I1088=\"\",\"\",DATEDIF(I1088,$J$1,\"Y\"))","v":""}]
[null,null,null,null,null,null,null,null,null,{"$f":"IF(I1089=\"\",\"\",DATEDIF(I1089,$J$1,\"Y\"))","v":""}]
[null,null,null,null,null,null,null,null,null,{"$f":"IF(I1090=\"\",\"\",DATEDIF(I1090,$J$1,\"Y\"))","v":""}]
[null,null,null,null,null,null,null,null,null,{"$f":"IF(I1091=\"\",\"\",DATEDIF(I1091,$J$1,\"Y\"))","v":""}]
[null,null,null,null,null,null,null,null,null,{"$f":"IF(I1092=\"\",\"\",DATEDIF(I1092,$J$1,\"Y\"))","v":""}]
[null,null,null,null,null,null,null,null,null,{"$f":"IF(I1093=\"\",\"\",DATEDIF(I1093,$J$1,\"Y\"))","v":""}]
[null,null,null,null,null,null,null,null,null,{"$f":"IF(I1094=\"\",\"\",DATEDIF(I1094,$J$1,\"Y\"))","v":""}]
[null,null,null,null,null,null,null,null,null,{"$f":"IF(I1095=\"\",\"\",DATEDIF(I1095,$J$1,\"Y\"))","v":""}]
[null,null,null,null,null,null,null,null,null,{"$f":"IF(I1096=\"\",\"\",DATEDIF(I1096,$J$1,\"Y\"))","v":""}]
[null,null,null,null,null,null,null,null,null,{"$f":"IF(I1097=\"\",\"\",DATEDIF(I1097,$J$1,\"Y\"))","v":""}]
[null,null,null,null,null,null,null,null,null,{"$f":"IF(I1098=\"\",\"\",DATEDIF(I1098,$J$1,\"Y\"))","v":""}]
[null,null,null,null,null,null,null,null,null,{"$f":"IF(I1099=\"\",\"\",DATEDIF(I1099,$J$1,\"Y\"))","v":""}]
[null,null,null,null,null,null,null,null,null,{"$f":"IF(I1100=\"\",\"\",DATEDIF(I1100,$J$1,\"Y\"))","v":""}]
[null,null,null,null,null,null,null,null,null,{"$f":"IF(I1101=\"\",\"\",DATEDIF(I1101,$J$1,\"Y\"))","v":""}]
[null,null,null,null,null,null,null,null,null,{"$f":"IF(I1102=\"\",\"\",DATEDIF(I1102,$J$1,\"Y\"))","v":""}]
[null,null,null,null,null,null,null,null,null,{"$f":"IF(I1103=\"\",\"\",DATEDIF(I1103,$J$1,\"Y\"))","v":""}]
[null,null,null,null,null,null,null,null,null,{"$f":"IF(I1104=\"\",\"\",DATEDIF(I1104,$J$1,\"Y\"))","v":""}]
[null,null,null,null,null,null,null,null,null,{"$f":"IF(I1105=\"\",\"\",DATEDIF(I1105,$J$1,\"Y\"))","v":""}]
[null,null,null,null,null,null,null,null,null,{"$f":"IF(I1106=\"\",\"\",DATEDIF(I1106,$J$1,\"Y\"))","v":""}]
[null,null,null,null,null,null,null,null,null,{"$f":"IF(I1107=\"\",\"\",DATEDIF(I1107,$J$1,\"Y\"))","v":""}]
[null,null,null,null,null,null,null,null,null,{"$f":"IF(I1108=\"\",\"\",DATEDIF(I1108,$J$1,\"Y\"))","v":""}]
[null,null,null,null,null,null,null,null,null,{"$f":"IF(I1109=\"\",\"\",DATEDIF(I1109,$J$1,\"Y\"))","v":""}]
[null,null,null,null,null,null,null,null,null,{"$f":"IF(I1110=\"\",\"\",DATEDIF(I1110,$J$1,\"Y\"))","v":""}]
[null,null,null,null,null,null,null,null,null,{"$f":"IF(I1111=\"\",\"\",DATEDIF(I1111,$J$1,\"Y\"))","v":""}]
[null,null,null,null,null,null,null,null,null,{"$f":"IF(I1112=\"\",\"\",DATEDIF(I1112,$J$1,\"Y\"))","v":""}]
[null,null,null,null,null,null,null,null,null,{"$f":"IF(I1113=\"\",\"\",DATEDIF(I1113,$J$1,\"Y\"))","v":""}]
[null,null,null,null,null,null,null,null,null,{"$f":"IF(I1114=\"\",\"\",DATEDIF(I1114,$J$1,\"Y\"))","v":""}]
[null,null,null,null,null,null,null,null,null,{"$f":"IF(I1115=\"\",\"\",DATEDIF(I1115,$J$1,\"Y\"))","v":""}]
[null,null,null,null,null,null,null,null,null,{"$f":"IF(I1116=\"\",\"\",DATEDIF(I1116,$J$1,\"Y\"))","v":""}]
[null,null,null,null,null,null,null,null,null,{"$f":"IF(I1117=\"\",\"\",DATEDIF(I1117,$J$1,\"Y\"))","v":""}]
[null,null,null,null,null,null,null,null,null,{"$f":"IF(I1118=\"\",\"\",DATEDIF(I1118,$J$1,\"Y\"))","v":""}]
[null,null,null,null,null,null,null,null,null,{"$f":"IF(I1119=\"\",\"\",DATEDIF(I1119,$J$1,\"Y\"))","v":""}]
[null,null,null,null,null,null,null,null,null,{"$f":"IF(I1120=\"\",\"\",DATEDIF(I1120,$J$1,\"Y\"))","v":""}]
[null,null,null,null,null,null,null,null,null,{"$f":"IF(I1121=\"\",\"\",DATEDIF(I1121,$J$1,\"Y\"))","v":""}]
[null,null,null,null,null,null,null,null,null,{"$f":"IF(I1122=\"\",\"\",DATEDIF(I1122,$J$1,\"Y\"))","v":""}]
[null,null,null,null,null,null,null,null,null,{"$f":"IF(I1123=\"\",\"\",DATEDIF(I1123,$J$1,\"Y\"))","v":""}]
[null,null,null,null,null,null,null,null,null,{"$f":"IF(I1124=\"\",\"\",DATEDIF(I1124,$J$1,\"Y\"))","v":""}]
[null,null,null,null,null,null,null,null,null,{"$f":"IF(I1125=\"\",\"\",DATEDIF(I1125,$J$1,\"Y\"))","v":""}]
[null,null,null,null,null,null,null,null,null,{"$f":"IF(I1126=\"\",\"\",DATEDIF(I1126,$J$1,\"Y\"))","v":""}]
[null,null,null,null,null,null,null,null,null,{"$f":"IF(I1127=\"\",\"\",DATEDIF(I1127,$J$1,\"Y\"))","v":""}]
[null,null,null,null,null,null,null,null,null,{"$f":"IF(I1128=\"\",\"\",DATEDIF(I1128,$J$1,\"Y\"))","v":""}]
[null,null,null,null,null,null,null,null,null,{"$f":"IF(I1129=\"\",\"\",DATEDIF(I1129,$J$1,\"Y\"))","v":""}]
[null,null,null,null,null,null,null,null,null,{"$f":"IF(I1130=\"\",\"\",DATEDIF(I1130,$J$1,\"Y\"))","v":""}]
[null,null,null,null,null,null,null,null,null,{"$f":"IF(I1131=\"\",\"\",DATEDIF(I1131,$J$1,\"Y\"))","v":""}]
[null,null,null,null,null,null,null,null,null,{"$f":"IF(I1132=\"\",\"\",DATEDIF(I1132,$J$1,\"Y\"))","v":""}]
[null,null,null,null,null,null,null,null,null,{"$f":"IF(I1133=\"\",\"\",DATEDIF(I1133,$J$1,\"Y\"))","v":""}]
[null,null,null,null,null,null,null,null,null,{"$f":"IF(I1134=\"\",\"\",DATEDIF(I1134,$J$1,\"Y\"))","v":""}]
[null,null,null,null,null,null,null,null,null,{"$f":"IF(I1135=\"\",\"\",DATEDIF(I1135,$J$1,\"Y\"))","v":""}]
[null,null,null,null,null,null,null,null,null,{"$f":"IF(I1136=\"\",\"\",DATEDIF(I1136,$J$1,\"Y\"))","v":""}]
[null,null,null,null,null,null,null,null,null,{"$f":"IF(I1137=\"\",\"\",DATEDIF(I1137,$J$1,\"Y\"))","v":""}]
[null,null,null,null,null,null,null,null,null,{"$f":"IF(I1138=\"\",\"\",DATEDIF(I1138,$J$1,\"Y\"))","v":""}]
[null,null,null,null,null,null,null,null,null,{"$f":"IF(I1139=\"\",\"\",DATEDIF(I1139,$J$1,\"Y\"))","v":""}]
[null,null,null,null,null,null,null,null,null,{"$f":"IF(I1140=\"\",\"\",DATEDIF(I1140,$J$1,\"Y\"))","v":""}]
[null,null,null,null,null,null,null,null,null,{"$f":"IF(I1141=\"\",\"\",DATEDIF(I1141,$J$1,\"Y\"))","v":""}]
[null,null,null,null,null,null,null,null,null,{"$f":"IF(I1142=\"\",\"\",DATEDIF(I1142,$J$1,\"Y\"))","v":""}]
[null,null,null,null,null,null,null,null,null,{"$f":"IF(I1143=\"\",\"\",DATEDIF(I1143,$J$1,\"Y\"))","v":""}]
[null,null,null,null,null,null,null,null,null,{"$f":"IF(I1144=\"\",\"\",DATEDIF(I1144,$J$1,\"Y\"))","v":""}]
[null,null,null,null,null,null,null,null,null,{"$f":"IF(I1145=\"\",\"\",DATEDIF(I1145,$J$1,\"Y\"))","v":""}]
[null,null,null,null,null,null,null,null,null,{"$f":"IF(I1146=\"\",\"\",DATEDIF(I1146,$J$1,\"Y\"))","v":""}]
[null,null,null,null,null,null,null,null,null,{"$f":"IF(I1147=\"\",\"\",DATEDIF(I1147,$J$1,\"Y\"))","v":""}]
[null,null,null,null,null,null,null,null,null,{"$f":"IF(I1148=\"\",\"\",DATEDIF(I1148,$J$1,\"Y\"))","v":""}]
[null,null,null,null,null,null,null,null,null,{"$f":"IF(I1149=\"\",\"\",DATEDIF(I1149,$J$1,\"Y\"))","v":""}]
[null,null,null,null,null,null,null,null,null,{"$f":"IF(I1150=\"\",\"\",DATEDIF(I1150,$J$1,\"Y\"))","v":""}]
[null,null,null,null,null,null,null,null,null,{"$f":"IF(I1151=\"\",\"\",DATEDIF(I1151,$J$1,\"Y\"))","v":""}]
[null,null,null,null,null,null,null,null,null,{"$f":"IF(I1152=\"\",\"\",DATEDIF(I1152,$J$1,\"Y\"))","v":""}]
[null,null,null,null,null,null,null,null,null,{"$f":"IF(I1153=\"\",\"\",DATEDIF(I1153,$J$1,\"Y\"))","v":""}]
[null,null,null,null,null,null,null,null,null,{"$f":"IF(I1154=\"\",\"\",DATEDIF(I1154,$J$1,\"Y\"))","v":""}]
[null,null,null,null,null,null,null,null,null,{"$f":"IF(I1155=\"\",\"\",DATEDIF(I1155,$J$1,\"Y\"))","v":""}]
[null,null,null,null,null,null,null,null,null,{"$f":"IF(I1156=\"\",\"\",DATEDIF(I1156,$J$1,\"Y\"))","v":""}]
[null,null,null,null,null,null,null,null,null,{"$f":"IF(I1157=\"\",\"\",DATEDIF(I1157,$J$1,\"Y\"))","v":""}]
[null,null,null,null,null,null,null,null,null,{"$f":"IF(I1158=\"\",\"\",DATEDIF(I1158,$J$1,\"Y\"))","v":""}]
[null,null,null,null,null,null,null,null,null,{"$f":"IF(I1159=\"\",\"\",DATEDIF(I1159,$J$1,\"Y\"))","v":""}]
[null,null,null,null,null,null,null,null,null,{"$f":"IF(I1160=\"\",\"\",DATEDIF(I1160,$J$1,\"Y\"))","v":""}]
[null,null,null,null,null,null,null,null,null,{"$f":"IF(I1161=\"\",\"\",DATEDIF(I1161,$J$1,\"Y\"))","v":""}]
[null,null,null,null,null,null,null,null,null,{"$f":"IF(I1162=\"\",\"\",DATEDIF(I1162,$J$1,\"Y\"))","v":""}]
[null,null,null,null,null,null,null,null,null,{"$f":"IF(I1163=\"\",\"\",DATEDIF(I1163,$J$1,\"Y\"))","v":""}]
[null,null,null,null,null,null,null,null,null,{"$f":"IF(I1164=\"\",\"\",DATEDIF(I1164,$J$1,\"Y\"))","v":""}]
[null,null,null,null,null,null,null,null,null,{"$f":"IF(I1165=\"\",\"\",DATEDIF(I1165,$J$1,\"Y\"))","v":""}]
[null,null,null,null,null,null,null,null,null,{"$f":"IF(I1166=\"\",\"\",DATEDIF(I1166,$J$1,\"Y\"))","v":""}]
[null,null,null,null,null,null,null,null,null,{"$f":"IF(I1167=\"\",\"\",DATEDIF(I1167,$J$1,\"Y\"))","v":""}]
[null,null,null,null,null,null,null,null,null,{"$f":"IF(I1168=\"\",\"\",DATEDIF(I1168,$J$1,\"Y\"))","v":""}]
[null,null,null,null,null,null,null,null,null,{"$f":"IF(I1169=\"\",\"\",DATEDIF(I1169,$J$1,\"Y\"))","v":""}]
[null,null,null,null,null,null,null,null,null,{"$f":"IF(I1170=\"\",\"\",DATEDIF(I1170,$J$1,\"Y\"))","v":""}]
[null,null,null,null,null,null,null,null,null,{"$f":"IF(I1171=\"\",\"\",DATEDIF(I1171,$J$1,\"Y\"))","v":""}]
[null,null,null,null,null,null,null,null,null,{"$f":"IF(I1172=\"\",\"\",DATEDIF(I1172,$J$1,\"Y\"))","v":""}]
[null,null,null,null,null,null,null,null,null,{"$f":"IF(I1173=\"\",\"\",DATEDIF(I1173,$J$1,\"Y\"))","v":""}]
[null,null,null,null,null,null,null,null,null,{"$f":"IF(I1174=\"\",\"\",DATEDIF(I1174,$J$1,\"Y\"))","v":""}]
[null,null,null,null,null,null,null,null,null,{"$f":"IF(I1175=\"\",\"\",DATEDIF(I1175,$J$1,\"Y\"))","v":""}]
[null,null,null,null,null,null,null,null,null,{"$f":"IF(I1176=\"\",\"\",DATEDIF(I1176,$J$1,\"Y\"))","v":""}]
[null,null,null,null,null,null,null,null,null,{"$f":"IF(I1177=\"\",\"\",DATEDIF(I1177,$J$1,\"Y\"))","v":""}]
[null,null,null,null,null,null,null,null,null,{"$f":"IF(I1178=\"\",\"\",DATEDIF(I1178,$J$1,\"Y\"))","v":""}]
[null,null,null,null,null,null,null,null,null,{"$f":"IF(I1179=\"\",\"\",DATEDIF(I1179,$J$1,\"Y\"))","v":""}]
[null,null,null,null,null,null,null,null,null,{"$f":"IF(I1180=\"\",\"\",DATEDIF(I1180,$J$1,\"Y\"))","v":""}]
[null,null,null,null,null,null,null,null,null,{"$f":"IF(I1181=\"\",\"\",DATEDIF(I1181,$J$1,\"Y\"))","v":""}]
[null,null,null,null,null,null,null,null,null,{"$f":"IF(I1182=\"\",\"\",DATEDIF(I1182,$J$1,\"Y\"))","v":""}]
[null,null,null,null,null,null,null,null,null,{"$f":"IF(I1183=\"\",\"\",DATEDIF(I1183,$J$1,\"Y\"))","v":""}]
[null,null,null,null,null,null,null,null,null,{"$f":"IF(I1184=\"\",\"\",DATEDIF(I1184,$J$1,\"Y\"))","v":""}]
[null,null,null,null,null,null,null,null,null,{"$f":"IF(I1185=\"\",\"\",DATEDIF(I1185,$J$1,\"Y\"))","v":""}]
[null,null,null,null,null,null,null,null,null,{"$f":"IF(I1186=\"\",\"\",DATEDIF(I1186,$J$1,\"Y\"))","v":""}]
[null,null,null,null,null,null,null,null,null,{"$f":"IF(I1187=\"\",\"\",DATEDIF(I1187,$J$1,\"Y\"))","v":""}]
[null,null,null,null,null,null,null,null,null,{"$f":"IF(I1188=\"\",\"\",DATEDIF(I1188,$J$1,\"Y\"))","v":""}]
[null,null,null,null,null,null,null,null,null,{"$f":"IF(I1189=\"\",\"\",DATEDIF(I1189,$J$1,\"Y\"))","v":""}]
[null,null,null,null,null,null,null,null,null,{"$f":"IF(I1190=\"\",\"\",DATEDIF(I1190,$J$1,\"Y\"))","v":""}]
[null,null,null,null,null,null,null,null,null,{"$f":"IF(I1191=\"\",\"\",DATEDIF(I1191,$J$1,\"Y\"))","v":""}]
[null,null,null,null,null,null,null,null,null,{"$f":"IF(I1192=\"\",\"\",DATEDIF(I1192,$J$1,\"Y\"))","v":""}]
[null,null,null,null,null,null,null,null,null,{"$f":"IF(I1193=\"\",\"\",DATEDIF(I1193,$J$1,\"Y\"))","v":""}]
[null,null,null,null,null,null,null,null,null,{"$f":"IF(I1194=\"\",\"\",DATEDIF(I1194,$J$1,\"Y\"))","v":""}]
[null,null,null,null,null,null,null,null,null,{"$f":"IF(I1195=\"\",\"\",DATEDIF(I1195,$J$1,\"Y\"))","v":""}]
[null,null,null,null,null,null,null,null,null,{"$f":"IF(I1196=\"\",\"\",DATEDIF(I1196,$J$1,\"Y\"))","v":""}]
[null,null,null,null,null,null,null,null,null,{"$f":"IF(I1197=\"\",\"\",DATEDIF(I1197,$J$1,\"Y\"))","v":""}]
[null,null,null,null,null,null,null,null,null,{"$f":"IF(I1198=\"\",\"\",DATEDIF(I1198,$J$1,\"Y\"))","v":""}]
[null,null,null,null,null,null,null,null,null,{"$f":"IF(I1199=\"\",\"\",DATEDIF(I1199,$J$1,\"Y\"))","v":""}]
[null,null,null,null,null,null,null,null,null,{"$f":"IF(I1200=\"\",\"\",DATEDIF(I1200,$J$1,\"Y\"))","v":""}]
[null,null,null,null,null,null,null,null,null,{"$f":"IF(I1201=\"\",\"\",DATEDIF(I1201,$J$1,\"Y\"))","v":""}]
[null,null,null,null,null,null,null,null,null,{"$f":"IF(I1202=\"\",\"\",DATEDIF(I1202,$J$1,\"Y\"))","v":""}]
[null,null,null,null,null,null,null,null,null,{"$f":"IF(I1203=\"\",\"\",DATEDIF(I1203,$J$1,\"Y\"))","v":""}]
[null,null,null,null,null,null,null,null,null,{"$f":"IF(I1204=\"\",\"\",DATEDIF(I1204,$J$1,\"Y\"))","v":""}]
[null,null,null,null,null,null,null,null,null,{"$f":"IF(I1205=\"\",\"\",DATEDIF(I1205,$J$1,\"Y\"))","v":""}]
[null,null,null,null,null,null,null,null,null,{"$f":"IF(I1206=\"\",\"\",DATEDIF(I1206,$J$1,\"Y\"))","v":""}]
[null,null,null,null,null,null,null,null,null,{"$f":"IF(I1207=\"\",\"\",DATEDIF(I1207,$J$1,\"Y\"))","v":""}]
[null,null,null,null,null,null,null,null,null,{"$f":"IF(I1208=\"\",\"\",DATEDIF(I1208,$J$1,\"Y\"))","v":""}]
[null,null,null,null,null,null,null,null,null,{"$f":"IF(I1209=\"\",\"\",DATEDIF(I1209,$J$1,\"Y\"))","v":""}]
[null,null,null,null,null,null,null,null,null,{"$f":"IF(I1210=\"\",\"\",DATEDIF(I1210,$J$1,\"Y\"))","v":""}]
[null,null,null,null,null,null,null,null,null,{"$f":"IF(I1211=\"\",\"\",DATEDIF(I1211,$J$1,\"Y\"))","v":""}]
[null,null,null,null,null,null,null,null,null,{"$f":"IF(I1212=\"\",\"\",DATEDIF(I1212,$J$1,\"Y\"))","v":""}]
[null,null,null,null,null,null,null,null,null,{"$f":"IF(I1213=\"\",\"\",DATEDIF(I1213,$J$1,\"Y\"))","v":""}]
[null,null,null,null,null,null,null,null,null,{"$f":"IF(I1214=\"\",\"\",DATEDIF(I1214,$J$1,\"Y\"))","v":""}]
[null,null,null,null,null,null,null,null,null,{"$f":"IF(I1215=\"\",\"\",DATEDIF(I1215,$J$1,\"Y\"))","v":""}]
[null,null,null,null,null,null,null,null,null,{"$f":"IF(I1216=\"\",\"\",DATEDIF(I1216,$J$1,\"Y\"))","v":""}]
[null,null,null,null,null,null,null,null,null,{"$f":"IF(I1217=\"\",\"\",DATEDIF(I1217,$J$1,\"Y\"))","v":""}]
[null,null,null,null,null,null,null,null,null,{"$f":"IF(I1218=\"\",\"\",DATEDIF(I1218,$J$1,\"Y\"))","v":""}]
[null,null,null,null,null,null,null,null,null,{"$f":"IF(I1219=\"\",\"\",DATEDIF(I1219,$J$1,\"Y\"))","v":""}]
[null,null,null,null,null,null,null,null,null,{"$f":"IF(I1220=\"\",\"\",DATEDIF(I1220,$J$1,\"Y\"))","v":""}]
[null,null,null,null,null,null,null,null,null,{"$f":"IF(I1221=\"\",\"\",DATEDIF(I1221,$J$1,\"Y\"))","v":""}]
[null,null,null,null,null,null,null,null,null,{"$f":"IF(I1222=\"\",\"\",DATEDIF(I1222,$J$1,\"Y\"))","v":""}]
[null,null,null,null,null,null,null,null,null,{"$f":"IF(I1223=\"\",\"\",DATEDIF(I1223,$J$1,\"Y\"))","v":""}]
[null,null,null,null,null,null,null,null,null,{"$f":"IF(I1224=\"\",\"\",DATEDIF(I1224,$J$1,\"Y\"))","v":""}]
[null,null,null,null,null,null,null,null,null,{"$f":"IF(I1225=\"\",\"\",DATEDIF(I1225,$J$1,\"Y\"))","v":""}]
[null,null,null,null,null,null,null,null,null,{"$f":"IF(I1226=\"\",\"\",DATEDIF(I1226,$J$1,\"Y\"))","v":""}]
[null,null,null,null,null,null,null,null,null,{"$f":"IF(I1227=\"\",\"\",DATEDIF(I1227,$J$1,\"Y\"))","v":""}]
[null,null,null,null,null,null,null,null,null,{"$f":"IF(I1228=\"\",\"\",DATEDIF(I1228,$J$1,\"Y\"))","v":""}]
[null,null,null,null,null,null,null,null,null,{"$f":"IF(I1229=\"\",\"\",DATEDIF(I1229,$J$1,\"Y\"))","v":""}]
[null,null,null,null,null,null,null,null,null,{"$f":"IF(I1230=\"\",\"\",DATEDIF(I1230,$J$1,\"Y\"))","v":""}]
[null,null,null,null,null,null,null,null,null,{"$f":"IF(I1231=\"\",\"\",DATEDIF(I1231,$J$1,\"Y\"))","v":""}]
[null,null,null,null,null,null,null,null,null,{"$f":"IF(I1232=\"\",\"\",DATEDIF(I1232,$J$1,\"Y\"))","v":""}]
[null,null,null,null,null,null,null,null,null,{"$f":"IF(I1233=\"\",\"\",DATEDIF(I1233,$J$1,\"Y\"))","v":""}]
[null,null,null,null,null,null,null,null,null,{"$f":"IF(I1234=\"\",\"\",DATEDIF(I1234,$J$1,\"Y\"))","v":""}]
[null,null,null,null,null,null,null,null,null,{"$f":"IF(I1235=\"\",\"\",DATEDIF(I1235,$J$1,\"Y\"))","v":""}]
[null,null,null,null,null,null,null,null,null,{"$f":"IF(I1236=\"\",\"\",DATEDIF(I1236,$J$1,\"Y\"))","v":""}]
[null,null,null,null,null,null,null,null,null,{"$f":"IF(I1237=\"\",\"\",DATEDIF(I1237,$J$1,\"Y\"))","v":""}]
[null,null,null,null,null,null,null,null,null,{"$f":"IF(I1238=\"\",\"\",DATEDIF(I1238,$J$1,\"Y\"))","v":""}]
[null,null,null,null,null,null,null,null,null,{"$f":"IF(I1239=\"\",\"\",DATEDIF(I1239,$J$1,\"Y\"))","v":""}]
[null,null,null,null,null,null,null,null,null,{"$f":"IF(I1240=\"\",\"\",DATEDIF(I1240,$J$1,\"Y\"))","v":""}]
[null,null,null,null,null,null,null,null,null,{"$f":"IF(I1241=\"\",\"\",DATEDIF(I1241,$J$1,\"Y\"))","v":""}]
[null,null,null,null,null,null,null,null,null,{"$f":"IF(I1242=\"\",\"\",DATEDIF(I1242,$J$1,\"Y\"))","v":""}]
[null,null,null,null,null,null,null,null,null,{"$f":"IF(I1243=\"\",\"\",DATEDIF(I1243,$J$1,\"Y\"))","v":""}]
[null,null,null,null,null,null,null,null,null,{"$f":"IF(I1244=\"\",\"\",DATEDIF(I1244,$J$1,\"Y\"))","v":""}]
[null,null,null,null,null,null,null,null,null,{"$f":"IF(I1245=\"\",\"\",DATEDIF(I1245,$J$1,\"Y\"))","v":""}]
[null,null,null,null,null,null,null,null,null,{"$f":"IF(I1246=\"\",\"\",DATEDIF(I1246,$J$1,\"Y\"))","v":""}]
[null,null,null,null,null,null,null,null,null,{"$f":"IF(I1247=\"\",\"\",DATEDIF(I1247,$J$1,\"Y\"))","v":""}]
[null,null,null,null,null,null,null,null,null,{"$f":"IF(I1248=\"\",\"\",DATEDIF(I1248,$J$1,\"Y\"))","v":""}]
[null,null,null,null,null,null,null,null,null,{"$f":"IF(I1249=\"\",\"\",DATEDIF(I1249,$J$1,\"Y\"))","v":""}]
[null,null,null,null,null,null,null,null,null,{"$f":"IF(I1250=\"\",\"\",DATEDIF(I1250,$J$1,\"Y\"))","v":""}]
[null,null,null,null,null,null,null,null,null,{"$f":"IF(I1251=\"\",\"\",DATEDIF(I1251,$J$1,\"Y\"))","v":""}]
[null,null,null,null,null,null,null,null,null,{"$f":"IF(I1252=\"\",\"\",DATEDIF(I1252,$J$1,\"Y\"))","v":""}]
[null,null,null,null,null,null,null,null,null,{"$f":"IF(I1253=\"\",\"\",DATEDIF(I1253,$J$1,\"Y\"))","v":""}]
[null,null,null,null,null,null,null,null,null,{"$f":"IF(I1254=\"\",\"\",DATEDIF(I1254,$J$1,\"Y\"))","v":""}]
[null,null,null,null,null,null,null,null,null,{"$f":"IF(I1255=\"\",\"\",DATEDIF(I1255,$J$1,\"Y\"))","v":""}]
[null,null,null,null,null,null,null,null,null,{"$f":"IF(I1256=\"\",\"\",DATEDIF(I1256,$J$1,\"Y\"))","v":""}]
[null,null,null,null,null,null,null,null,null,{"$f":"IF(I1257=\"\",\"\",DATEDIF(I1257,$J$1,\"Y\"))","v":""}]
[null,null,null,null,null,null,null,null,null,{"$f":"IF(I1258=\"\",\"\",DATEDIF(I1258,$J$1,\"Y\"))","v":""}]
[null,null,null,null,null,null,null,null,null,{"$f":"IF(I1259=\"\",\"\",DATEDIF(I1259,$J$1,\"Y\"))","v":""}]
[null,null,null,null,null,null,null,null,null,{"$f":"IF(I1260=\"\",\"\",DATEDIF(I1260,$J$1,\"Y\"))","v":""}]
[null,null,null,null,null,null,null,null,null,{"$f":"IF(I1261=\"\",\"\",DATEDIF(I1261,$J$1,\"Y\"))","v":""}]
[null,null,null,null,null,null,null,null,null,{"$f":"IF(I1262=\"\",\"\",DATEDIF(I1262,$J$1,\"Y\"))","v":""}]
[null,null,null,null,null,null,null,null,null,{"$f":"IF(I1263=\"\",\"\",DATEDIF(I1263,$J$1,\"Y\"))","v":""}]
[null,null,null,null,null,null,null,null,null,{"$f":"IF(I1264=\"\",\"\",DATEDIF(I1264,$J$1,\"Y\"))","v":""}]
[null,null,null,null,null,null,null,null,null,{"$f":"IF(I1265=\"\",\"\",DATEDIF(I1265,$J$1,\"Y\"))","v":""}]
[null,null,null,null,null,null,null,null,null,{"$f":"IF(I1266=\"\",\"\",DATEDIF(I1266,$J$1,\"Y\"))","v":""}]
[null,null,null,null,null,null,null,null,null,{"$f":"IF(I1267=\"\",\"\",DATEDIF(I1267,$J$1,\"Y\"))","v":""}]
[null,null,null,null,null,null,null,null,null,{"$f":"IF(I1268=\"\",\"\",DATEDIF(I1268,$J$1,\"Y\"))","v":""}]
[null,null,null,null,null,null,null,null,null,{"$f":"IF(I1269=\"\",\"\",DATEDIF(I1269,$J$1,\"Y\"))","v":""}]
[null,null,null,null,null,null,null,null,null,{"$f":"IF(I1270=\"\",\"\",DATEDIF(I1270,$J$1,\"Y\"))","v":""}]
[null,null,null,null,null,null,null,null,null,{"$f":"IF(I1271=\"\",\"\",DATEDIF(I1271,$J$1,\"Y\"))","v":""}]
[null,null,null,null,null,null,null,null,null,{"$f":"IF(I1272=\"\",\"\",DATEDIF(I1272,$J$1,\"Y\"))","v":""}]
[null,null,null,null,null,null,null,null,null,{"$f":"IF(I1273=\"\",\"\",DATEDIF(I1273,$J$1,\"Y\"))","v":""}]
[null,null,null,null,null,null,null,null,null,{"$f":"IF(I1274=\"\",\"\",DATEDIF(I1274,$J$1,\"Y\"))","v":""}]
[null,null,null,null,null,null,null,null,null,{"$f":"IF(I1275=\"\",\"\",DATEDIF(I1275,$J$1,\"Y\"))","v":""}]
[null,null,null,null,null,null,null,null,null,{"$f":"IF(I1276=\"\",\"\",DATEDIF(I1276,$J$1,\"Y\"))","v":""}]
[null,null,null,null,null,null,null,null,null,{"$f":"IF(I1277=\"\",\"\",DATEDIF(I1277,$J$1,\"Y\"))","v":""}]
[null,null,null,null,null,null,null,null,null,{"$f":"IF(I1278=\"\",\"\",DATEDIF(I1278,$J$1,\"Y\"))","v":""}]
[null,null,null,null,null,null,null,null,null,{"$f":"IF(I1279=\"\",\"\",DATEDIF(I1279,$J$1,\"Y\"))","v":""}]
[null,null,null,null,null,null,null,null,null,{"$f":"IF(I1280=\"\",\"\",DATEDIF(I1280,$J$1,\"Y\"))","v":""}]
[null,null,null,null,null,null,null,null,null,{"$f":"IF(I1281=\"\",\"\",DATEDIF(I1281,$J$1,\"Y\"))","v":""}]
[null,null,null,null,null,null,null,null,null,{"$f":"IF(I1282=\"\",\"\",DATEDIF(I1282,$J$1,\"Y\"))","v":""}]
[null,null,null,null,null,null,null,null,null,{"$f":"IF(I1283=\"\",\"\",DATEDIF(I1283,$J$1,\"Y\"))","v":""}]
[null,null,null,null,null,null,null,null,null,{"$f":"IF(I1284=\"\",\"\",DATEDIF(I1284,$J$1,\"Y\"))","v":""}]
[null,null,null,null,null,null,null,null,null,{"$f":"IF(I1285=\"\",\"\",DATEDIF(I1285,$J$1,\"Y\"))","v":""}]
[null,null,null,null,null,null,null,null,null,{"$f":"IF(I1286=\"\",\"\",DATEDIF(I1286,$J$1,\"Y\"))","v":""}]
[null,null,null,null,null,null,null,null,null,{"$f":"IF(I1287=\"\",\"\",DATEDIF(I1287,$J$1,\"Y\"))","v":""}]
[null,null,null,null,null,null,null,null,null,{"$f":"IF(I1288=\"\",\"\",DATEDIF(I1288,$J$1,\"Y\"))","v":""}]
[null,null,null,null,null,null,null,null,null,{"$f":"IF(I1289=\"\",\"\",DATEDIF(I1289,$J$1,\"Y\"))","v":""}]
[null,null,null,null,null,null,null,null,null,{"$f":"IF(I1290=\"\",\"\",DATEDIF(I1290,$J$1,\"Y\"))","v":""}]
[null,null,null,null,null,null,null,null,null,{"$f":"IF(I1291=\"\",\"\",DATEDIF(I1291,$J$1,\"Y\"))","v":""}]
[null,null,null,null,null,null,null,null,null,{"$f":"IF(I1292=\"\",\"\",DATEDIF(I1292,$J$1,\"Y\"))","v":""}]
[null,null,null,null,null,null,null,null,null,{"$f":"IF(I1293=\"\",\"\",DATEDIF(I1293,$J$1,\"Y\"))","v":""}]
[null,null,null,null,null,null,null,null,null,{"$f":"IF(I1294=\"\",\"\",DATEDIF(I1294,$J$1,\"Y\"))","v":""}]
[null,null,null,null,null,null,null,null,null,{"$f":"IF(I1295=\"\",\"\",DATEDIF(I1295,$J$1,\"Y\"))","v":""}]
[null,null,null,null,null,null,null,null,null,{"$f":"IF(I1296=\"\",\"\",DATEDIF(I1296,$J$1,\"Y\"))","v":""}]
[null,null,null,null,null,null,null,null,null,{"$f":"IF(I1297=\"\",\"\",DATEDIF(I1297,$J$1,\"Y\"))","v":""}]
[null,null,null,null,null,null,null,null,null,{"$f":"IF(I1298=\"\",\"\",DATEDIF(I1298,$J$1,\"Y\"))","v":""}]
[null,null,null,null,null,null,null,null,null,{"$f":"IF(I1299=\"\",\"\",DATEDIF(I1299,$J$1,\"Y\"))","v":""}]
[null,null,null,null,null,null,null,null,null,{"$f":"IF(I1300=\"\",\"\",DATEDIF(I1300,$J$1,\"Y\"))","v":""}]
[null,null,null,null,null,null,null,null,null,{"$f":"IF(I1301=\"\",\"\",DATEDIF(I1301,$J$1,\"Y\"))","v":""}]
[null,null,null,null,null,null,null,null,null,{"$f":"IF(I1302=\"\",\"\",DATEDIF(I1302,$J$1,\"Y\"))","v":""}]
[null,null,null,null,null,null,null,null,null,{"$f":"IF(I1303=\"\",\"\",DATEDIF(I1303,$J$1,\"Y\"))","v":""}]
[null,null,null,null,null,null,null,null,null,{"$f":"IF(I1304=\"\",\"\",DATEDIF(I1304,$J$1,\"Y\"))","v":""}]
[null,null,null,null,null,null,null,null,null,{"$f":"IF(I1305=\"\",\"\",DATEDIF(I1305,$J$1,\"Y\"))","v":""}]
[null,null,null,null,null,null,null,null,null,{"$f":"IF(I1306=\"\",\"\",DATEDIF(I1306,$J$1,\"Y\"))","v":""}]
[null,null,null,null,null,null,null,null,null,{"$f":"IF(I1307=\"\",\"\",DATEDIF(I1307,$J$1,\"Y\"))","v":""}]
[null,null,null,null,null,null,null,null,null,{"$f":"IF(I1308=\"\",\"\",DATEDIF(I1308,$J$1,\"Y\"))","v":""}]
[null,null,null,null,null,null,null,null,null,{"$f":"IF(I1309=\"\",\"\",DATEDIF(I1309,$J$1,\"Y\"))","v":""}]
[null,null,null,null,null,null,null,null,null,{"$f":"IF(I1310=\"\",\"\",DATEDIF(I1310,$J$1,\"Y\"))","v":""}]
[null,null,null,null,null,null,null,null,null,{"$f":"IF(I1311=\"\",\"\",DATEDIF(I1311,$J$1,\"Y\"))","v":""}]
[null,null,null,null,null,null,null,null,null,{"$f":"IF(I1312=\"\",\"\",DATEDIF(I1312,$J$1,\"Y\"))","v":""}]
[null,null,null,null,null,null,null,null,null,{"$f":"IF(I1313=\"\",\"\",DATEDIF(I1313,$J$1,\"Y\"))","v":""}]
[null,null,null,null,null,null,null,null,null,{"$f":"IF(I1314=\"\",\"\",DATEDIF(I1314,$J$1,\"Y\"))","v":""}]
[null,null,null,null,null,null,null,null,null,{"$f":"IF(I1315=\"\",\"\",DATEDIF(I1315,$J$1,\"Y\"))","v":""}]
[null,null,null,null,null,null,null,null,null,{"$f":"IF(I1316=\"\",\"\",DATEDIF(I1316,$J$1,\"Y\"))","v":""}]
[null,null,null,null,null,null,null,null,null,{"$f":"IF(I1317=\"\",\"\",DATEDIF(I1317,$J$1,\"Y\"))","v":""}]
[null,null,null,null,null,null,null,null,null,{"$f":"IF(I1318=\"\",\"\",DATEDIF(I1318,$J$1,\"Y\"))","v":""}]
[null,null,null,null,null,null,null,null,null,{"$f":"IF(I1319=\"\",\"\",DATEDIF(I1319,$J$1,\"Y\"))","v":""}]
[null,null,null,null,null,null,null,null,null,{"$f":"IF(I1320=\"\",\"\",DATEDIF(I1320,$J$1,\"Y\"))","v":""}]
[null,null,null,null,null,null,null,null,null,{"$f":"IF(I1321=\"\",\"\",DATEDIF(I1321,$J$1,\"Y\"))","v":""}]
[null,null,null,null,null,null,null,null,null,{"$f":"IF(I1322=\"\",\"\",DATEDIF(I1322,$J$1,\"Y\"))","v":""}]
[null,null,null,null,null,null,null,null,null,{"$f":"IF(I1323=\"\",\"\",DATEDIF(I1323,$J$1,\"Y\"))","v":""}]
[null,null,null,null,null,null,null,null,null,{"$f":"IF(I1324=\"\",\"\",DATEDIF(I1324,$J$1,\"Y\"))","v":""}]
[null,null,null,null,null,null,null,null,null,{"$f":"IF(I1325=\"\",\"\",DATEDIF(I1325,$J$1,\"Y\"))","v":""}]
[null,null,null,null,null,null,null,null,null,{"$f":"IF(I1326=\"\",\"\",DATEDIF(I1326,$J$1,\"Y\"))","v":""}]
[null,null,null,null,null,null,null,null,null,{"$f":"IF(I1327=\"\",\"\",DATEDIF(I1327,$J$1,\"Y\"))","v":""}]
[null,null,null,null,null,null,null,null,null,{"$f":"IF(I1328=\"\",\"\",DATEDIF(I1328,$J$1,\"Y\"))","v":""}]
[null,null,null,null,null,null,null,null,null,{"$f":"IF(I1329=\"\",\"\",DATEDIF(I1329,$J$1,\"Y\"))","v":""}]
[null,null,null,null,null,null,null,null,null,{"$f":"IF(I1330=\"\",\"\",DATEDIF(I1330,$J$1,\"Y\"))","v":""}]
[null,null,null,null,null,null,null,null,null,{"$f":"IF(I1331=\"\",\"\",DATEDIF(I1331,$J$1,\"Y\"))","v":""}]
[null,null,null,null,null,null,null,null,null,{"$f":"IF(I1332=\"\",\"\",DATEDIF(I1332,$J$1,\"Y\"))","v":""}]
[null,null,null,null,null,null,null,null,null,{"$f":"IF(I1333=\"\",\"\",DATEDIF(I1333,$J$1,\"Y\"))","v":""}]
[null,null,null,null,null,null,null,null,null,{"$f":"IF(I1334=\"\",\"\",DATEDIF(I1334,$J$1,\"Y\"))","v":""}]
[null,null,null,null,null,null,null,null,null,{"$f":"IF(I1335=\"\",\"\",DATEDIF(I1335,$J$1,\"Y\"))","v":""}]
[null,null,null,null,null,null,null,null,null,{"$f":"IF(I1336=\"\",\"\",DATEDIF(I1336,$J$1,\"Y\"))","v":""}]
[null,null,null,null,null,null,null,null,null,{"$f":"IF(I1337=\"\",\"\",DATEDIF(I1337,$J$1,\"Y\"))","v":""}]
[null,null,null,null,null,null,null,null,null,{"$f":"IF(I1338=\"\",\"\",DATEDIF(I1338,$J$1,\"Y\"))","v":""}]
[null,null,null,null,null,null,null,null,null,{"$f":"IF(I1339=\"\",\"\",DATEDIF(I1339,$J$1,\"Y\"))","v":""}]
[null,null,null,null,null,null,null,null,null,{"$f":"IF(I1340=\"\",\"\",DATEDIF(I1340,$J$1,\"Y\"))","v":""}]
[null,null,null,null,null,null,null,null,null,{"$f":"IF(I1341=\"\",\"\",DATEDIF(I1341,$J$1,\"Y\"))","v":""}]
[null,null,null,null,null,null,null,null,null,{"$f":"IF(I1342=\"\",\"\",DATEDIF(I1342,$J$1,\"Y\"))","v":""}]
[null,null,null,null,null,null,null,null,null,{"$f":"IF(I1343=\"\",\"\",DATEDIF(I1343,$J$1,\"Y\"))","v":""}]
[null,null,null,null,null,null,null,null,null,{"$f":"IF(I1344=\"\",\"\",DATEDIF(I1344,$J$1,\"Y\"))","v":""}]
[null,null,null,null,null,null,null,null,null,{"$f":"IF(I1345=\"\",\"\",DATEDIF(I1345,$J$1,\"Y\"))","v":""}]
[null,null,null,null,null,null,null,null,null,{"$f":"IF(I1346=\"\",\"\",DATEDIF(I1346,$J$1,\"Y\"))","v":""}]
[null,null,null,null,null,null,null,null,null,{"$f":"IF(I1347=\"\",\"\",DATEDIF(I1347,$J$1,\"Y\"))","v":""}]
[null,null,null,null,null,null,null,null,null,{"$f":"IF(I1348=\"\",\"\",DATEDIF(I1348,$J$1,\"Y\"))","v":""}]
[null,null,null,null,null,null,null,null,null,{"$f":"IF(I1349=\"\",\"\",DATEDIF(I1349,$J$1,\"Y\"))","v":""}]
[null,null,null,null,null,null,null,null,null,{"$f":"IF(I1350=\"\",\"\",DATEDIF(I1350,$J$1,\"Y\"))","v":""}]
[null,null,null,null,null,null,null,null,null,{"$f":"IF(I1351=\"\",\"\",DATEDIF(I1351,$J$1,\"Y\"))","v":""}]
[null,null,null,null,null,null,null,null,null,{"$f":"IF(I1352=\"\",\"\",DATEDIF(I1352,$J$1,\"Y\"))","v":""}]
[null,null,null,null,null,null,null,null,null,{"$f":"IF(I1353=\"\",\"\",DATEDIF(I1353,$J$1,\"Y\"))","v":""}]
[null,null,null,null,null,null,null,null,null,{"$f":"IF(I1354=\"\",\"\",DATEDIF(I1354,$J$1,\"Y\"))","v":""}]
[null,null,null,null,null,null,null,null,null,{"$f":"IF(I1355=\"\",\"\",DATEDIF(I1355,$J$1,\"Y\"))","v":""}]
[null,null,null,null,null,null,null,null,null,{"$f":"IF(I1356=\"\",\"\",DATEDIF(I1356,$J$1,\"Y\"))","v":""}]
[null,null,null,null,null,null,null,null,null,{"$f":"IF(I1357=\"\",\"\",DATEDIF(I1357,$J$1,\"Y\"))","v":""}]
[null,null,null,null,null,null,null,null,null,{"$f":"IF(I1358=\"\",\"\",DATEDIF(I1358,$J$1,\"Y\"))","v":""}]
[null,null,null,null,null,null,null,null,null,{"$f":"IF(I1359=\"\",\"\",DATEDIF(I1359,$J$1,\"Y\"))","v":""}]
[null,null,null,null,null,null,null,null,null,{"$f":"IF(I1360=\"\",\"\",DATEDIF(I1360,$J$1,\"Y\"))","v":""}]
[null,null,null,null,null,null,null,null,null,{"$f":"IF(I1361=\"\",\"\",DATEDIF(I1361,$J$1,\"Y\"))","v":""}]
[null,null,null,null,null,null,null,null,null,{"$f":"IF(I1362=\"\",\"\",DATEDIF(I1362,$J$1,\"Y\"))","v":""}]
[null,null,null,null,null,null,null,null,null,{"$f":"IF(I1363=\"\",\"\",DATEDIF(I1363,$J$1,\"Y\"))","v":""}]
[null,null,null,null,null,null,null,null,null,{"$f":"IF(I1364=\"\",\"\",DATEDIF(I1364,$J$1,\"Y\"))","v":""}]
[null,null,null,null,null,null,null,null,null,{"$f":"IF(I1365=\"\",\"\",DATEDIF(I1365,$J$1,\"Y\"))","v":""}]
[null,null,null,null,null,null,null,null,null,{"$f":"IF(I1366=\"\",\"\",DATEDIF(I1366,$J$1,\"Y\"))","v":""}]
[null,null,null,null,null,null,null,null,null,{"$f":"IF(I1367=\"\",\"\",DATEDIF(I1367,$J$1,\"Y\"))","v":""}]
[null,null,null,null,null,null,null,null,null,{"$f":"IF(I1368=\"\",\"\",DATEDIF(I1368,$J$1,\"Y\"))","v":""}]
[null,null,null,null,null,null,null,null,null,{"$f":"IF(I1369=\"\",\"\",DATEDIF(I1369,$J$1,\"Y\"))","v":""}]
[null,null,null,null,null,null,null,null,null,{"$f":"IF(I1370=\"\",\"\",DATEDIF(I1370,$J$1,\"Y\"))","v":""}]
[null,null,null,null,null,null,null,null,null,{"$f":"IF(I1371=\"\",\"\",DATEDIF(I1371,$J$1,\"Y\"))","v":""}]
[null,null,null,null,null,null,null,null,null,{"$f":"IF(I1372=\"\",\"\",DATEDIF(I1372,$J$1,\"Y\"))","v":""}]
[null,null,null,null,null,null,null,null,null,{"$f":"IF(I1373=\"\",\"\",DATEDIF(I1373,$J$1,\"Y\"))","v":""}]
[null,null,null,null,null,null,null,null,null,{"$f":"IF(I1374=\"\",\"\",DATEDIF(I1374,$J$1,\"Y\"))","v":""}]
[null,null,null,null,null,null,null,null,null,{"$f":"IF(I1375=\"\",\"\",DATEDIF(I1375,$J$1,\"Y\"))","v":""}]
[null,null,null,null,null,null,null,null,null,{"$f":"IF(I1376=\"\",\"\",DATEDIF(I1376,$J$1,\"Y\"))","v":""}]
[null,null,null,null,null,null,null,null,null,{"$f":"IF(I1377=\"\",\"\",DATEDIF(I1377,$J$1,\"Y\"))","v":""}]
[null,null,null,null,null,null,null,null,null,{"$f":"IF(I1378=\"\",\"\",DATEDIF(I1378,$J$1,\"Y\"))","v":""}]
[null,null,null,null,null,null,null,null,null,{"$f":"IF(I1379=\"\",\"\",DATEDIF(I1379,$J$1,\"Y\"))","v":""}]
[null,null,null,null,null,null,null,null,null,{"$f":"IF(I1380=\"\",\"\",DATEDIF(I1380,$J$1,\"Y\"))","v":""}]
[null,null,null,null,null,null,null,null,null,{"$f":"IF(I1381=\"\",\"\",DATEDIF(I1381,$J$1,\"Y\"))","v":""}]
[null,null,null,null,null,null,null,null,null,{"$f":"IF(I1382=\"\",\"\",DATEDIF(I1382,$J$1,\"Y\"))","v":""}]
[null,null,null,null,null,null,null,null,null,{"$f":"IF(I1383=\"\",\"\",DATEDIF(I1383,$J$1,\"Y\"))","v":""}]
[null,null,null,null,null,null,null,null,null,{"$f":"IF(I1384=\"\",\"\",DATEDIF(I1384,$J$1,\"Y\"))","v":""}]
[null,null,null,null,null,null,null,null,null,{"$f":"IF(I1385=\"\",\"\",DATEDIF(I1385,$J$1,\"Y\"))","v":""}]
[null,null,null,null,null,null,null,null,null,{"$f":"IF(I1386=\"\",\"\",DATEDIF(I1386,$J$1,\"Y\"))","v":""}]
[null,null,null,null,null,null,null,null,null,{"$f":"IF(I1387=\"\",\"\",DATEDIF(I1387,$J$1,\"Y\"))","v":""}]
[null,null,null,null,null,null,null,null,null,{"$f":"IF(I1388=\"\",\"\",DATEDIF(I1388,$J$1,\"Y\"))","v":""}]

{"sheet":"Erhebungsbogen","index":5,"n_rows":38,"n_cols":14,"rows_kept":38,"cut":false,"hidden":false,"merged":[[24,0,24,1],[20,2,20,3],[20,4,20,5],[10,0,11,1],[12,8,12,9],[11,4,11,5],[12,4,12,5],[11,8,11,9],[13,8,13,9],[19,4,19,5],[18,4,18,5],[17,4,17,5],[23,8,23,9],[22,8,22,9],[19,2,19,3],[18,2,18,3],[17,2,17,3],[18,6,18,7],[17,6,17,7],[23,2,23,3],[22,2,22,3],[21,2,21,3],[22,12,22,13],[35,1,35,9],[35,10,35,11],[35,12,35,13],[20,12,20,13],[21,12,21,13],[33,1,33,9],[33,10,33,11],[33,12,33,13],[31,1,31,9],[31,10,31,11],[27,10,27,11],[27,1,27,9],[25,10,25,11],[31,12,31,13],[27,12,27,13],[25,0,25,1],[25,12,25,13],[25,2,25,5],[25,6,25,9],[24,4,24,5],[23,4,23,5],[22,4,22,5],[24,8,24,9],[12,12,12,13],[13,12,13,13],[8,2,8,4],[8,5,8,6],[8,7,8,8],[8,9,8,10],[8,11,8,12],[6,2,6,4],[6,5,6,6],[6,7,6,8],[6,9,6,10],[17,12,17,13],[10,10,10,11],[23,12,23,13],[24,12,24,13],[0,0,0,8],[0,9,0,13],[2,8,2,10],[3,11,3,12],[4,11,4,12],[6,11,6,12],[3,7,3,8],[3,9,3,10],[4,7,4,8],[4,9,4,10],[1,0,1,1],[4,0,4,1],[16,2,16,3],[15,2,15,3],[24,2,24,3],[16,6,16,7],[15,6,15,7],[14,6,14,7],[6,0,6,1],[8,0,8,1],[1,13,3,13],[15,12,15,13],[16,12,16,13],[3,2,3,4],[3,5,3,6],[4,2,4,4],[4,5,4,6],[2,2,2,6],[10,2,10,5],[10,6,10,9],[11,2,11,3],[14,2,14,3],[13,2,13,3],[12,2,12,3],[13,6,13,7],[12,6,12,7],[11,6,11,7],[16,4,16,5],[15,4,15,5],[14,4,14,5],[13,4,13,5],[1,8,1,11],[1,2,1,7],[10,12,11,13],[37,12,37,13],[37,10,37,11],[37,1,37,9],[29,1,29,9],[29,10,29,11],[29,12,29,13],[16,8,16,9],[15,8,15,9],[14,8,14,9],[21,8,21,9],[20,8,20,9],[19,8,19,9],[18,8,18,9],[17,8,17,9],[24,6,24,7],[23,6,23,7],[22,6,22,7],[21,6,21,7],[20,6,20,7],[19,6,19,7],[19,12,19,13],[14,12,14,13],[18,12,18,13],[21,4,21,5]]}
["Jugenderhebungsbogen Erhebungsjahr",null,null,null,null,null,null,null,null,{"$f":"Deckblatt!A4","v":2019}]
["Verein:",null,{"$f":"Deckblatt!A5","v":"(Vereinsname eintragen)"},null,null,null,null,null,{"$f":"Deckblatt!B5","v":"(Vereinsort eintragen)"},null,null,null,null,"Jugendleiter seit:"]
[null,null,"Regierungsbezirk:",null,null,null,null,{"$f":"IF(I3=\"Oberbayern\",\"1\",IF(I3=\"Niederbayern\",\"2\",IF(I3=\"Oberfranken\",\"4\",IF(I3=\"Mittelfranken\",\"5\",IF(I3=\"Unterfranken\",\"6\",IF(I3=\"Oberpfalz\",\"3\",IF(I3=\"Schwaben\",\"7\",\"\")))))))","v":"1"},{"$f":"Deckblatt!B6","v":"Oberbayern"}]
[null,null,"Name, Vorname",null,null,"Straße, Nr.",null,"PLZ,Ort",null,"Telefon",null,"Email"]
["Jugendleiter:"]
[]
["Stellvertreter:"]
[]
["Stellvertreter:"]
[]
["Gruppen/ Sachgebiete",null,"0 bis 15 Jahre",null,null,null,"16 bis 26 Jahre",null,null,null,"Summe in der Gruppe",null,"Gruppe Gesamt"]
[null,null,"Deandl",null,"Buam",null,"Deandl",null,"Buam",null,"Deandl","Buam"]
[1,"Jugendliche bis 26 Jahre",{"$f":"COUNTIFS(Deandl!$J:$J,\"x\",Deandl!$E:$E,\"<=15\")","v":0},null,{"$f":"COUNTIFS(Buam!J2:J978,\"x\",Buam!E2:E978,\"<=15\")","v":0},null,{"$f":"COUNTIFS(Deandl!$J:$J,\"x\",Deandl!$E:$E,\"<=26\",Deandl!$E:$E,\">=16\")","v":0},null,{"$f":"COUNTIFS(Buam!$J:$J,\"x\",Buam!$E:$E,\"<=26\",Buam!$E:$E,\">=16\")","v":0},null,{"$f":"C13+G13","v":0},{"$f":"E13+I13","v":0},{"$f":"K13+L13","v":0}]
[{"$f":"A13+1","v":2},"Schuhplattler/Dreherinnen",{"$f":"COUNTIFS(Deandl!$K:$K,\"x\",Deandl!$E:$E,\"<=15\")","v":0},null,{"$f":"COUNTIFS(Buam!$K:$K,\"x\",Buam!$E:$E,\"<=15\")","v":0},null,{"$f":"COUNTIFS(Deandl!$K:$K,\"x\",Deandl!$E:$E,\"<=26\",Deandl!$E:$E,\">=16\")","v":0},null,{"$f":"COUNTIFS(Buam!$K:$K,\"x\",Buam!$E:$E,\"<=26\",Buam!$E:$E,\">=16\")","v":0},null,{"$f":"C14+G14","v":0},{"$f":"E14+I14","v":0},{"$f":"K14+L14","v":0}]
[{"$f":"A14+1","v":3},"Tänzer/-innen",{"$f":"COUNTIFS(Deandl!$L:$L,\"x\",Deandl!$E:$E,\"<=15\")","v":0},null,{"$f":"COUNTIFS(Buam!$L:$L,\"x\",Buam!$E:$E,\"<=15\")","v":0},null,{"$f":"COUNTIFS(Deandl!$L:$L,\"x\",Deandl!$E:$E,\"<=26\",Deandl!$E:$E,\">=16\")","v":0},null,{"$f":"COUNTIFS(Buam!$L:$L,\"x\",Buam!$E:$E,\"<=26\",Buam!$E:$E,\">=16\")","v":0},null,0,0,0]
[4,"Sänger/Sängerinnen",{"$f":"COUNTIFS(Deandl!$M:$M,\"x\",Deandl!$E:$E,\"<=15\")","v":0},null,{"$f":"COUNTIFS(Buam!$M:$M,\"x\",Buam!$E:$E,\"<=15\")","v":0},null,{"$f":"COUNTIFS(Deandl!$M:$M,\"x\",Deandl!$E:$E,\"<=26\",Deandl!$E:$E,\">=16\")","v":0},null,{"$f":"COUNTIFS(Buam!$M:$M,\"x\",Buam!$E:$E,\"<=26\",Buam!$E:$E,\">=16\")","v":0},null,0,0,0]
[5,"Volksmusikanten/-innen",{"$f":"COUNTIFS(Deandl!$N:$N,\"x\",Deandl!$E:$E,\"<=15\")","v":0},null,{"$f":"COUNTIFS(Buam!$N:$N,\"x\",Buam!$E:$E,\"<=15\")","v":0},null,{"$f":"COUNTIFS(Deandl!$N:$N,\"x\",Deandl!$E:$E,\"<=26\",Deandl!$E:$E,\">=16\")","v":0},null,{"$f":"COUNTIFS(Buam!$N:$N,\"x\",Buam!$E:$E,\"<=26\",Buam!$E:$E,\">=16\")","v":0},null,0,0,0]
[6,"Brauchtum/Böllerschützen",{"$f":"COUNTIFS(Deandl!$O:$O,\"x\",Deandl!$E:$E,\"<=15\")","v":0},null,{"$f":"COUNTIFS(Buam!$O:$O,\"x\",Buam!$E:$E,\"<=15\")","v":0},null,{"$f":"COUNTIFS(Deandl!$O:$O,\"x\",Deandl!$E:$E,\"<=26\",Deandl!$E:$E,\">=16\")","v":0},null,{"$f":"COUNTIFS(Buam!$O:$O,\"x\",Buam!$E:$E,\"<=26\",Buam!$E:$E,\">=16\")","v":0},null,0,0,0]
[7,"Schnalzer",{"$f":"COUNTIFS(Deandl!$P:$P,\"x\",Deandl!$E:$E,\"<=15\")","v":0},null,{"$f":"COUNTIFS(Buam!$P:$P,\"x\",Buam!$E:$E,\"<=15\")","v":0},null,{"$f":"COUNTIFS(Deandl!$P:$P,\"x\",Deandl!$E:$E,\"<=26\",Deandl!$E:$E,\">=16\")","v":0},null,{"$f":"COUNTIFS(Buam!$P:$P,\"x\",Buam!$E:$E,\"<=26\",Buam!$E:$E,\">=16\")","v":0},null,0,0,0]
[8,"Vereinsmusiker/-innen",{"$f":"COUNTIFS(Deandl!$Q:$Q,\"x\",Deandl!$E:$E,\"<=15\")","v":0},null,{"$f":"COUNTIFS(Buam!$Q:$Q,\"x\",Buam!$E:$E,\"<=15\")","v":0},null,{"$f":"COUNTIFS(Deandl!$Q:$Q,\"x\",Deandl!$E:$E,\"<=26\",Deandl!$E:$E,\">=16\")","v":0},null,{"$f":"COUNTIFS(Buam!$Q:$Q,\"x\",Buam!$E:$E,\"<=26\",Buam!$E:$E,\">=16\")","v":0},null,0,0,0]
[9,"Theaterspieler/-innen",{"$f":"COUNTIFS(Deandl!$R:$R,\"x\",Deandl!$E:$E,\"<=15\")","v":0},null,{"$f":"COUNTIFS(Buam!$R:$R,\"x\",Buam!$E:$E,\"<=15\")","v":0},null,{"$f":"COUNTIFS(Deandl!$R:$R,\"x\",Deandl!$E:$E,\"<=26\",Deandl!$E:$E,\">=16\")","v":0},null,{"$f":"COUNTIFS(Buam!$R:$R,\"x\",Buam!$E:$E,\"<=26\",Buam!$E:$E,\">=16\")","v":0},null,0,0,0]
[10,"Musikkapelle",{"$f":"COUNTIFS(Deandl!$S:$S,\"x\",Deandl!$E:$E,\"<=15\")","v":0},null,{"$f":"COUNTIFS(Buam!$S:$S,\"x\",Buam!$E:$E,\"<=15\")","v":0},null,{"$f":"COUNTIFS(Deandl!$S:$S,\"x\",Deandl!$E:$E,\"<=26\",Deandl!$E:$E,\">=16\")","v":0},null,{"$f":"COUNTIFS(Buam!$S:$S,\"x\",Buam!$E:$E,\"<=26\",Buam!$E:$E,\">=16\")","v":0},null,0,0,0]
[11,"Handwerk und Basteln",{"$f":"COUNTIFS(Deandl!$T:$T,\"x\",Deandl!$E:$E,\"<=15\")","v":0},null,{"$f":"COUNTIFS(Buam!$T:$T,\"x\",Buam!$E:$E,\"<=15\")","v":0},null,{"$f":"COUNTIFS(Deandl!$T:$T,\"x\",Deandl!$E:$E,\"<=26\",Deandl!$E:$E,\">=16\")","v":0},null,{"$f":"COUNTIFS(Buam!$T:$T,\"x\",Buam!$E:$E,\"<=26\",Buam!$E:$E,\">=16\")","v":0},null,0,0,{"$f":"K23+L23","v":0}]
[12,"Sonstige",{"$f":"(COUNTIFS(Deandl!$W:$W,\"x\",Deandl!$E:$E,\"<=15\")+(COUNTIFS(Deandl!$Y:$Y,\"x\",Deandl!$E:$E,\"<=15\")+COUNTIFS(Deandl!$AA:$AA,\"x\",Deandl!$E:$E,\"<=15\")))","v":0},null,{"$f":"(COUNTIFS(Buam!$W:$W,\"x\",Buam!$E:$E,\"<=15\")+(COUNTIFS(Buam!$Y:$Y,\"x\",Buam!$E:$E,\"<=15\")+COUNTIFS(Buam!$AA:$AA,\"x\",Buam!$E:$E,\"<=15\")))","v":0},null,{"$f":"(COUNTIFS(Deandl!$W:$W,\"x\",Deandl!$E:$E,\"<=26\",Deandl!$E:$E,\">=16\")+(COUNTIFS(Deandl!$Y:$Y,\"x\",Deandl!$E:$E,\"<=26\",Deandl!$E:$E,\">=16\")+COUNTIFS(Deandl!$AA:$AA,\"x\",Deandl!$E:$E,\"<=26\",Deandl!$E:$E,\">=16\")))","v":0},null,{"$f":"(COUNTIFS(Buam!$W:$W,\"x\",Buam!$E:$E,\"<=26\",Buam!$E:$E,\">=16\")+(COUNTIFS(Buam!$Y:$Y,\"x\",Buam!$E:$E,\"<=26\",Buam!$E:$E,\">=16\")+COUNTIFS(Buam!$AA:$AA,\"x\",Buam!$E:$E,\"<=26\",Buam!$E:$E,\">=16\")))","v":0},null,0,0,0]
["Summe im Altersbereich",null,{"$f":"SUM(C13:D24)","v":0},null,{"$f":"SUM(E13:F24)","v":0},null,{"$f":"SUM(G13:H24)","v":0},null,{"$f":"SUM(I13:J24)","v":0},null,{"$f":"SUM(K13:K24)","v":0},{"$f":"SUM(L13:L24)","v":0}]
["Altersbereich gesamt",null,{"$f":"C25+E25","v":0},null,null,null,{"$f":"G25+I25","v":0},null,null,null,"Gruppenstärke Gesamt",null,{"$f":"SUM(M13:M25)","v":0}]
[]
[13,"(im Moment/vorübergehend) Passive Kinder und Jugendliche bis 26 Jahre",null,null,null,null,null,null,null,null,"Gesamt",null,{"$f":"COUNTIFS(Buam!$U:$U,\"x\",Buam!$E:$E,\"<=26\")+(COUNTIFS(Deandl!$U:$U,\"x\",Deandl!$E:$E,\"<=26\"))","v":0}]
[]
[13,"Gruppenstärke Gesamt ",null,null,null,null,null,null,null,null,"Gesamt",null,{"$f":"M26+M28","v":0}]
[]
[13,"Anzahl der Verantwortlichen / Mitarbeiter / Helfer in der Jugendarbeit",null,null,null,null,null,null,null,null,"Gesamt",null,0]
[]
[14,"davon mit abgeschlossener Jugendleiter-Grundschulung und (ab 2018) gültiger JULEICA",null,null,null,null,null,null,null,null,"Gesamt",null,{"$f":"COUNTIF(Jugendleiter!T2:T87,\"x\")","v":0}]
[]
[15,"maximal förderfähige qualifizierte Jugendleiter",null,null,null,null,null,null,null,null,"Gesamt",null,{"$f":"IF(M13>100,\"10\",ROUNDUP(M13/10,0))*1","v":0}]
[]
[16,"im Erhebungsjahr förderfähige Jugendleiter",null,null,null,null,null,null,null,null,"Gesamt",null,{"$f":"IF(M34<M36,M34,M36)","v":0}]

{"sheet":"Förderantrag","index":6,"n_rows":55,"n_cols":7,"rows_kept":55,"cut":false,"hidden":false,"merged":[[1,6,1,7],[49,2,49,3],[49,4,49,7],[24,1,26,1],[24,0,26,0],[20,2,21,5],[20,1,21,1],[20,0,21,0],[18,0,18,1],[3,0,3,8],[17,0,17,1],[16,0,16,1],[15,0,15,1],[8,0,8,4],[5,0,6,8],[20,6,21,7],[17,2,17,8],[18,2,18,8],[54,0,56,8],[40,0,42,1],[24,2,26,5],[24,6,26,7],[52,4,52,7],[51,2,51,3],[51,4,51,7],[50,4,50,7],[46,3,46,8],[44,3,45,8],[42,3,42,8],[40,3,40,8],[29,0,34,8],[35,0,38,8],[9,0,9,8],[8,5,8,8],[15,6,15,8],[15,2,15,5],[16,2,16,8]]}
[]
[null,null,null,null,null,"Bearbeitungsnr. des Verbands:"]
[]
["Bayerischer Trachtenverband e. V."]
[]
["Förderung der Jugendarbeit im Bayer. Trachtenverband e.V. aus Haushaltsmitteln zur Förderung des Trachtenwesens des Freistaats Bayern"]
[]
[]
["Förderungsantrag",null,null,null,null,{"$f":"Deckblatt!A4","v":2019}]
["(Vordruck Vereine)"]
[]
[]
[]
[]
[]
["Antragstellender Verein:",null,{"$f":"Deckblatt!A5","v":"(Vereinsname eintragen)"},null,null,null,{"$f":"Deckblatt!B5","v":"(Vereinsort eintragen)"}]
["Anschrift:"]
["Vertretungsberechtigter Vorsitzender:"]
["Übergeordneter Gau-/Trachtenverband:"]
[]
["1.","Pro-Kopf-Förderung","Anzahl gemeldete Jugendliche bis zum vollendeten 27. Lebensjahr:",null,null,null,{"$f":"Erhebungsbogen!M13","v":0}]
[]
[]
[]
["2.","Ausbildungs- und Qualifikations-förderung","Anzahl der Jugendleiter/Innen und Mitarbeiter/Innen in der Vereinsjugendarbeit, mit abgeschlossener Jugendleiter-Grundschulung und gültiger Jugendleiterkarte",null,null,null,{"$f":"Erhebungsbogen!M38","v":0}]
[]
[]
[]
[]
["Die Zuwendung wird ausschließlich zur Erfüllung des Zuwendungszwecks laut den Richtlinien zur Förderung der Jugendarbeit im Bayer. Trachtenverband e.V. verwendet. Alle in Richtlinien und Verfahrens- und Verwaltungsvorschriften enthaltenen Bestimmungen und genannten Bedingungen und Auflagen sind bekannt und werden eingehalten. Dem Unterzeichner ist bekannt, dass die Zuwendung im Falle ihrer zweckwidrigen Verwendung der Rückforderung und Verzinsung unterliegt."]
[]
[]
[]
[]
[]
["Der Bayerische Oberste Rechnungshof, das Bayerische Staatsministerium für Wissenschaft, Forschung und Kunst und der Bayerische Trachtenverband sind berechtigt, die Verwendung des Zuschusses an Ort und Stelle nachzuprüfen. Alle Unterlagen und Belege sind aus diesem Grund für mindestens 5 Jahre aufzubewahren!"]
[]
[]
[]
[]
["Die Überweisung des Zuschusses soll erfolgen auf:",null,"IBAN:"]
[]
[null,null,"BIC:"]
[]
[null,null,"Geldinstitut:"]
[]
[null,null,"Kontoinhaber:"]
[]
[]
["Datum:",{"$f":"TODAY()","v":"2019-02-28"},"Vorsitzender:"]
[null,null,null,null,"(Unterschrift/Stempel)"]
[null,null,"Jugendvertreter:"]
[null,null,null,null,"(Unterschrift/Stempel)"]
[]
["Dieser Antrag ist vollständig ausgefüllt und unterzeichnet durch den Vertretungsberechtigten Vorsitzenden und den Jugendvertreter des antragstellenden Mitgliedsvereins beim übergeordneten Gau-/Trachtenverband einzureichen."]

{"sheet":"Zusätzliche Auswertungen","index":7,"n_rows":14,"n_cols":9,"rows_kept":14,"cut":false,"hidden":false,"merged":[[0,0,0,8],[1,0,1,7]]}
["Kinder- und Jugenderfassung  - Zusätzliche Auswertungen"]
[]
["Buam",null,null,null,null,"Deandl"]
["Spalte",null,"Suchkriterium eintragen","Anzahl",null,"Spalte",null,"Suchkriterium eintragen","Anzahl"]
[1,"Suche nach",null,{"$f":"IF(A5=1,COUNTIFS(Buam!$B$2:$B$978,C5),IF(A5=2,COUNTIFS(Buam!$C$2:$C$978,C5),IF(A5=3,COUNTIFS(Buam!$E$2:$E$978,C5),IF(A5=4,COUNTIFS(Buam!$H$2:$H$978,C5),IF(A5=5,COUNTIFS(Buam!$V$2:$V$978,C5),IF(A5=6,COUNTIFS(Buam!$X$2:$X$978,C5),IF(A5=7,COUNTIFS(Buam!$B$2:$Z$978,Y5),IF(A5=8,COUNTIFS(Buam!$AB$2:$AB$978,C5),IF(A5=9,COUNTIFS(Buam!B$2:AC978,C5),IF(A5=10,COUNTIFS(Buam!$AD$2:$AD$978,C5),IF(A5=11,COUNTIFS(Buam!$AE$2:$AE$978,C5))))))))))))","v":0},null,1,"Suche nach",null,{"$f":"IF(F5=1,COUNTIFS(Deandl!$B$2:$B$973,H5),IF(F5=2,COUNTIFS(Deandl!$C$2:$C$973,H5),IF(F5=3,COUNTIFS(Deandl!$E$2:$E$973,H5),IF(F5=4,COUNTIFS(Deandl!$H$2:$H$973,H5),IF(F5=5,COUNTIFS(Deandl!$V$2:$V$973,H5),IF(F5=6,COUNTIFS(Deandl!$X$2:$X$973,H5),IF(F5=7,COUNTIFS(Deandl!$B$2:$Z$973,AD5),IF(F5=8,COUNTIFS(Deandl!$AB$2:$AB$973,H5),IF(F5=9,COUNTIFS(Deandl!G$2:AH973,H5),IF(F5=10,COUNTIFS(Deandl!$AD$2:$AD$973,H5),IF(F5=11,COUNTIFS(Deandl!$AE$2:$AE$973,H5))))))))))))","v":0}]
[1,"Suche nach",null,{"$f":"IF(A6=1,COUNTIFS(Buam!$B$2:$B$978,C6),IF(A6=2,COUNTIFS(Buam!$C$2:$C$978,C6),IF(A6=3,COUNTIFS(Buam!$E$2:$E$978,C6),IF(A6=4,COUNTIFS(Buam!$H$2:$H$978,C6),IF(A6=5,COUNTIFS(Buam!$V$2:$V$978,C6),IF(A6=6,COUNTIFS(Buam!$X$2:$X$978,C6),IF(A6=7,COUNTIFS(Buam!$B$2:$Z$978,Y6),IF(A6=8,COUNTIFS(Buam!$AB$2:$AB$978,C6),IF(A6=9,COUNTIFS(Buam!B$2:AC979,C6),IF(A6=10,COUNTIFS(Buam!$AD$2:$AD$978,C6),IF(A6=11,COUNTIFS(Buam!$AE$2:$AE$978,C6))))))))))))","v":0},null,1,"Suche nach",null,{"$f":"IF(F6=1,COUNTIFS(Buam!$B$2:$B$978,H6),IF(F6=2,COUNTIFS(Buam!$C$2:$C$978,H6),IF(F6=3,COUNTIFS(Buam!$D$2:$D$978,H6),IF(F6=4,COUNTIFS(Buam!$I$2:$I$978,H6),IF(F6=5,COUNTIFS(Buam!$V$2:$V$978,H6),IF(F6=6,COUNTIFS(Buam!$X$2:$X$978,H6),IF(F6=7,COUNTIFS(Buam!$B$2:$Z$978,AD6),IF(F6=8,COUNTIFS(Buam!$AB$2:$AB$978,H6),IF(F6=9,COUNTIFS(Buam!G$2:AH979,H6),IF(F6=10,COUNTIFS(Buam!$AD$2:$AD$978,H6),IF(F6=11,COUNTIFS(Buam!$AE$2:$AE$978,H6))))))))))))","v":0}]
[1,"Suche nach",null,{"$f":"IF(A7=1,COUNTIFS(Buam!$B$2:$B$978,C7),IF(A7=2,COUNTIFS(Buam!$C$2:$C$978,C7),IF(A7=3,COUNTIFS(Buam!$E$2:$E$978,C7),IF(A7=4,COUNTIFS(Buam!$H$2:$H$978,C7),IF(A7=5,COUNTIFS(Buam!$V$2:$V$978,C7),IF(A7=6,COUNTIFS(Buam!$X$2:$X$978,C7),IF(A7=7,COUNTIFS(Buam!$B$2:$Z$978,Y7),IF(A7=8,COUNTIFS(Buam!$AB$2:$AB$978,C7),IF(A7=9,COUNTIFS(Buam!B$2:AC980,C7),IF(A7=10,COUNTIFS(Buam!$AD$2:$AD$978,C7),IF(A7=11,COUNTIFS(Buam!$AE$2:$AE$978,C7))))))))))))","v":0},null,1,"Suche nach",null,{"$f":"IF(F7=1,COUNTIFS(Buam!$B$2:$B$978,H7),IF(F7=2,COUNTIFS(Buam!$C$2:$C$978,H7),IF(F7=3,COUNTIFS(Buam!$D$2:$D$978,H7),IF(F7=4,COUNTIFS(Buam!$I$2:$I$978,H7),IF(F7=5,COUNTIFS(Buam!$V$2:$V$978,H7),IF(F7=6,COUNTIFS(Buam!$X$2:$X$978,H7),IF(F7=7,COUNTIFS(Buam!$B$2:$Z$978,AD7),IF(F7=8,COUNTIFS(Buam!$AB$2:$AB$978,H7),IF(F7=9,COUNTIFS(Buam!G$2:AH980,H7),IF(F7=10,COUNTIFS(Buam!$AD$2:$AD$978,H7),IF(F7=11,COUNTIFS(Buam!$AE$2:$AE$978,H7))))))))))))","v":0}]
[1,"Suche nach",null,{"$f":"IF(A8=1,COUNTIFS(Buam!$B$2:$B$978,C8),IF(A8=2,COUNTIFS(Buam!$C$2:$C$978,C8),IF(A8=3,COUNTIFS(Buam!$E$2:$E$978,C8),IF(A8=4,COUNTIFS(Buam!$H$2:$H$978,C8),IF(A8=5,COUNTIFS(Buam!$V$2:$V$978,C8),IF(A8=6,COUNTIFS(Buam!$X$2:$X$978,C8),IF(A8=7,COUNTIFS(Buam!$B$2:$Z$978,Y8),IF(A8=8,COUNTIFS(Buam!$AB$2:$AB$978,C8),IF(A8=9,COUNTIFS(Buam!B$2:AC981,C8),IF(A8=10,COUNTIFS(Buam!$AD$2:$AD$978,C8),IF(A8=11,COUNTIFS(Buam!$AE$2:$AE$978,C8))))))))))))","v":0},null,1,"Suche nach",null,{"$f":"IF(F8=1,COUNTIFS(Buam!$B$2:$B$978,H8),IF(F8=2,COUNTIFS(Buam!$C$2:$C$978,H8),IF(F8=3,COUNTIFS(Buam!$D$2:$D$978,H8),IF(F8=4,COUNTIFS(Buam!$I$2:$I$978,H8),IF(F8=5,COUNTIFS(Buam!$V$2:$V$978,H8),IF(F8=6,COUNTIFS(Buam!$X$2:$X$978,H8),IF(F8=7,COUNTIFS(Buam!$B$2:$Z$978,AD8),IF(F8=8,COUNTIFS(Buam!$AB$2:$AB$978,H8),IF(F8=9,COUNTIFS(Buam!G$2:AH981,H8),IF(F8=10,COUNTIFS(Buam!$AD$2:$AD$978,H8),IF(F8=11,COUNTIFS(Buam!$AE$2:$AE$978,H8))))))))))))","v":0}]
[1,"Suche nach",null,{"$f":"IF(A9=1,COUNTIFS(Buam!$B$2:$B$978,C9),IF(A9=2,COUNTIFS(Buam!$C$2:$C$978,C9),IF(A9=3,COUNTIFS(Buam!$E$2:$E$978,C9),IF(A9=4,COUNTIFS(Buam!$H$2:$H$978,C9),IF(A9=5,COUNTIFS(Buam!$V$2:$V$978,C9),IF(A9=6,COUNTIFS(Buam!$X$2:$X$978,C9),IF(A9=7,COUNTIFS(Buam!$B$2:$Z$978,Y9),IF(A9=8,COUNTIFS(Buam!$AB$2:$AB$978,C9),IF(A9=9,COUNTIFS(Buam!B$2:AC982,C9),IF(A9=10,COUNTIFS(Buam!$AD$2:$AD$978,C9),IF(A9=11,COUNTIFS(Buam!$AE$2:$AE$978,C9))))))))))))","v":0},null,1,"Suche nach",null,{"$f":"IF(F9=1,COUNTIFS(Buam!$B$2:$B$978,H9),IF(F9=2,COUNTIFS(Buam!$C$2:$C$978,H9),IF(F9=3,COUNTIFS(Buam!$D$2:$D$978,H9),IF(F9=4,COUNTIFS(Buam!$I$2:$I$978,H9),IF(F9=5,COUNTIFS(Buam!$V$2:$V$978,H9),IF(F9=6,COUNTIFS(Buam!$X$2:$X$978,H9),IF(F9=7,COUNTIFS(Buam!$B$2:$Z$978,AD9),IF(F9=8,COUNTIFS(Buam!$AB$2:$AB$978,H9),IF(F9=9,COUNTIFS(Buam!G$2:AH982,H9),IF(F9=10,COUNTIFS(Buam!$AD$2:$AD$978,H9),IF(F9=11,COUNTIFS(Buam!$AE$2:$AE$978,H9))))))))))))","v":0}]
[1,"Suche nach",null,{"$f":"IF(A10=1,COUNTIFS(Buam!$B$2:$B$978,C10),IF(A10=2,COUNTIFS(Buam!$C$2:$C$978,C10),IF(A10=3,COUNTIFS(Buam!$E$2:$E$978,C10),IF(A10=4,COUNTIFS(Buam!$H$2:$H$978,C10),IF(A10=5,COUNTIFS(Buam!$V$2:$V$978,C10),IF(A10=6,COUNTIFS(Buam!$X$2:$X$978,C10),IF(A10=7,COUNTIFS(Buam!$B$2:$Z$978,Y10),IF(A10=8,COUNTIFS(Buam!$AB$2:$AB$978,C10),IF(A10=9,COUNTIFS(Buam!B$2:AC983,C10),IF(A10=10,COUNTIFS(Buam!$AD$2:$AD$978,C10),IF(A10=11,COUNTIFS(Buam!$AE$2:$AE$978,C10))))))))))))","v":0},null,1,"Suche nach",null,{"$f":"IF(F10=1,COUNTIFS(Buam!$B$2:$B$978,H10),IF(F10=2,COUNTIFS(Buam!$C$2:$C$978,H10),IF(F10=3,COUNTIFS(Buam!$D$2:$D$978,H10),IF(F10=4,COUNTIFS(Buam!$I$2:$I$978,H10),IF(F10=5,COUNTIFS(Buam!$V$2:$V$978,H10),IF(F10=6,COUNTIFS(Buam!$X$2:$X$978,H10),IF(F10=7,COUNTIFS(Buam!$B$2:$Z$978,AD10),IF(F10=8,COUNTIFS(Buam!$AB$2:$AB$978,H10),IF(F10=9,COUNTIFS(Buam!G$2:AH983,H10),IF(F10=10,COUNTIFS(Buam!$AD$2:$AD$978,H10),IF(F10=11,COUNTIFS(Buam!$AE$2:$AE$978,H10))))))))))))","v":0}]
[1,"Suche nach",null,{"$f":"IF(A11=1,COUNTIFS(Buam!$B$2:$B$978,C11),IF(A11=2,COUNTIFS(Buam!$C$2:$C$978,C11),IF(A11=3,COUNTIFS(Buam!$E$2:$E$978,C11),IF(A11=4,COUNTIFS(Buam!$H$2:$H$978,C11),IF(A11=5,COUNTIFS(Buam!$V$2:$V$978,C11),IF(A11=6,COUNTIFS(Buam!$X$2:$X$978,C11),IF(A11=7,COUNTIFS(Buam!$B$2:$Z$978,Y11),IF(A11=8,COUNTIFS(Buam!$AB$2:$AB$978,C11),IF(A11=9,COUNTIFS(Buam!B$2:AC984,C11),IF(A11=10,COUNTIFS(Buam!$AD$2:$AD$978,C11),IF(A11=11,COUNTIFS(Buam!$AE$2:$AE$978,C11))))))))))))","v":0},null,1,"Suche nach",null,{"$f":"IF(F11=1,COUNTIFS(Buam!$B$2:$B$978,H11),IF(F11=2,COUNTIFS(Buam!$C$2:$C$978,H11),IF(F11=3,COUNTIFS(Buam!$D$2:$D$978,H11),IF(F11=4,COUNTIFS(Buam!$I$2:$I$978,H11),IF(F11=5,COUNTIFS(Buam!$V$2:$V$978,H11),IF(F11=6,COUNTIFS(Buam!$X$2:$X$978,H11),IF(F11=7,COUNTIFS(Buam!$B$2:$Z$978,AD11),IF(F11=8,COUNTIFS(Buam!$AB$2:$AB$978,H11),IF(F11=9,COUNTIFS(Buam!G$2:AH984,H11),IF(F11=10,COUNTIFS(Buam!$AD$2:$AD$978,H11),IF(F11=11,COUNTIFS(Buam!$AE$2:$AE$978,H11))))))))))))","v":0}]
[1,"Suche nach",null,{"$f":"IF(A12=1,COUNTIFS(Buam!$B$2:$B$978,C12),IF(A12=2,COUNTIFS(Buam!$C$2:$C$978,C12),IF(A12=3,COUNTIFS(Buam!$E$2:$E$978,C12),IF(A12=4,COUNTIFS(Buam!$H$2:$H$978,C12),IF(A12=5,COUNTIFS(Buam!$V$2:$V$978,C12),IF(A12=6,COUNTIFS(Buam!$X$2:$X$978,C12),IF(A12=7,COUNTIFS(Buam!$B$2:$Z$978,Y12),IF(A12=8,COUNTIFS(Buam!$AB$2:$AB$978,C12),IF(A12=9,COUNTIFS(Buam!B$2:AC985,C12),IF(A12=10,COUNTIFS(Buam!$AD$2:$AD$978,C12),IF(A12=11,COUNTIFS(Buam!$AE$2:$AE$978,C12))))))))))))","v":0},null,1,"Suche nach",null,{"$f":"IF(F12=1,COUNTIFS(Buam!$B$2:$B$978,H12),IF(F12=2,COUNTIFS(Buam!$C$2:$C$978,H12),IF(F12=3,COUNTIFS(Buam!$D$2:$D$978,H12),IF(F12=4,COUNTIFS(Buam!$I$2:$I$978,H12),IF(F12=5,COUNTIFS(Buam!$V$2:$V$978,H12),IF(F12=6,COUNTIFS(Buam!$X$2:$X$978,H12),IF(F12=7,COUNTIFS(Buam!$B$2:$Z$978,AD12),IF(F12=8,COUNTIFS(Buam!$AB$2:$AB$978,H12),IF(F12=9,COUNTIFS(Buam!G$2:AH985,H12),IF(F12=10,COUNTIFS(Buam!$AD$2:$AD$978,H12),IF(F12=11,COUNTIFS(Buam!$AE$2:$AE$978,H12))))))))))))","v":0}]
[1,"Suche nach",null,{"$f":"IF(A13=1,COUNTIFS(Buam!$B$2:$B$978,C13),IF(A13=2,COUNTIFS(Buam!$C$2:$C$978,C13),IF(A13=3,COUNTIFS(Buam!$E$2:$E$978,C13),IF(A13=4,COUNTIFS(Buam!$H$2:$H$978,C13),IF(A13=5,COUNTIFS(Buam!$V$2:$V$978,C13),IF(A13=6,COUNTIFS(Buam!$X$2:$X$978,C13),IF(A13=7,COUNTIFS(Buam!$B$2:$Z$978,Y13),IF(A13=8,COUNTIFS(Buam!$AB$2:$AB$978,C13),IF(A13=9,COUNTIFS(Buam!B$2:AC986,C13),IF(A13=10,COUNTIFS(Buam!$AD$2:$AD$978,C13),IF(A13=11,COUNTIFS(Buam!$AE$2:$AE$978,C13))))))))))))","v":0},null,1,"Suche nach",null,{"$f":"IF(F13=1,COUNTIFS(Buam!$B$2:$B$978,H13),IF(F13=2,COUNTIFS(Buam!$C$2:$C$978,H13),IF(F13=3,COUNTIFS(Buam!$D$2:$D$978,H13),IF(F13=4,COUNTIFS(Buam!$I$2:$I$978,H13),IF(F13=5,COUNTIFS(Buam!$V$2:$V$978,H13),IF(F13=6,COUNTIFS(Buam!$X$2:$X$978,H13),IF(F13=7,COUNTIFS(Buam!$B$2:$Z$978,AD13),IF(F13=8,COUNTIFS(Buam!$AB$2:$AB$978,H13),IF(F13=9,COUNTIFS(Buam!G$2:AH986,H13),IF(F13=10,COUNTIFS(Buam!$AD$2:$AD$978,H13),IF(F13=11,COUNTIFS(Buam!$AE$2:$AE$978,H13))))))))))))","v":0}]
[1,"Suche nach",null,{"$f":"IF(A14=1,COUNTIFS(Buam!$B$2:$B$978,C14),IF(A14=2,COUNTIFS(Buam!$C$2:$C$978,C14),IF(A14=3,COUNTIFS(Buam!$E$2:$E$978,C14),IF(A14=4,COUNTIFS(Buam!$H$2:$H$978,C14),IF(A14=5,COUNTIFS(Buam!$V$2:$V$978,C14),IF(A14=6,COUNTIFS(Buam!$X$2:$X$978,C14),IF(A14=7,COUNTIFS(Buam!$B$2:$Z$978,Y14),IF(A14=8,COUNTIFS(Buam!$AB$2:$AB$978,C14),IF(A14=9,COUNTIFS(Buam!B$2:AC987,C14),IF(A14=10,COUNTIFS(Buam!$AD$2:$AD$978,C14),IF(A14=11,COUNTIFS(Buam!$AE$2:$AE$978,C14))))))))))))","v":0},null,1,"Suche nach",null,{"$f":"IF(F14=1,COUNTIFS(Buam!$B$2:$B$978,H14),IF(F14=2,COUNTIFS(Buam!$C$2:$C$978,H14),IF(F14=3,COUNTIFS(Buam!$D$2:$D$978,H14),IF(F14=4,COUNTIFS(Buam!$I$2:$I$978,H14),IF(F14=5,COUNTIFS(Buam!$V$2:$V$978,H14),IF(F14=6,COUNTIFS(Buam!$X$2:$X$978,H14),IF(F14=7,COUNTIFS(Buam!$B$2:$Z$978,AD14),IF(F14=8,COUNTIFS(Buam!$AB$2:$AB$978,H14),IF(F14=9,COUNTIFS(Buam!G$2:AH987,H14),IF(F14=10,COUNTIFS(Buam!$AD$2:$AD$978,H14),IF(F14=11,COUNTIFS(Buam!$AE$2:$AE$978,H14))))))))))))","v":0}]